Workbook

Sheet Read Me
A1: Introduction to MS Excel
A3: This spreadsheet is designed to show you basic formatting and various formulas you can use in MS Excel.
A4: Click on the various sheets to see examples of how the formulas can be used.
A6: Sheet | B6: Contents
A7: 1-Formatting | B7: Basic formatting of cells and blocks of cells
A8: 2-Numbers | B8: How to display numbers
A9: 3-Formulas | B9: Basic formulas to manipulate numers or strings of data.
A10: 4-Macros | B10: Introductory explanation of how to start working with macros and what they can do.
A12: Alphabetical list of functions and where they are explained (in the tab 3-Formulas):
A13: =ATAN | B13: F-Trigonometry
A14: =AVERAGE | B14: C-Statistical
A15: =COS | B15: F-Trigonometry
A16: =COUNTIF | B16: C-Statistical
A17: =DATE | B17: D-Date
A18: =DAY | B18: D-Date
A19: =EOMONTH | B19: D-Date
A20: =FIND | B20: B-String
A21: =HLOOKUP | B21: E-Lookup
A22: =INDIRECT | B22: G-Advanced
A23: =LEFT | B23: B-String
A24: =LEN | B24: B-String
... A46: =YEAR | B46: D-Date

Sheet 1-Formatting
A1: 1-Formatting: How to format cells or groups of cells:
A2: Example of | D2: How to get it:
A3: Centered in a Cell | D3: Format | Cells | Alignment | Horizontal: Centered ; Vertical: Centered
A4: Right-justified | D4: Format | Cells | Alignment | Horizontal: Right
A5: Left-Justified | D5: Format | Cells | Alignment | Horizontal: Left
A6: Bold, Italic, 14-point | D6: Format | Cells | Font | Font Style: "Bold Italic", Size: 14
A7: Wrap very long text so it all fits into one single, solitary cell | D7: Format | Cells | Alignment | Wrap text
A8: Vertical Text | D8: Format | Cells | Alignment | Orientation: 90 degrees; Format | Cells |Font: Color Red
D10: More Tips:
D11: To make a number into text (for example, keep leading zeroes), precede the number with a single quote: '000100
D12: To make sure a number is stored as a number, precede it with a +: +222
A13: Border around this cell | D13: Format | Cells | Border | Outline, then click on the thickness of the line you want
A15: Colored background | D15: Format | Cells | Patterns, then pick a color from the pallette
A17: Center this comment across 3 columns | D17: Highlight the 3 columns, then Format | Cells | Alignment | Text Alignment: Horizontal, select the last entry, "center across selection"

Sheet 2-Numbers
A1: 2-Representation of Numbers in Excel
C2: Any cell shaded in cyan can be changed, and you can watch the calculations being updated automatically
A3: Raw Numbers | B3: With 3 decimals | C3: No decimals | D3: As a percentage | E3: Scientific Notation | F3: How to get it:
A5: 1.3 | B5: =+$A5 -> 1.3 | C5: =+$A5 -> 1.3 | D5: =+$A5 -> 1.3 | E5: =+$A5 -> 1.3 | F5: 3 decimals: Format | Cells | Number | Category: Number, Decimals: 3
A6: 25 | B6: =+$A6 -> 25 | C6: =+$A6 -> 25 | D6: =+$A6 -> 25 | E6: =+$A6 -> 25 | F6: No decimals: Format | Cells | Number | Category: Number, decimals: 0
A7: 3390 | B7: =+$A7 -> 3390 | C7: =+$A7 -> 3390 | D7: =+$A7 -> 3390 | E7: =+$A7 -> 3390 | F7: Percentage: Format | Cells | Number | Category: Percentage
A8: -2.4455 | B8: =+$A8 -> -2.4455 | C8: =+$A8 -> -2.4455 | D8: =+$A8 -> -2.4455 | E8: =+$A8 -> -2.4455 | F8: Scientific: Format | Cells | Number | Category: Scientific
A9: 123.4 | B9: =+$A9 -> 123.4 | C9: =+$A9 -> 123.4 | D9: =+$A9 -> 123.4 | E9: =+$A9 -> 123.4
A10: 5983.594 | B10: =+$A10 -> 5983.594 | C10: =+$A10 -> 5983.594 | D10: =+$A10 -> 5983.594 | E10: =+$A10 -> 5983.594
A11: 294.95 | B11: =+$A11 -> 294.95 | C11: =+$A11 -> 294.95 | D11: =+$A11 -> 294.95 | E11: =+$A11 -> 294.95
A12: 0.0093 | B12: =+$A12 -> 0.0093 | C12: =+$A12 -> 0.0093 | D12: =+$A12 -> 0.0093 | E12: =+$A12 -> 0.0093
A13: 0.43 | B13: =+$A13 -> 0.43 | C13: =+$A13 -> 0.43 | D13: =+$A13 -> 0.43 | E13: =+$A13 -> 0.43
A14: 2054.1 | B14: =+$A14 -> 2054.1 | C14: =+$A14 -> 2054.1 | D14: =+$A14 -> 2054.1 | E14: =+$A14 -> 2054.1
A15: 10000 | B15: =+$A15 -> 10000 | C15: =+$A15 -> 10000 | D15: =+$A15 -> 10000 | E15: =+$A15 -> 10000
A18: Numbers again | D18: As a Date | E18: As currency: | F18: How to get it:
A19: 1.4 | D19: =+A19 -> 1.4 | E19: =+A19 -> 1.4 | F19: Date: Format | Cells | Number | Category: Date, select "3/14/01 13:31"
A20: =+A6 -> 25 | D20: =+A20 -> 25 | E20: =+A20 -> 25 | F20: Currency: Format | Cells | Number | Category: Currency (select # decimals, symbol, etc.)
A21: =+A7 -> 3390 | D21: =+A21 -> 3390 | E21: =+A21 -> 3390
A22: =+A8 -> -2.4455 | D22: (not valid) | E22: =+A22 -> -2.4455
A23: =+A9 -> 123.4 | D23: =+A23 -> 123.4 | E23: =+A23 -> 123.4
A24: =+A10 -> 5983.594 | D24: =+A24 -> 5983.594 | E24: =+A24 -> 5983.594
A25: =+A11 -> 294.95 | D25: =+A25 -> 294.95 | E25: =+A25 -> 294.95
A26: =+A12 -> 0.0093 | D26: =+A26 -> 0.0093 | E26: =+A26 -> 0.0093
A27: =+A13 -> 0.43 | D27: =+A27 -> 0.43 | E27: =+A27 -> 0.43
A28: =+A14 -> 2054.1 | D28: =+A28 -> 2054.1 | E28: =+A28 -> 2054.1
A29: =+A15 -> 10000 | D29: =+A29 -> 10000 | E29: =+A29 -> 10000
C31: You can also access values on a DIFFERENT tab: | J31: How to get it:
B32: Cell A1 | C32: on --> | D32: Read me tab | E32: ='Read Me'!A1 -> Introduction to MS Excel | J32: ='Read Me'!A1
D33: 1-Formatting tab | E33: ='1-Formatting'!A1 -> 1-Formatting: How to format cells or groups of cells: | J33: ='1-Formatting'!A1
D34: 2-Numbers tab | E34: ='2-Numbers'!A1 -> 2-Representation of Numbers in Excel | J34: ='2-Numbers'!A1
D35: 3-Formulas tab | E35: ='3-Formulas'!A1 -> 3-Formulas | J35: ='3-Formulas'!A1
D36: 4-Macros Tab | E36: ='4-Macros'!A1 -> Introduction to Excel Macros | J36: ='4-Macros'!A1

Sheet 3-Formulas
A1: 3-Formulas | C1: Basic mathematical formulas
B3: Click on the cell to see how the formula is constructed.
B4: Change cyan-shaded cells and see other cells recalculate themselves.
A5: Sections: | D5: Row:
A6: A-Miscellaneous numeric functions | D6: =ROW(A14) -> 14
A7: B-String Functions | D7: =ROW(B34) -> 34
A8: =+A59 -> C-Statistical | D8: =ROW(A59) -> 59
A9: D-Date Functions | D9: =+ROW(A75) -> 75
A10: E-Lookup | D10: =ROW(A84) -> 84
A11: F-Trigonometric | D11: =ROW(A108) -> 108
A12: G-Advanced | D12: =ROW(A119) -> 119
A14: A-Miscellaneous numeric functions
E15: 3.5
A16: Raw numbers | B16: 1 Multiplied by 3 | C16: 2 Multiplied by cell above | D16: 3 Multiplied by itself | E16: 4 Multiplied by E2 above (change E2 and see) | F16: 5 Square Root | G16: 6 Divide by pi | H16: 7 Multiply by 5, add 7 | I16: 8 Subtract 2 and add "hello" to it | J16: 9 Natural log (if positive) | K16: How to get it: | L16: Explanation
A17: 3 | B17: =+A17*3 -> 9 | D17: =+A17*A17 -> 9 | E17: =+A17*$E$15 -> 10.5 | F17: =SQRT(A17) -> 1.7320508 | G17: =+A17/PI() -> 0.95492966 | H17: =+A17*5+7 -> 22 | I17: =+A17-2&" hello" -> 1 hello | J17: =LN(A17) -> 1.0986123 | K17: 1 | L17: +a3*3
A18: 643 | B18: =+A18*3 -> 1929 | C18: =+A18*A17 -> 1929 | D18: =+A18*A18 -> 413449 | E18: =+A18*$E$15 -> 2250.5 | F18: =SQRT(A18) -> 25.357445 | G18: =+A18/PI() -> 204.67326 | H18: =+A18*5+7 -> 3222 | I18: =+A18-2&" hello" -> 641 hello | J18: =LN(A18) -> 6.4661447 | K18: 2 | L18: +a4*a3
A19: 235 | B19: =+A19*3 -> 705 | C19: =+A19*A18 -> 151105 | D19: =+A19*A19 -> 55225 | E19: =+A19*$E$15 -> 822.5 | F19: =SQRT(A19) -> 15.32971 | G19: =+A19/PI() -> 74.802823 | H19: =+A19*5+7 -> 1182 | I19: =+A19-2&" hello" -> 233 hello | J19: =LN(A19) -> 5.4595855 | K19: 3 | L19: +a3*a3
A20: 3.4 | B20: =+A20*3 -> 10.2 | C20: =+A20*A19 -> 799 | D20: =+A20*A20 -> 11.56 | E20: =+A20*$E$15 -> 11.9 | F20: =SQRT(A20) -> 1.8439089 | G20: =+A20/PI() -> 1.0822536 | H20: =+A20*5+7 -> 24 | I20: =+A20-2&" hello" -> 1.4 hello | J20: =LN(A20) -> 1.2237754 | K20: 4 | L20: a3*$e$2
A21: 0.9938 | B21: =+A21*3 -> 2.9814 | C21: =+A21*A20 -> 3.37892 | D21: =+A21*A21 -> 0.98763844 | E21: =+A21*$E$15 -> 3.4783 | F21: =SQRT(A21) -> 0.99689518 | G21: =+A21/PI() -> 0.31633636 | H21: =+A21*5+7 -> 11.969 | I21: =+A21-2&" hello" -> -1.0062 hello | J21: =LN(A21) -> -0.0062192998 | K21: 5 | L21: =SQRT(a3)
A22: 3 | B22: =+A22*3 -> 9 | C22: =+A22*A21 -> 2.9814 | D22: =+A22*A22 -> 9 | E22: =+A22*$E$15 -> 10.5 | F22: =SQRT(A22) -> 1.7320508 | G22: =+A22/PI() -> 0.95492966 | H22: =+A22*5+7 -> 22 | I22: =+A22-2&" hello" -> 1 hello | J22: =LN(A22) -> 1.0986123 | K22: 6 | L22: +a3/PI()
A23: 5 | B23: =+A23*3 -> 15 | C23: =+A23*A22 -> 15 | D23: =+A23*A23 -> 25 | E23: =+A23*$E$15 -> 17.5 | F23: =SQRT(A23) -> 2.236068 | G23: =+A23/PI() -> 1.5915494 | H23: =+A23*5+7 -> 32 | I23: =+A23-2&" hello" -> 3 hello | J23: =LN(A23) -> 1.6094379 | K23: 7 | L23: +a3*5+7
A24: 233 | B24: =+A24*3 -> 699 | C24: =+A24*A23 -> 1165 | D24: =+A24*A24 -> 54289 | E24: =+A24*$E$15 -> 815.5 | F24: =SQRT(A24) -> 15.264338 | G24: =+A24/PI() -> 74.166203 | H24: =+A24*5+7 -> 1172 | I24: =+A24-2&" hello" -> 231 hello | J24: =LN(A24) -> 5.4510385 | K24: 8 | L24: +a3-2&" hello"
A25: 39.3 | B25: =+A25*3 -> 117.9 | C25: =+A25*A24 -> 9156.9 | D25: =+A25*A25 -> 1544.49 | E25: =+A25*$E$15 -> 137.55 | F25: =SQRT(A25) -> 6.2689712 | G25: =+A25/PI() -> 12.509579 | H25: =+A25*5+7 -> 203.5 | I25: =+A25-2&" hello" -> 37.3 hello | J25: =LN(A25) -> 3.6712245 | K25: 9 | L25: =LN(a3); =LOG( ) (base 10) also available
A26: 2.43 | B26: =+A26*3 -> 7.29 | C26: =+A26*A25 -> 95.499 | D26: =+A26*A26 -> 5.9049 | E26: =+A26*$E$15 -> 8.505 | F26: =SQRT(A26) -> 1.5588457 | G26: =+A26/PI() -> 0.77349302 | H26: =+A26*5+7 -> 19.15 | I26: =+A26-2&" hello" -> 0.43 hello | J26: =LN(A26) -> 0.88789126
A27: -231 | B27: =+A27*3 -> -693 | C27: =+A27*A26 -> -561.33 | D27: =+A27*A27 -> 53361 | E27: =+A27*$E$15 -> -808.5 | F27: =SQRT(A27) -> #NUM! | G27: =+A27/PI() -> -73.529584 | H27: =+A27*5+7 -> -1148 | I27: =+A27-2&" hello" -> -233 hello | J27: =LN(A27) -> #NUM! | L27: Note the #NUM error when trying to compute the square root of a negative, or trying to compute the natural logarithm of a negative
A28: 731.9393 | B28: =+A28*3 -> 2195.8179 | C28: =+A28*A27 -> -169077.98 | D28: =+A28*A28 -> 535735.14 | E28: =+A28*$E$15 -> 2561.7876 | F28: =SQRT(A28) -> 27.054377 | G28: =+A28/PI() -> 232.98352 | H28: =+A28*5+7 -> 3666.6965 | I28: =+A28-2&" hello" -> 729.9393 hello | J28: =LN(A28) -> 6.5956976
A29: -0.000133 | B29: =+A29*3 -> -0.000399 | C29: =+A29*A28 -> -0.097347927 | D29: =+A29*A29 -> 1.7689e-08 | E29: =+A29*$E$15 -> -0.0004655 | F29: =SQRT(A29) -> #NUM! | G29: =+A29/PI() -> -4.2335215e-05 | H29: =+A29*5+7 -> 6.999335 | I29: =+A29-2&" hello" -> -2.000133 hello | J29: =LN(A29) -> #NUM!
A30: 394.231 | B30: =+A30*3 -> 1182.693 | C30: =+A30*A29 -> -0.052432723 | D30: =+A30*A30 -> 155418.08 | E30: =+A30*$E$15 -> 1379.8085 | F30: =SQRT(A30) -> 19.855251 | G30: =+A30/PI() -> 125.48762 | H30: =+A30*5+7 -> 1978.155 | I30: =+A30-2&" hello" -> 392.231 hello | J30: =LN(A30) -> 5.976937
A31: 130402.3 | B31: =+A31*3 -> 391206.9 | C31: =+A31*A30 -> 51408629 | D31: =+A31*A31 -> 1.700476e+10 | E31: =+A31*$E$15 -> 456408.05 | F31: =SQRT(A31) -> 361.11259 | G31: =+A31/PI() -> 41508.341 | H31: =+A31*5+7 -> 652018.5 | I31: =+A31-2&" hello" -> 130400.3 hello | J31: =LN(A31) -> 11.77838
A32: 12304 | B32: =+A32*3 -> 36912 | C32: =+A32*A31 -> 1.6044699e+09 | D32: =+A32*A32 -> 151388416 | E32: =+A32*$E$15 -> 43064 | F32: =SQRT(A32) -> 110.9234 | G32: =+A32/PI() -> 3916.4848 | H32: =+A32*5+7 -> 61527 | I32: =+A32-2&" hello" -> 12302 hello | J32: =LN(A32) -> 9.4176797
A34: B-String Functions
F35: Result: | H35: How to get it:
B36: =LEN( ) | C36: the length of a string or the string in a cell: | F36: =LEN("hello") -> 5 | H36: =LEN("hello")
B37: =LEFT(string, nbr) | C37: The left-most characters of a string: | F37: =LEFT("hello, world",5) -> hello | H37: =LEFT("hello, world",5)
B38: =RIGHT(string, nbr) | C38: The right-most characters of a string: | F38: =RIGHT("hello, world",4) -> orld | H38: =RIGHT("hello, world,4)
B39: MID(string,start,nbr) | C39: The characters in the middle: | F39: =MID("hello, world",5,6) -> o, wor | H39: =MID("hello, world,5,4)
B40: Try it ---> | C40: String= | D40: Now is the time for all good men to come to the aid of their country
C41: Start= | D41: 5
C42: Length= | D42: 10
C43: String length=
C44: Left length= | D44: 5
C45: Right length= | D45: 10
C46: Result= | D46: =MID(D40,D41,D42) -> is the tim | H46: =MID(d40,d41,d42)
B48: Find | C48: This is used to locate the starting point of a string within a string, e.g., find "world" in the string "hello world"; this search is case-sensitive
B49: Search value= | C49: time | H49: How to get it:
B50: String to search= | C50: now is the time for all good men to come to the aid of their country
B51: Start Position: | C51: =FIND(C49,C50,1) -> 12 | D51: (Will return #NA if the search value is not found) | H51: =FIND(b50,b51,1)
B53: Search | C53: Similar to "find", but not case sensitive: | H53: How to get it:
B54: Search value= | C54: time
B55: String to search= | C55: now is the time for all good men to come to the aid of their country
B56: Start Position: | C56: =SEARCH(C54,C55,1) -> 12 | D56: (Will return #NA if the search value is not found) | H56: =SEARCH(c55,c56,1)+H33
B57: Note that the starting position (shown as 1) can be replaced with a cell value.
A59: C-Statistical
A60: More Raw numbers | D60: More functions: | G60: How to get it:
A61: 3 | C61: Average: | E61: =AVERAGE($A$61:$A$73) -> 505.82802 | G61: =AVERAGE($A$61:$A$73)
A62: 5 | C62: Minimum: | E62: =MIN($A$61:$A$73) -> 1e-05 | G62: =MIN($A$61:$A$73)
A63: 1233 | C63: Maximum: | E63: =MAX($A$61:$A$73) -> 3251 | G63: =MAX($A$61:$A$73)
A64: 482 | C64: Standard deviation: | E64: =STDEV($A$61:$A$73) -> 928.9662 | G64: =STDEV($A$61:$A$73)
A65: 13 | C65: Count if > 100: | E65: =COUNTIF($A$61:$A$73,">100") -> 5 | G65: =COUNTIF($A$61:$A$73,">100")
A66: 0.35 | C66: Sum if < 25: | E66: =SUMIF($A$61:$A$73,"<25") -> 24.88401 | G66: =SUMIF($A$61:$A$73,"<25")
A67: 1.234 | C67: Median: | E67: =MEDIAN($A$61:$A$73) -> 13 | G67: =MEDIAN($A$61:$A$73)
A68: 1e-05 | C68: Count if > value in cell F68: | E68: =COUNTIF(A61:A73,">"&F68) -> 1 | F68: 3000 | G68: =COUNTIF(A61:A73,">"&F68)
A69: 3251
A70: 1093.9382
A71: 99
A72: 2.3
A73: 391.942
A75: D-Date Functions | E75: Date 1 | F75: Date2 | G75: How to get it:
A76: Month 1: | B76: 10 | D76: Day number: | E76: =DATE($B$78,$B$76,$B$77) -> 38997 | F76: =DATE($B$81,$B$79,$B$80) -> 42832 | G76: =DATE($B$78,$B$76,$B$77)
A77: Day 1: | B77: 7 | D77: Formatted date: | E77: =DATE($B$78,$B$76,$B$77) -> 38997 | F77: =DATE($B$81,$B$79,$B$80) -> 42832 | G77: =DATE(B78,B76,B77)
A78: Year 1: | B78: 2006 | D78: Day of week: | E78: =WEEKDAY(DATE($B$78,$B$76,$B$77)) -> 7 | F78: =WEEKDAY(DATE($B$81,$B$79,$B$80)) -> 6 | G78: =WEEKDAY(DATE($B$78,$B$76,$B$77))
A79: Month 2: | B79: 4 | D79: Week number: | E79: =WEEKNUM(DATE($B$78,$B$76,$B$77)) -> 40 | F79: =WEEKNUM(DATE($B$81,$B$79,$B$80)) -> 14 | G79: =WEEKNUM(DATE($B$78,$B$76,$B$77))
A80: Day 2: | B80: 7 | D80: Mm, dd, yy | E80: ="mm="&MONTH(NOW())&",dd="&DAY(NOW())&",yy="&YEAR(NOW()) -> mm=4,dd=7,yy=2017 | G80: ="mm="&MONTH(NOW())&",dd="&DAY(NOW())&",yy="&YEAR(NOW())
A81: Year 2 | B81: 2017 | D81: End of month: | E81: =EOMONTH(9/30/2008,2) -> 91 | G81: =EOMONTH(9/30/2008,2)
D82: Days between: | E82: =DATE($B$81,$B$80,$B$79)-DATE($B$78,$B$76,$B$77) -> 3923 | G82: =DATE(B81,B79,B80)-DATE(B78,B76,B77)
A84: E-Lookup
A85: The Following table is used in examples of LOOKUP functions
A86: Month Table | B86: Days | D86: Search month | E86: may | G86: How to get it:
A87: Apr | B87: 30 | C87: 4 | D87: # Days | E87: =VLOOKUP(E86,A87:C98,2) -> 31 | G87: =VLOOKUP(E62,A63:D74,2)
A88: Aug | B88: 31 | C88: 8 | D88: Month of year | E88: =VLOOKUP(E86,A87:C98,3) -> 5 | G88: =VLOOKUP(E62,A63:C74,3)
A89: Dec | B89: 31 | C89: 12
A90: Feb | B90: 28 | C90: 2
A91: Jan | B91: 31 | C91: 1 | G91: =HLOOKUP is similar but with a horizontal table, rather than
A92: July | B92: 31 | C92: 7 | G92: a vertical table
A93: Jun | B93: 30 | C93: 6
A94: Mar | B94: 31 | C94: 3
A95: May | B95: 31 | C95: 5
A96: Nov | B96: 30 | C96: 11
A97: Oct | B97: 31 | C97: 10
A98: Sept | B98: 30 | C98: 9
B100: Requirements for the table: 1) must be alphabetical in the "search" column (the first column in the table); 2) no blank rows; 3) index can't exceed the number of columns in the range
B102: The VLOOKUP has 3 parameters: =vlookup(search value, table range, index value, True/False)
C103: search value: the value that is to be searched for in the lookup (should be in the first column of the table)
C104: table range: The rows and columns of the table, in this case, B8:D18
C105: index value: the column to be returned; 1 = the value in column B, 2 the value in the next column to the right (in this case, C), 3 = next column over, etc.
C106: True/false: if an EXACT match is required, enter "FALSE"; I think it defaults to "True"; if you put "TRUE" and the entry is not found, it will return the next lowest table entry.
A108: F-Trigonometric | C108: All trig functions receive RADIANS as input; to get results for | H108: How to get it:
C109: degrees, used RADIANS(nnn), where nnn is the number of degrees
B110: Sine of 1 (radian) | C110: =SIN(1) -> 0.84147098 | H110: =SIN(1)
B111: Sine of cell c110 (radians) | C111: =SIN(C110) -> 0.74562414 | H111: =SIN(c110)
...

Sheet 4-Macros
A1: Introduction to Excel Macros
B3: Macros are actual programs that you can write in MS Excel (and other Microsoft products, including MS Word).
B4: Macros can be triggered by command buttons, or can be manually launched via the "run macro" option.
B6: Macros can be written with malicious intent, and can introduce viruses or dangerous behavior in a computer, and many
B7: people avoid them for this reason. However, if you write your own macros or use macros from people you know,
B8: they are generally safe from viruses. Of course, as with any tool, they can be used to cause harm (for example, clobbering data).
B10: To set up your Excel to use macros, you must tell your installation of MS Excel that you want to use them:
B11: 1 | C11: Select File | Options | Trust Center
B12: 2 | C12: Click on Trust Center Settings button
B13: 3 | C13: Select Macro Settings, then select either "Disable all macros except digitally signed macros" or
C14: "Accept all macros (not recommended; potentially dangerous code can run)"
B15: 4 | C15: Click "Cancel" on the two open pop-up windows.
B16: 5 | C16: You should now see a "Developer" option next to the "View" option on your main menu.
B18: When you write or record a macro, you will need to save your spreadsheet with an .XLSM suffix.
B20: Macros can be written line-by-line or recorded via keystrokes. You can tell the macro to open files, move to different sheets,
B21: copy data from one place to another, compare data between different sheets, reformat data, compile statistics, etc. While you are
B22: getting the macros to work, you can execute the instructions and stop at a specific one (called a "breakpoint"), then check to
B23: see what the macro is doing at that point. Thus the debugging process can be done as you make your macro do the work for you.
B25: Samples of macros will be explained in a different Tips file.
