Workbook

Sheet Input Date
B2: Calendar Creator
B4: Instructions
B5: 1 | C5: If a monthly calendar is desired, enter the year and month below.
B6: 2 | C6: If only a yearly calendar is desired, only the year is needed.
B7: 3 | C7: Access the tab for the calendar you want, select & print the calendar.
C8: All tabs are formated for 8.5 x 11.0 inches.
C9: 2-Year-small: | E9: A yearly calendar sized to fit on 1/2 page (landscape)
E10: (The following year will also be printed on the same page)
C11: Year: | E11: A yearly calendar in 2 columns, to fit on one page (portrait)
C12: 1-Month-L | E12: One month, landscape
C13: 1-Month-P | E13: One month, portrait
C14: 2-Month: | E14: A calendar for the month designated and the following month
B17: Year: | C17: 2016
B18: Month (optional): | C18: 3
C21: =IF(C18>12,"Oops! Please enter a valid month above, 1 to 12","")

Sheet 2-Year-small
A1: =+AG4 -> 2016 | P1: . | Q1: =+A1+1 -> 2017
A2: JAN | I2: JUL | Q2: JAN | Y2: JUL
A3: S | B3: M | C3: Tu | D3: W | E3: Th | F3: F | G3: S | I3: S | J3: M | K3: Tu | L3: W | M3: Th | N3: F | O3: S | Q3: S | R3: M | S3: Tu | T3: W | U3: Th | V3: F | W3: S | Y3: S | Z3: M | AA3: Tu | AB3: W | AC3: Th | AD3: F | AE3: S | AG3: Year | AJ3: 1 | AK3: Jan.
A4: =IF(WEEKDAY(DATE($AG$4,$AF$4,1))=1,1,"") | B4: =IF(ISNUMBER(A4),A4+1,IF(WEEKDAY(DATE($AG$4,$AF$4,1))=2,1,"")) | C4: =IF(ISNUMBER(B4),B4+1,IF(WEEKDAY(DATE($AG$4,$AF$4,1))=3,1,"")) | D4: =IF(ISNUMBER(C4),C4+1,IF(WEEKDAY(DATE($AG$4,$AF$4,1))=4,1,"")) | E4: =IF(ISNUMBER(D4),D4+1,IF(WEEKDAY(DATE($AG$4,$AF$4,1))=5,1,"")) | F4: =IF(ISNUMBER(E4),E4+1,IF(WEEKDAY(DATE($AG$4,$AF$4,1))=6,1,"")) -> 1 | G4: =IF(ISNUMBER(F4),F4+1,IF(WEEKDAY(DATE($AG$4,$AF$4,1))=7,1,"")) -> 2 | I4: =IF(WEEKDAY(DATE($AG$4,$AF$4+6,1))=1,1,"") | J4: =IF(ISNUMBER(I4),I4+1,IF(WEEKDAY(DATE($AG$4,$AF$4+6,1))=2,1,"")) | K4: =IF(ISNUMBER(J4),J4+1,IF(WEEKDAY(DATE($AG$4,$AF$4+6,1))=3,1,"")) | L4: =IF(ISNUMBER(K4),K4+1,IF(WEEKDAY(DATE($AG$4,$AF$4+6,1))=4,1,"")) | M4: =IF(ISNUMBER(L4),L4+1,IF(WEEKDAY(DATE($AG$4,$AF$4+6,1))=5,1,"")) | N4: =IF(ISNUMBER(M4),M4+1,IF(WEEKDAY(DATE($AG$4,$AF$4+6,1))=6,1,"")) -> 1 | O4: =IF(ISNUMBER(N4),N4+1,IF(WEEKDAY(DATE($AG$4,AF4+6,1))=7,1,"")) -> 2 | Q4: =IF(WEEKDAY(DATE($AG$5,$AF$4,1))=1,1,"") -> 1 | R4: =IF(ISNUMBER(Q4),Q4+1,IF(WEEKDAY(DATE($AG$5,$AF$4,1))=2,1,"")) -> 2 | S4: =IF(ISNUMBER(R4),R4+1,IF(WEEKDAY(DATE($AG$5,$AF$4,1))=3,1,"")) -> 3 | T4: =IF(ISNUMBER(S4),S4+1,IF(WEEKDAY(DATE($AG$5,$AF$4,1))=4,1,"")) -> 4 | U4: =IF(ISNUMBER(T4),T4+1,IF(WEEKDAY(DATE($AG$5,$AF$4,1))=5,1,"")) -> 5 | V4: =IF(ISNUMBER(U4),U4+1,IF(WEEKDAY(DATE($AG$5,$AF$4,1))=6,1,"")) -> 6 | W4: =IF(ISNUMBER(V4),V4+1,IF(WEEKDAY(DATE($AG$5,$AF$4,1))=7,1,"")) -> 7 | Y4: =IF(WEEKDAY(DATE($AG$5,$AF$4+6,1))=1,1,"") | Z4: =IF(ISNUMBER(Y4),Y4+1,IF(WEEKDAY(DATE($AG$5,$AF$4+6,1))=2,1,"")) | AA4: =IF(ISNUMBER(Z4),Z4+1,IF(WEEKDAY(DATE($AG$5,$AF$4+6,1))=3,1,"")) | AB4: =IF(ISNUMBER(AA4),AA4+1,IF(WEEKDAY(DATE($AG$5,$AF$4+6,1))=4,1,"")) | AC4: =IF(ISNUMBER(AB4),AB4+1,IF(WEEKDAY(DATE($AG$5,$AF$4+6,1))=5,1,"")) | AD4: =IF(ISNUMBER(AC4),AC4+1,IF(WEEKDAY(DATE($AG$5,$AF$4+6,1))=6,1,"")) | AE4: =IF(ISNUMBER(AD4),AD4+1,IF(WEEKDAY(DATE($AG$5,$AF$4+6,1))=7,1,"")) -> 1 | AF4: 1 | AG4: ='Input Date'!$C$17 -> 2016 | AJ4: 2 | AK4: Feb.
A5: =IF(ISNUMBER(A4),A4+7,G4+1) -> 3 | B5: =IF(ISNUMBER(B4),B4+7,A5+1) -> 4 | C5: =IF(ISNUMBER(C4),C4+7,B5+1) -> 5 | D5: =IF(ISNUMBER(D4),D4+7,C5+1) -> 6 | E5: =IF(ISNUMBER(E4),E4+7,D5+1) -> 7 | F5: =IF(ISNUMBER(F4),F4+7,E5+1) -> 8 | G5: =IF(ISNUMBER(G4),G4+7,F5+1) -> 9 | I5: =IF(ISNUMBER(I4),I4+7,O4+1) -> 3 | J5: =IF(ISNUMBER(J4),J4+7,I5+1) -> 4 | K5: =IF(ISNUMBER(K4),K4+7,J5+1) -> 5 | L5: =IF(ISNUMBER(L4),L4+7,K5+1) -> 6 | M5: =IF(ISNUMBER(M4),M4+7,L5+1) -> 7 | N5: =IF(ISNUMBER(N4),N4+7,M5+1) -> 8 | O5: =IF(ISNUMBER(O4),O4+7,N5+1) -> 9 | Q5: =IF(ISNUMBER(Q4),Q4+7,W4+1) -> 8 | R5: =IF(ISNUMBER(R4),R4+7,Q5+1) -> 9 | S5: =IF(ISNUMBER(S4),S4+7,R5+1) -> 10 | T5: =IF(ISNUMBER(T4),T4+7,S5+1) -> 11 | U5: =IF(ISNUMBER(U4),U4+7,T5+1) -> 12 | V5: =IF(ISNUMBER(V4),V4+7,U5+1) -> 13 | W5: =IF(ISNUMBER(W4),W4+7,V5+1) -> 14 | Y5: =IF(ISNUMBER(Y4),Y4+7,AE4+1) -> 2 | Z5: =IF(ISNUMBER(Z4),Z4+7,Y5+1) -> 3 | AA5: =IF(ISNUMBER(AA4),AA4+7,Z5+1) -> 4 | AB5: =IF(ISNUMBER(AB4),AB4+7,AA5+1) -> 5 | AC5: =IF(ISNUMBER(AC4),AC4+7,AB5+1) -> 6 | AD5: =IF(ISNUMBER(AD4),AD4+7,AC5+1) -> 7 | AE5: =IF(ISNUMBER(AE4),AE4+7,AD5+1) -> 8 | AG5: =+AG4+1 -> 2017 | AJ5: 3 | AK5: March
A6: =+A5+7 -> 10 | B6: =+B5+7 -> 11 | C6: =+C5+7 -> 12 | D6: =+D5+7 -> 13 | E6: =+E5+7 -> 14 | F6: =+F5+7 -> 15 | G6: =+G5+7 -> 16 | I6: =+I5+7 -> 10 | J6: =+J5+7 -> 11 | K6: =+K5+7 -> 12 | L6: =+L5+7 -> 13 | M6: =+M5+7 -> 14 | N6: =+N5+7 -> 15 | O6: =+O5+7 -> 16 | Q6: =+Q5+7 -> 15 | R6: =+R5+7 -> 16 | S6: =+S5+7 -> 17 | T6: =+T5+7 -> 18 | U6: =+U5+7 -> 19 | V6: =+V5+7 -> 20 | W6: =+W5+7 -> 21 | Y6: =+Y5+7 -> 9 | Z6: =+Z5+7 -> 10 | AA6: =+AA5+7 -> 11 | AB6: =+AB5+7 -> 12 | AC6: =+AC5+7 -> 13 | AD6: =+AD5+7 -> 14 | AE6: =+AE5+7 -> 15 | AJ6: 4 | AK6: April
A7: =IF(MONTH(DATE($AG$4,$AF$4,A6+7))=MONTH(DATE($AG$4,$AF$4,1)),A6+7,"") -> 17 | B7: =IF(MONTH(DATE($AG$4,$AF$4,B6+7))=MONTH(DATE($AG$4,$AF$4,1)),B6+7,"") -> 18 | C7: =IF(MONTH(DATE($AG$4,$AF$4,C6+7))=MONTH(DATE($AG$4,$AF$4,1)),C6+7,"") -> 19 | D7: =IF(MONTH(DATE($AG$4,$AF$4,D6+7))=MONTH(DATE($AG$4,$AF$4,1)),D6+7,"") -> 20 | E7: =IF(MONTH(DATE($AG$4,$AF$4,E6+7))=MONTH(DATE($AG$4,$AF$4,1)),E6+7,"") -> 21 | F7: =IF(MONTH(DATE($AG$4,$AF$4,F6+7))=MONTH(DATE($AG$4,$AF$4,1)),F6+7,"") -> 22 | G7: =IF(MONTH(DATE($AG$4,$AF$4,G6+7))=MONTH(DATE($AG$4,$AF$4,1)),G6+7,"") -> 23 | I7: =IF(MONTH(DATE($AG$4,$AF$4+6,I6+7))=MONTH(DATE($AG$4,$AF$4+6,1)),I6+7,"") -> 17 | J7: =IF(MONTH(DATE($AG$4,$AF$4+6,J6+7))=MONTH(DATE($AG$4,$AF$4+6,1)),J6+7,"") -> 18 | K7: =IF(MONTH(DATE($AG$4,$AF$4+6,K6+7))=MONTH(DATE($AG$4,$AF$4+6,1)),K6+7,"") -> 19 | L7: =IF(MONTH(DATE($AG$4,$AF$4+6,L6+7))=MONTH(DATE($AG$4,$AF$4+6,1)),L6+7,"") -> 20 | M7: =IF(MONTH(DATE($AG$4,$AF$4+6,M6+7))=MONTH(DATE($AG$4,$AF$4+6,1)),M6+7,"") -> 21 | N7: =IF(MONTH(DATE($AG$4,$AF$4+6,N6+7))=MONTH(DATE($AG$4,$AF$4+6,1)),N6+7,"") -> 22 | O7: =IF(MONTH(DATE($AG$4,$AF$4+6,O6+7))=MONTH(DATE($AG$4,$AF$4+6,1)),O6+7,"") -> 23 | Q7: =IF(MONTH(DATE($AG$5,$AF$4,Q6+7))=MONTH(DATE($AG$5,$AF$4,1)),Q6+7,"") -> 22 | R7: =IF(MONTH(DATE($AG$5,$AF$4,R6+7))=MONTH(DATE($AG$5,$AF$4,1)),R6+7,"") -> 23 | S7: =IF(MONTH(DATE($AG$5,$AF$4,S6+7))=MONTH(DATE($AG$5,$AF$4,1)),S6+7,"") -> 24 | T7: =IF(MONTH(DATE($AG$5,$AF$4,T6+7))=MONTH(DATE($AG$5,$AF$4,1)),T6+7,"") -> 25 | U7: =IF(MONTH(DATE($AG$5,$AF$4,U6+7))=MONTH(DATE($AG$5,$AF$4,1)),U6+7,"") -> 26 | V7: =IF(MONTH(DATE($AG$5,$AF$4,V6+7))=MONTH(DATE($AG$5,$AF$4,1)),V6+7,"") -> 27 | W7: =IF(MONTH(DATE($AG$5,$AF$4,W6+7))=MONTH(DATE($AG$5,$AF$4,1)),W6+7,"") -> 28 | Y7: =IF(MONTH(DATE($AG$5,$AF$4+6,Y6+7))=MONTH(DATE($AG$5,$AF$4+6,1)),Y6+7,"") -> 16 | Z7: =IF(MONTH(DATE($AG$5,$AF$4+6,Z6+7))=MONTH(DATE($AG$5,$AF$4+6,1)),Z6+7,"") -> 17 | AA7: =IF(MONTH(DATE($AG$5,$AF$4+6,AA6+7))=MONTH(DATE($AG$5,$AF$4+6,1)),AA6+7,"") -> 18 | AB7: =IF(MONTH(DATE($AG$5,$AF$4+6,AB6+7))=MONTH(DATE($AG$5,$AF$4+6,1)),AB6+7,"") -> 19 | AC7: =IF(MONTH(DATE($AG$5,$AF$4+6,AC6+7))=MONTH(DATE($AG$5,$AF$4+6,1)),AC6+7,"") -> 20 | AD7: =IF(MONTH(DATE($AG$5,$AF$4+6,AD6+7))=MONTH(DATE($AG$5,$AF$4+6,1)),AD6+7,"") -> 21 | AE7: =IF(MONTH(DATE($AG$5,$AF$4+6,AE6+7))=MONTH(DATE($AG$5,$AF$4+6,1)),AE6+7,"") -> 22 | AJ7: 5 | AK7: May
A8: =IF(MONTH(DATE($AG$4,$AF$4,A7+7))=MONTH(DATE($AG$4,$AF$4,1)),A7+7,"") -> 24 | B8: =IF(MONTH(DATE($AG$4,$AF$4,B7+7))=MONTH(DATE($AG$4,$AF$4,1)),B7+7,"") -> 25 | C8: =IF(MONTH(DATE($AG$4,$AF$4,C7+7))=MONTH(DATE($AG$4,$AF$4,1)),C7+7,"") -> 26 | D8: =IF(MONTH(DATE($AG$4,$AF$4,D7+7))=MONTH(DATE($AG$4,$AF$4,1)),D7+7,"") -> 27 | E8: =IF(MONTH(DATE($AG$4,$AF$4,E7+7))=MONTH(DATE($AG$4,$AF$4,1)),E7+7,"") -> 28 | F8: =IF(MONTH(DATE($AG$4,$AF$4,F7+7))=MONTH(DATE($AG$4,$AF$4,1)),F7+7,"") -> 29 | G8: =IF(MONTH(DATE($AG$4,$AF$4,G7+7))=MONTH(DATE($AG$4,$AF$4,1)),G7+7,"") -> 30 | I8: =IF(MONTH(DATE($AG$4,$AF$4+6,I7+7))=MONTH(DATE($AG$4,$AF$4+6,1)),I7+7,"") -> 24 | J8: =IF(MONTH(DATE($AG$4,$AF$4+6,J7+7))=MONTH(DATE($AG$4,$AF$4+6,1)),J7+7,"") -> 25 | K8: =IF(MONTH(DATE($AG$4,$AF$4+6,K7+7))=MONTH(DATE($AG$4,$AF$4+6,1)),K7+7,"") -> 26 | L8: =IF(MONTH(DATE($AG$4,$AF$4+6,L7+7))=MONTH(DATE($AG$4,$AF$4+6,1)),L7+7,"") -> 27 | M8: =IF(MONTH(DATE($AG$4,$AF$4+6,M7+7))=MONTH(DATE($AG$4,$AF$4+6,1)),M7+7,"") -> 28 | N8: =IF(MONTH(DATE($AG$4,$AF$4+6,N7+7))=MONTH(DATE($AG$4,$AF$4+6,1)),N7+7,"") -> 29 | O8: =IF(MONTH(DATE($AG$4,AF4+6,O7+7))=MONTH(DATE($AG$4,AF4+6,1)),O7+7,"") -> 30 | Q8: =IF(MONTH(DATE($AG$5,$AF$4,Q7+7))=MONTH(DATE($AG$5,$AF$4,1)),Q7+7,"") -> 29 | R8: =IF(MONTH(DATE($AG$5,$AF$4,R7+7))=MONTH(DATE($AG$5,$AF$4,1)),R7+7,"") -> 30 | S8: =IF(MONTH(DATE($AG$5,$AF$4,S7+7))=MONTH(DATE($AG$5,$AF$4,1)),S7+7,"") -> 31 | T8: =IF(MONTH(DATE($AG$5,$AF$4,T7+7))=MONTH(DATE($AG$5,$AF$4,1)),T7+7,"") | U8: =IF(MONTH(DATE($AG$5,$AF$4,U7+7))=MONTH(DATE($AG$5,$AF$4,1)),U7+7,"") | V8: =IF(MONTH(DATE($AG$5,$AF$4,V7+7))=MONTH(DATE($AG$5,$AF$4,1)),V7+7,"") | W8: =IF(MONTH(DATE($AG$5,$AF$4,W7+7))=MONTH(DATE($AG$5,$AF$4,1)),W7+7,"") | Y8: =IF(MONTH(DATE($AG$5,$AF$4+6,Y7+7))=MONTH(DATE($AG$5,$AF$4+6,1)),Y7+7,"") -> 23 | Z8: =IF(MONTH(DATE($AG$5,$AF$4+6,Z7+7))=MONTH(DATE($AG$5,$AF$4+6,1)),Z7+7,"") -> 24 | AA8: =IF(MONTH(DATE($AG$5,$AF$4+6,AA7+7))=MONTH(DATE($AG$5,$AF$4+6,1)),AA7+7,"") -> 25 | AB8: =IF(MONTH(DATE($AG$5,$AF$4+6,AB7+7))=MONTH(DATE($AG$5,$AF$4+6,1)),AB7+7,"") -> 26 | AC8: =IF(MONTH(DATE($AG$5,$AF$4+6,AC7+7))=MONTH(DATE($AG$5,$AF$4+6,1)),AC7+7,"") -> 27 | AD8: =IF(MONTH(DATE($AG$5,$AF$4+6,AD7+7))=MONTH(DATE($AG$5,$AF$4+6,1)),AD7+7,"") -> 28 | AE8: =IF(MONTH(DATE($AG$5,$AF$4+6,AE7+7))=MONTH(DATE($AG$5,$AF$4+6,1)),AE7+7,"") -> 29 | AJ8: 6 | AK8: June
A9: =IF(ISNUMBER(G8),IF(MONTH(DATE($AG$4,$AF$4,A8+7))=$AF$4,A8+7,""),"") -> 31 | B9: =IF(ISNUMBER(A9),IF(MONTH(DATE($AG$4,$AF$4,B8+7))=$AF$4,B8+7,""),"") | C9: =IF(ISNUMBER(B9),IF(MONTH(DATE($AG$4,$AF$4,C8+7))=$AF$4,C8+7,""),"") | D9: =IF(ISNUMBER(C9),IF(MONTH(DATE($AG$4,$AF$4,D8+7))=$AF$4,D8+7,""),"") | E9: =IF(ISNUMBER(D9),IF(MONTH(DATE($AG$4,$AF$4,E8+7))=$AF$4,E8+7,""),"") | F9: =IF(ISNUMBER(E9),IF(MONTH(DATE($AG$4,$AF$4,F8+7))=$AF$4,F8+7,""),"") | G9: =IF(ISNUMBER(F9),IF(MONTH(DATE($AG$4,$AF$4,G8+7))=$AF$4,G8+7,""),"") | I9: =IF(ISNUMBER(O8),IF(MONTH(DATE($AG$4,$AF$4+6,I8+7))=$AF$4+6,I8+7,""),"") -> 31 | J9: =IF(ISNUMBER(I9),IF(MONTH(DATE($AG$4,$AF$4+6,J8+7))=$AF$4+6,J8+7,""),"") | K9: =IF(ISNUMBER(J9),IF(MONTH(DATE($AG$4,$AF$4+6,K8+7))=$AF$4+6,K8+7,""),"") | L9: =IF(ISNUMBER(K9),IF(MONTH(DATE($AG$4,$AF$4+6,L8+7))=$AF$4+6,L8+7,""),"") | M9: =IF(ISNUMBER(L9),IF(MONTH(DATE($AG$4,$AF$4+6,M8+7))=$AF$4+6,M8+7,""),"") | N9: =IF(ISNUMBER(M9),IF(MONTH(DATE($AG$4,$AF$4+6,N8+7))=$AF$4+6,N8+7,""),"") | O9: =IF(ISNUMBER(N9),IF(MONTH(DATE($AG$4,AF4+6,O8+7))=AF4+6,O8+7,""),"") | AJ9: 7 | AK9: July
A10: FEB | I10: AUG | Q10: FEB | Y10: AUG | AJ10: 9 | AK10: Sep
A11: S | B11: M | C11: Tu | D11: W | E11: Th | F11: F | G11: S | I11: S | J11: M | K11: Tu | L11: W | M11: Th | N11: F | O11: S | Q11: S | R11: M | S11: Tu | T11: W | U11: Th | V11: F | W11: S | Y11: S | Z11: M | AA11: Tu | AB11: W | AC11: Th | AD11: F | AE11: S | AJ11: 10 | AK11: Oct
A12: =IF(WEEKDAY(DATE($AG$4,AF12,1))=1,1,"") | B12: =IF(ISNUMBER(A12),A12+1,IF(WEEKDAY(DATE($AG$4,AF12,1))=2,1,"")) -> 1 | C12: =IF(ISNUMBER(B12),B12+1,IF(WEEKDAY(DATE($AG$4,AF12,1))=3,1,"")) -> 2 | D12: =IF(ISNUMBER(C12),C12+1,IF(WEEKDAY(DATE($AG$4,AF12,1))=4,1,"")) -> 3 | E12: =IF(ISNUMBER(D12),D12+1,IF(WEEKDAY(DATE($AG$4,AF12,1))=5,1,"")) -> 4 | F12: =IF(ISNUMBER(E12),E12+1,IF(WEEKDAY(DATE($AG$4,AF12,1))=6,1,"")) -> 5 | G12: =IF(ISNUMBER(F12),F12+1,IF(WEEKDAY(DATE($AG$4,AF12,1))=7,1,"")) -> 6 | I12: =IF(WEEKDAY(DATE($AG$4,AF12+6,1))=1,1,"") | J12: =IF(ISNUMBER(I12),I12+1,IF(WEEKDAY(DATE($AG$4,AF12+6,1))=2,1,"")) -> 1 | K12: =IF(ISNUMBER(J12),J12+1,IF(WEEKDAY(DATE($AG$4,AF12+6,1))=3,1,"")) -> 2 | L12: =IF(ISNUMBER(K12),K12+1,IF(WEEKDAY(DATE($AG$4,AF12+6,1))=4,1,"")) -> 3 | M12: =IF(ISNUMBER(L12),L12+1,IF(WEEKDAY(DATE($AG$4,AF12+6,1))=5,1,"")) -> 4 | N12: =IF(ISNUMBER(M12),M12+1,IF(WEEKDAY(DATE($AG$4,AF12+6,1))=6,1,"")) -> 5 | O12: =IF(ISNUMBER(N12),N12+1,IF(WEEKDAY(DATE($AG$4,AF12+6,1))=7,1,"")) -> 6 | Q12: =IF(WEEKDAY(DATE($AG$5,AF4+1,1))=1,1,"") | R12: =IF(ISNUMBER(Q12),Q12+1,IF(WEEKDAY(DATE($AG$5,AF4+1,1))=2,1,"")) | S12: =IF(ISNUMBER(R12),R12+1,IF(WEEKDAY(DATE($AG$5,AF4+1,1))=3,1,"")) | T12: =IF(ISNUMBER(S12),S12+1,IF(WEEKDAY(DATE($AG$5,AF4+1,1))=4,1,"")) -> 1 | U12: =IF(ISNUMBER(T12),T12+1,IF(WEEKDAY(DATE($AG$5,AF4+1,1))=5,1,"")) -> 2 | V12: =IF(ISNUMBER(U12),U12+1,IF(WEEKDAY(DATE($AG$5,AF4+1,1))=6,1,"")) -> 3 | W12: =IF(ISNUMBER(V12),V12+1,IF(WEEKDAY(DATE($AG$5,AF4+1,1))=7,1,"")) -> 4 | Y12: =IF(WEEKDAY(DATE($AG$5,AF4+1+6,1))=1,1,"") | Z12: =IF(ISNUMBER(Y12),Y12+1,IF(WEEKDAY(DATE($AG$5,AF4+1+6,1))=2,1,"")) | AA12: =IF(ISNUMBER(Z12),Z12+1,IF(WEEKDAY(DATE($AG$5,AF4+1+6,1))=3,1,"")) -> 1 | AB12: =IF(ISNUMBER(AA12),AA12+1,IF(WEEKDAY(DATE($AG$5,AF4+1+6,1))=4,1,"")) -> 2 | AC12: =IF(ISNUMBER(AB12),AB12+1,IF(WEEKDAY(DATE($AG$5,AF4+1+6,1))=5,1,"")) -> 3 | AD12: =IF(ISNUMBER(AC12),AC12+1,IF(WEEKDAY(DATE($AG$5,AF4+1+6,1))=6,1,"")) -> 4 | AE12: =IF(ISNUMBER(AD12),AD12+1,IF(WEEKDAY(DATE($AG$5,AF4+1+6,1))=7,1,"")) -> 5 | AF12: =+$AF$4+1 -> 2 | AJ12: 11 | AK12: Nov.
A13: =IF(ISNUMBER(A12),A12+7,G12+1) -> 7 | B13: =IF(ISNUMBER(B12),B12+7,A13+1) -> 8 | C13: =IF(ISNUMBER(C12),C12+7,B13+1) -> 9 | D13: =IF(ISNUMBER(D12),D12+7,C13+1) -> 10 | E13: =IF(ISNUMBER(E12),E12+7,D13+1) -> 11 | F13: =IF(ISNUMBER(F12),F12+7,E13+1) -> 12 | G13: =IF(ISNUMBER(G12),G12+7,F13+1) -> 13 | I13: =IF(ISNUMBER(I12),I12+7,O12+1) -> 7 | J13: =IF(ISNUMBER(J12),J12+7,I13+1) -> 8 | K13: =IF(ISNUMBER(K12),K12+7,J13+1) -> 9 | L13: =IF(ISNUMBER(L12),L12+7,K13+1) -> 10 | M13: =IF(ISNUMBER(M12),M12+7,L13+1) -> 11 | N13: =IF(ISNUMBER(N12),N12+7,M13+1) -> 12 | O13: =IF(ISNUMBER(O12),O12+7,N13+1) -> 13 | Q13: =IF(ISNUMBER(Q12),Q12+7,W12+1) -> 5 | R13: =IF(ISNUMBER(R12),R12+7,Q13+1) -> 6 | S13: =IF(ISNUMBER(S12),S12+7,R13+1) -> 7 | T13: =IF(ISNUMBER(T12),T12+7,S13+1) -> 8 | U13: =IF(ISNUMBER(U12),U12+7,T13+1) -> 9 | V13: =IF(ISNUMBER(V12),V12+7,U13+1) -> 10 | W13: =IF(ISNUMBER(W12),W12+7,V13+1) -> 11 | Y13: =IF(ISNUMBER(Y12),Y12+7,AE12+1) -> 6 | Z13: =IF(ISNUMBER(Z12),Z12+7,Y13+1) -> 7 | AA13: =IF(ISNUMBER(AA12),AA12+7,Z13+1) -> 8 | AB13: =IF(ISNUMBER(AB12),AB12+7,AA13+1) -> 9 | AC13: =IF(ISNUMBER(AC12),AC12+7,AB13+1) -> 10 | AD13: =IF(ISNUMBER(AD12),AD12+7,AC13+1) -> 11 | AE13: =IF(ISNUMBER(AE12),AE12+7,AD13+1) -> 12 | AJ13: 12 | AK13: Dec.
A14: =+A13+7 -> 14 | B14: =+B13+7 -> 15 | C14: =+C13+7 -> 16 | D14: =+D13+7 -> 17 | E14: =+E13+7 -> 18 | F14: =+F13+7 -> 19 | G14: =+G13+7 -> 20 | I14: =+I13+7 -> 14 | J14: =+J13+7 -> 15 | K14: =+K13+7 -> 16 | L14: =+L13+7 -> 17 | M14: =+M13+7 -> 18 | N14: =+N13+7 -> 19 | O14: =+O13+7 -> 20 | Q14: =+Q13+7 -> 12 | R14: =+R13+7 -> 13 | S14: =+S13+7 -> 14 | T14: =+T13+7 -> 15 | U14: =+U13+7 -> 16 | V14: =+V13+7 -> 17 | W14: =+W13+7 -> 18 | Y14: =+Y13+7 -> 13 | Z14: =+Z13+7 -> 14 | AA14: =+AA13+7 -> 15 | AB14: =+AB13+7 -> 16 | AC14: =+AC13+7 -> 17 | AD14: =+AD13+7 -> 18 | AE14: =+AE13+7 -> 19
A15: =IF(MONTH(DATE($AG$4,AF12,A14+7))=MONTH(DATE($AG$4,AF12,1)),A14+7,"") -> 21 | B15: =IF(MONTH(DATE($AG$4,AF12,B14+7))=MONTH(DATE($AG$4,AF12,1)),B14+7,"") -> 22 | C15: =IF(MONTH(DATE($AG$4,AF12,C14+7))=MONTH(DATE($AG$4,AF12,1)),C14+7,"") -> 23 | D15: =IF(MONTH(DATE($AG$4,AF12,D14+7))=MONTH(DATE($AG$4,AF12,1)),D14+7,"") -> 24 | E15: =IF(MONTH(DATE($AG$4,AF12,E14+7))=MONTH(DATE($AG$4,AF12,1)),E14+7,"") -> 25 | F15: =IF(MONTH(DATE($AG$4,AF12,F14+7))=MONTH(DATE($AG$4,AF12,1)),F14+7,"") -> 26 | G15: =IF(MONTH(DATE($AG$4,AF12,G14+7))=MONTH(DATE($AG$4,AF12,1)),G14+7,"") -> 27 | I15: =IF(MONTH(DATE($AG$4,AF12+6,I14+7))=MONTH(DATE($AG$4,AF12+6,1)),I14+7,"") -> 21 | J15: =IF(MONTH(DATE($AG$4,AF12+6,J14+7))=MONTH(DATE($AG$4,AF12+6,1)),J14+7,"") -> 22 | K15: =IF(MONTH(DATE($AG$4,AF12+6,K14+7))=MONTH(DATE($AG$4,AF12+6,1)),K14+7,"") -> 23 | L15: =IF(MONTH(DATE($AG$4,AF12+6,L14+7))=MONTH(DATE($AG$4,AF12+6,1)),L14+7,"") -> 24 | M15: =IF(MONTH(DATE($AG$4,AF12+6,M14+7))=MONTH(DATE($AG$4,AF12+6,1)),M14+7,"") -> 25 | N15: =IF(MONTH(DATE($AG$4,AF12+6,N14+7))=MONTH(DATE($AG$4,AF12+6,1)),N14+7,"") -> 26 | O15: =IF(MONTH(DATE($AG$4,AF12+6,O14+7))=MONTH(DATE($AG$4,AF12+6,1)),O14+7,"") -> 27 | Q15: =IF(MONTH(DATE($AG$5,AF4+1,Q14+7))=MONTH(DATE($AG$5,AF4+1,1)),Q14+7,"") -> 19 | R15: =IF(MONTH(DATE($AG$5,AF4+1,R14+7))=MONTH(DATE($AG$5,AF4+1,1)),R14+7,"") -> 20 | S15: =IF(MONTH(DATE($AG$5,AF4+1,S14+7))=MONTH(DATE($AG$5,AF4+1,1)),S14+7,"") -> 21 | T15: =IF(MONTH(DATE($AG$5,AF4+1,T14+7))=MONTH(DATE($AG$5,AF4+1,1)),T14+7,"") -> 22 | U15: =IF(MONTH(DATE($AG$5,AF4+1,U14+7))=MONTH(DATE($AG$5,AF4+1,1)),U14+7,"") -> 23 | V15: =IF(MONTH(DATE($AG$5,AF4+1,V14+7))=MONTH(DATE($AG$5,AF4+1,1)),V14+7,"") -> 24 | W15: =IF(MONTH(DATE($AG$5,AF4+1,W14+7))=MONTH(DATE($AG$5,AF4+1,1)),W14+7,"") -> 25 | Y15: =IF(MONTH(DATE($AG$5,AF4+1+6,Y14+7))=MONTH(DATE($AG$5,AF4+1+6,1)),Y14+7,"") -> 20 | Z15: =IF(MONTH(DATE($AG$5,AF4+1+6,Z14+7))=MONTH(DATE($AG$5,AF4+1+6,1)),Z14+7,"") -> 21 | AA15: =IF(MONTH(DATE($AG$5,AF4+1+6,AA14+7))=MONTH(DATE($AG$5,AF4+1+6,1)),AA14+7,"") -> 22 | AB15: =IF(MONTH(DATE($AG$5,AF4+1+6,AB14+7))=MONTH(DATE($AG$5,AF4+1+6,1)),AB14+7,"") -> 23 | AC15: =IF(MONTH(DATE($AG$5,AF4+1+6,AC14+7))=MONTH(DATE($AG$5,AF4+1+6,1)),AC14+7,"") -> 24 | AD15: =IF(MONTH(DATE($AG$5,AF4+1+6,AD14+7))=MONTH(DATE($AG$5,AF4+1+6,1)),AD14+7,"") -> 25 | AE15: =IF(MONTH(DATE($AG$5,AF4+1+6,AE14+7))=MONTH(DATE($AG$5,AF4+1+6,1)),AE14+7,"") -> 26
A16: =IF(MONTH(DATE($AG$4,AF12,A15+7))=MONTH(DATE($AG$4,AF12,1)),A15+7,"") -> 28 | B16: =IF(MONTH(DATE($AG$4,AF12,B15+7))=MONTH(DATE($AG$4,AF12,1)),B15+7,"") -> 29 | C16: =IF(MONTH(DATE($AG$4,AF12,C15+7))=MONTH(DATE($AG$4,AF12,1)),C15+7,"") | D16: =IF(MONTH(DATE($AG$4,AF12,D15+7))=MONTH(DATE($AG$4,AF12,1)),D15+7,"") | E16: =IF(MONTH(DATE($AG$4,AF12,E15+7))=MONTH(DATE($AG$4,AF12,1)),E15+7,"") | F16: =IF(MONTH(DATE($AG$4,AF12,F15+7))=MONTH(DATE($AG$4,AF12,1)),F15+7,"") | G16: =IF(MONTH(DATE($AG$4,AF12,G15+7))=MONTH(DATE($AG$4,AF12,1)),G15+7,"") | I16: =IF(MONTH(DATE($AG$4,AF12+6,I15+7))=MONTH(DATE($AG$4,AF12+6,1)),I15+7,"") -> 28 | J16: =IF(MONTH(DATE($AG$4,AF12+6,J15+7))=MONTH(DATE($AG$4,AF12+6,1)),J15+7,"") -> 29 | K16: =IF(MONTH(DATE($AG$4,AF12+6,K15+7))=MONTH(DATE($AG$4,AF12+6,1)),K15+7,"") -> 30 | L16: =IF(MONTH(DATE($AG$4,AF12+6,L15+7))=MONTH(DATE($AG$4,AF12+6,1)),L15+7,"") -> 31 | M16: =IF(MONTH(DATE($AG$4,AF12+6,M15+7))=MONTH(DATE($AG$4,AF12+6,1)),M15+7,"") | N16: =IF(MONTH(DATE($AG$4,AF12+6,N15+7))=MONTH(DATE($AG$4,AF12+6,1)),N15+7,"") | O16: =IF(MONTH(DATE($AG$4,AF12+6,O15+7))=MONTH(DATE($AG$4,AF12+6,1)),O15+7,"") | Q16: =IF(MONTH(DATE($AG$5,AF4+1,Q15+7))=MONTH(DATE($AG$5,AF4+1,1)),Q15+7,"") -> 26 | R16: =IF(MONTH(DATE($AG$5,AF4+1,R15+7))=MONTH(DATE($AG$5,AF4+1,1)),R15+7,"") -> 27 | S16: =IF(MONTH(DATE($AG$5,AF4+1,S15+7))=MONTH(DATE($AG$5,AF4+1,1)),S15+7,"") -> 28 | T16: =IF(MONTH(DATE($AG$5,AF4+1,T15+7))=MONTH(DATE($AG$5,AF4+1,1)),T15+7,"") | U16: =IF(MONTH(DATE($AG$5,AF4+1,U15+7))=MONTH(DATE($AG$5,AF4+1,1)),U15+7,"") | V16: =IF(MONTH(DATE($AG$5,AF4+1,V15+7))=MONTH(DATE($AG$5,AF4+1,1)),V15+7,"") | W16: =IF(MONTH(DATE($AG$5,AF4+1,W15+7))=MONTH(DATE($AG$5,AF4+1,1)),W15+7,"") | Y16: =IF(MONTH(DATE($AG$5,AF4+1+6,Y15+7))=MONTH(DATE($AG$5,AF4+1+6,1)),Y15+7,"") -> 27 | Z16: =IF(MONTH(DATE($AG$5,AF4+1+6,Z15+7))=MONTH(DATE($AG$5,AF4+1+6,1)),Z15+7,"") -> 28 | AA16: =IF(MONTH(DATE($AG$5,AF4+1+6,AA15+7))=MONTH(DATE($AG$5,AF4+1+6,1)),AA15+7,"") -> 29 | AB16: =IF(MONTH(DATE($AG$5,AF4+1+6,AB15+7))=MONTH(DATE($AG$5,AF4+1+6,1)),AB15+7,"") -> 30 | AC16: =IF(MONTH(DATE($AG$5,AF4+1+6,AC15+7))=MONTH(DATE($AG$5,AF4+1+6,1)),AC15+7,"") -> 31 | AD16: =IF(MONTH(DATE($AG$5,AF4+1+6,AD15+7))=MONTH(DATE($AG$5,AF4+1+6,1)),AD15+7,"") | AE16: =IF(MONTH(DATE($AG$5,AF4+1+6,AE15+7))=MONTH(DATE($AG$5,AF4+1+6,1)),AE15+7,"")
A17: =IF(ISNUMBER(G16),IF(MONTH(DATE($AG$4,AF12,A16+7))=AF12,A16+7,""),"") | B17: =IF(ISNUMBER(A17),IF(MONTH(DATE($AG$4,AF12,B16+7))=AF12,B16+7,""),"") | C17: =IF(ISNUMBER(B17),IF(MONTH(DATE($AG$4,AF12,C16+7))=AF12,C16+7,""),"") | D17: =IF(ISNUMBER(C17),IF(MONTH(DATE($AG$4,AF12,D16+7))=AF12,D16+7,""),"") | E17: =IF(ISNUMBER(D17),IF(MONTH(DATE($AG$4,AF12,E16+7))=AF12,E16+7,""),"") | F17: =IF(ISNUMBER(E17),IF(MONTH(DATE($AG$4,AF12,F16+7))=AF12,F16+7,""),"") | G17: =IF(ISNUMBER(F17),IF(MONTH(DATE($AG$4,AF12,G16+7))=AF12,G16+7,""),"") | I17: =IF(ISNUMBER(O16),IF(MONTH(DATE($AG$4,AF12+6,I16+7))=AF12+6,I16+7,""),"") | J17: =IF(ISNUMBER(I17),IF(MONTH(DATE($AG$4,AF12+6,J16+7))=AF12+6,J16+7,""),"") | K17: =IF(ISNUMBER(J17),IF(MONTH(DATE($AG$4,AF12+6,K16+7))=AF12+6,K16+7,""),"") | L17: =IF(ISNUMBER(K17),IF(MONTH(DATE($AG$4,AF12+6,L16+7))=AF12+6,L16+7,""),"") | M17: =IF(ISNUMBER(L17),IF(MONTH(DATE($AG$4,AF12+6,M16+7))=AF12+6,M16+7,""),"") | N17: =IF(ISNUMBER(M17),IF(MONTH(DATE($AG$4,AF12+6,N16+7))=AF12+6,N16+7,""),"") | O17: =IF(ISNUMBER(N17),IF(MONTH(DATE($AG$4,AF12+6,O16+7))=AF12+6,O16+7,""),"") | Q17: =IF(ISNUMBER(W16),IF(MONTH(DATE($AG$4,AV12,Q16+7))=AV12,Q16+7,""),"") | R17: =IF(ISNUMBER(Q17),IF(MONTH(DATE($AG$4,AV12,R16+7))=AV12,R16+7,""),"") | S17: =IF(ISNUMBER(R17),IF(MONTH(DATE($AG$4,AV12,S16+7))=AV12,S16+7,""),"") | T17: =IF(ISNUMBER(S17),IF(MONTH(DATE($AG$4,AV12,T16+7))=AV12,T16+7,""),"") | U17: =IF(ISNUMBER(T17),IF(MONTH(DATE($AG$4,AV12,U16+7))=AV12,U16+7,""),"") | V17: =IF(ISNUMBER(U17),IF(MONTH(DATE($AG$4,AV12,V16+7))=AV12,V16+7,""),"") | W17: =IF(ISNUMBER(V17),IF(MONTH(DATE($AG$4,AV12,W16+7))=AV12,W16+7,""),"") | Y17: =IF(ISNUMBER(AE16),IF(MONTH(DATE($AG$4,AV12+6,Y16+7))=AV12+6,Y16+7,""),"") | Z17: =IF(ISNUMBER(Y17),IF(MONTH(DATE($AG$4,AV12+6,Z16+7))=AV12+6,Z16+7,""),"") | AA17: =IF(ISNUMBER(Z17),IF(MONTH(DATE($AG$4,AV12+6,AA16+7))=AV12+6,AA16+7,""),"") | AB17: =IF(ISNUMBER(AA17),IF(MONTH(DATE($AG$4,AV12+6,AB16+7))=AV12+6,AB16+7,""),"") | AC17: =IF(ISNUMBER(AB17),IF(MONTH(DATE($AG$4,AV12+6,AC16+7))=AV12+6,AC16+7,""),"") | AD17: =IF(ISNUMBER(AC17),IF(MONTH(DATE($AG$4,AV12+6,AD16+7))=AV12+6,AD16+7,""),"") | AE17: =IF(ISNUMBER(AD17),IF(MONTH(DATE($AG$4,AV12+6,AE16+7))=AV12+6,AE16+7,""),"")
A18: MAR | I18: SEP | Q18: MAR | Y18: SEP
A19: S | B19: M | C19: Tu | D19: W | E19: Th | F19: F | G19: S | I19: S | J19: M | K19: Tu | L19: W | M19: Th | N19: F | O19: S | Q19: S | R19: M | S19: Tu | T19: W | U19: Th | V19: F | W19: S | Y19: S | Z19: M | AA19: Tu | AB19: W | AC19: Th | AD19: F | AE19: S
A20: =IF(WEEKDAY(DATE($AG$4,AF20,1))=1,1,"") | B20: =IF(ISNUMBER(A20),A20+1,IF(WEEKDAY(DATE($AG$4,AF20,1))=2,1,"")) | C20: =IF(ISNUMBER(B20),B20+1,IF(WEEKDAY(DATE($AG$4,AF20,1))=3,1,"")) -> 1 | D20: =IF(ISNUMBER(C20),C20+1,IF(WEEKDAY(DATE($AG$4,AF20,1))=4,1,"")) -> 2 | E20: =IF(ISNUMBER(D20),D20+1,IF(WEEKDAY(DATE($AG$4,AF20,1))=5,1,"")) -> 3 | F20: =IF(ISNUMBER(E20),E20+1,IF(WEEKDAY(DATE($AG$4,AF20,1))=6,1,"")) -> 4 | G20: =IF(ISNUMBER(F20),F20+1,IF(WEEKDAY(DATE($AG$4,AF20,1))=7,1,"")) -> 5 | I20: =IF(WEEKDAY(DATE($AG$4,AF20+6,1))=1,1,"") | J20: =IF(ISNUMBER(I20),I20+1,IF(WEEKDAY(DATE($AG$4,AF20+6,1))=2,1,"")) | K20: =IF(ISNUMBER(J20),J20+1,IF(WEEKDAY(DATE($AG$4,AF20+6,1))=3,1,"")) | L20: =IF(ISNUMBER(K20),K20+1,IF(WEEKDAY(DATE($AG$4,AF20+6,1))=4,1,"")) | M20: =IF(ISNUMBER(L20),L20+1,IF(WEEKDAY(DATE($AG$4,AF20+6,1))=5,1,"")) -> 1 | N20: =IF(ISNUMBER(M20),M20+1,IF(WEEKDAY(DATE($AG$4,AF20+6,1))=6,1,"")) -> 2 | O20: =IF(ISNUMBER(N20),N20+1,IF(WEEKDAY(DATE($AG$4,AF20+6,1))=7,1,"")) -> 3 | Q20: =IF(WEEKDAY(DATE($AG$5,AF12+1,1))=1,1,"") | R20: =IF(ISNUMBER(Q20),Q20+1,IF(WEEKDAY(DATE($AG$5,AF12+1,1))=2,1,"")) | S20: =IF(ISNUMBER(R20),R20+1,IF(WEEKDAY(DATE($AG$5,AF12+1,1))=3,1,"")) | T20: =IF(ISNUMBER(S20),S20+1,IF(WEEKDAY(DATE($AG$5,AF12+1,1))=4,1,"")) -> 1 | U20: =IF(ISNUMBER(T20),T20+1,IF(WEEKDAY(DATE($AG$5,AF12+1,1))=5,1,"")) -> 2 | V20: =IF(ISNUMBER(U20),U20+1,IF(WEEKDAY(DATE($AG$5,AF12+1,1))=6,1,"")) -> 3 | W20: =IF(ISNUMBER(V20),V20+1,IF(WEEKDAY(DATE($AG$5,AF12+1,1))=7,1,"")) -> 4 | Y20: =IF(WEEKDAY(DATE($AG$5,AF12+1+6,1))=1,1,"") | Z20: =IF(ISNUMBER(Y20),Y20+1,IF(WEEKDAY(DATE($AG$5,AF12+1+6,1))=2,1,"")) | AA20: =IF(ISNUMBER(Z20),Z20+1,IF(WEEKDAY(DATE($AG$5,AF12+1+6,1))=3,1,"")) | AB20: =IF(ISNUMBER(AA20),AA20+1,IF(WEEKDAY(DATE($AG$5,AF12+1+6,1))=4,1,"")) | AC20: =IF(ISNUMBER(AB20),AB20+1,IF(WEEKDAY(DATE($AG$5,AF12+1+6,1))=5,1,"")) | AD20: =IF(ISNUMBER(AC20),AC20+1,IF(WEEKDAY(DATE($AG$5,AF12+1+6,1))=6,1,"")) -> 1 | AE20: =IF(ISNUMBER(AD20),AD20+1,IF(WEEKDAY(DATE($AG$5,AF12+1+6,1))=7,1,"")) -> 2 | AF20: =+AF12+1 -> 3
A21: =IF(ISNUMBER(A20),A20+7,G20+1) -> 6 | B21: =IF(ISNUMBER(B20),B20+7,A21+1) -> 7 | C21: =IF(ISNUMBER(C20),C20+7,B21+1) -> 8 | D21: =IF(ISNUMBER(D20),D20+7,C21+1) -> 9 | E21: =IF(ISNUMBER(E20),E20+7,D21+1) -> 10 | F21: =IF(ISNUMBER(F20),F20+7,E21+1) -> 11 | G21: =IF(ISNUMBER(G20),G20+7,F21+1) -> 12 | I21: =IF(ISNUMBER(I20),I20+7,O20+1) -> 4 | J21: =IF(ISNUMBER(J20),J20+7,I21+1) -> 5 | K21: =IF(ISNUMBER(K20),K20+7,J21+1) -> 6 | L21: =IF(ISNUMBER(L20),L20+7,K21+1) -> 7 | M21: =IF(ISNUMBER(M20),M20+7,L21+1) -> 8 | N21: =IF(ISNUMBER(N20),N20+7,M21+1) -> 9 | O21: =IF(ISNUMBER(O20),O20+7,N21+1) -> 10 | Q21: =IF(ISNUMBER(Q20),Q20+7,W20+1) -> 5 | R21: =IF(ISNUMBER(R20),R20+7,Q21+1) -> 6 | S21: =IF(ISNUMBER(S20),S20+7,R21+1) -> 7 | T21: =IF(ISNUMBER(T20),T20+7,S21+1) -> 8 | U21: =IF(ISNUMBER(U20),U20+7,T21+1) -> 9 | V21: =IF(ISNUMBER(V20),V20+7,U21+1) -> 10 | W21: =IF(ISNUMBER(W20),W20+7,V21+1) -> 11 | Y21: =IF(ISNUMBER(Y20),Y20+7,AE20+1) -> 3 | Z21: =IF(ISNUMBER(Z20),Z20+7,Y21+1) -> 4 | AA21: =IF(ISNUMBER(AA20),AA20+7,Z21+1) -> 5 | AB21: =IF(ISNUMBER(AB20),AB20+7,AA21+1) -> 6 | AC21: =IF(ISNUMBER(AC20),AC20+7,AB21+1) -> 7 | AD21: =IF(ISNUMBER(AD20),AD20+7,AC21+1) -> 8 | AE21: =IF(ISNUMBER(AE20),AE20+7,AD21+1) -> 9
A22: =+A21+7 -> 13 | B22: =+B21+7 -> 14 | C22: =+C21+7 -> 15 | D22: =+D21+7 -> 16 | E22: =+E21+7 -> 17 | F22: =+F21+7 -> 18 | G22: =+G21+7 -> 19 | I22: =+I21+7 -> 11 | J22: =+J21+7 -> 12 | K22: =+K21+7 -> 13 | L22: =+L21+7 -> 14 | M22: =+M21+7 -> 15 | N22: =+N21+7 -> 16 | O22: =+O21+7 -> 17 | Q22: =+Q21+7 -> 12 | R22: =+R21+7 -> 13 | S22: =+S21+7 -> 14 | T22: =+T21+7 -> 15 | U22: =+U21+7 -> 16 | V22: =+V21+7 -> 17 | W22: =+W21+7 -> 18 | Y22: =+Y21+7 -> 10 | Z22: =+Z21+7 -> 11 | AA22: =+AA21+7 -> 12 | AB22: =+AB21+7 -> 13 | AC22: =+AC21+7 -> 14 | AD22: =+AD21+7 -> 15 | AE22: =+AE21+7 -> 16
A23: =IF(MONTH(DATE($AG$4,AF20,A22+7))=MONTH(DATE($AG$4,AF20,1)),A22+7,"") -> 20 | B23: =IF(MONTH(DATE($AG$4,AF20,B22+7))=MONTH(DATE($AG$4,AF20,1)),B22+7,"") -> 21 | C23: =IF(MONTH(DATE($AG$4,AF20,C22+7))=MONTH(DATE($AG$4,AF20,1)),C22+7,"") -> 22 | D23: =IF(MONTH(DATE($AG$4,AF20,D22+7))=MONTH(DATE($AG$4,AF20,1)),D22+7,"") -> 23 | E23: =IF(MONTH(DATE($AG$4,AF20,E22+7))=MONTH(DATE($AG$4,AF20,1)),E22+7,"") -> 24 | F23: =IF(MONTH(DATE($AG$4,AF20,F22+7))=MONTH(DATE($AG$4,AF20,1)),F22+7,"") -> 25 | G23: =IF(MONTH(DATE($AG$4,AF20,G22+7))=MONTH(DATE($AG$4,AF20,1)),G22+7,"") -> 26 | I23: =IF(MONTH(DATE($AG$4,AF20+6,I22+7))=MONTH(DATE($AG$4,AF20+6,1)),I22+7,"") -> 18 | J23: =IF(MONTH(DATE($AG$4,AF20+6,J22+7))=MONTH(DATE($AG$4,AF20+6,1)),J22+7,"") -> 19 | K23: =IF(MONTH(DATE($AG$4,AF20+6,K22+7))=MONTH(DATE($AG$4,AF20+6,1)),K22+7,"") -> 20 | L23: =IF(MONTH(DATE($AG$4,AF20+6,L22+7))=MONTH(DATE($AG$4,AF20+6,1)),L22+7,"") -> 21 | M23: =IF(MONTH(DATE($AG$4,AF20+6,M22+7))=MONTH(DATE($AG$4,AF20+6,1)),M22+7,"") -> 22 | N23: =IF(MONTH(DATE($AG$4,AF20+6,N22+7))=MONTH(DATE($AG$4,AF20+6,1)),N22+7,"") -> 23 | O23: =IF(MONTH(DATE($AG$4,AF20+6,O22+7))=MONTH(DATE($AG$4,AF20+6,1)),O22+7,"") -> 24 | Q23: =IF(MONTH(DATE($AG$5,AF12+1,Q22+7))=MONTH(DATE($AG$5,AF12+1,1)),Q22+7,"") -> 19 | R23: =IF(MONTH(DATE($AG$5,AF12+1,R22+7))=MONTH(DATE($AG$5,AF12+1,1)),R22+7,"") -> 20 | S23: =IF(MONTH(DATE($AG$5,AF12+1,S22+7))=MONTH(DATE($AG$5,AF12+1,1)),S22+7,"") -> 21 | T23: =IF(MONTH(DATE($AG$5,AF12+1,T22+7))=MONTH(DATE($AG$5,AF12+1,1)),T22+7,"") -> 22 | U23: =IF(MONTH(DATE($AG$5,AF12+1,U22+7))=MONTH(DATE($AG$5,AF12+1,1)),U22+7,"") -> 23 | V23: =IF(MONTH(DATE($AG$5,AF12+1,V22+7))=MONTH(DATE($AG$5,AF12+1,1)),V22+7,"") -> 24 | W23: =IF(MONTH(DATE($AG$5,AF12+1,W22+7))=MONTH(DATE($AG$5,AF12+1,1)),W22+7,"") -> 25 | Y23: =IF(MONTH(DATE($AG$5,AF12+1+6,Y22+7))=MONTH(DATE($AG$5,AF12+1+6,1)),Y22+7,"") -> 17 | Z23: =IF(MONTH(DATE($AG$5,AF12+1+6,Z22+7))=MONTH(DATE($AG$5,AF12+1+6,1)),Z22+7,"") -> 18 | AA23: =IF(MONTH(DATE($AG$5,AF12+1+6,AA22+7))=MONTH(DATE($AG$5,AF12+1+6,1)),AA22+7,"") -> 19 | AB23: =IF(MONTH(DATE($AG$5,AF12+1+6,AB22+7))=MONTH(DATE($AG$5,AF12+1+6,1)),AB22+7,"") -> 20 | AC23: =IF(MONTH(DATE($AG$5,AF12+1+6,AC22+7))=MONTH(DATE($AG$5,AF12+1+6,1)),AC22+7,"") -> 21 | AD23: =IF(MONTH(DATE($AG$5,AF12+1+6,AD22+7))=MONTH(DATE($AG$5,AF12+1+6,1)),AD22+7,"") -> 22 | AE23: =IF(MONTH(DATE($AG$5,AF12+1+6,AE22+7))=MONTH(DATE($AG$5,AF12+1+6,1)),AE22+7,"") -> 23
A24: =IF(MONTH(DATE($AG$4,AF20,A23+7))=MONTH(DATE($AG$4,AF20,1)),A23+7,"") -> 27 | B24: =IF(MONTH(DATE($AG$4,AF20,B23+7))=MONTH(DATE($AG$4,AF20,1)),B23+7,"") -> 28 | C24: =IF(MONTH(DATE($AG$4,AF20,C23+7))=MONTH(DATE($AG$4,AF20,1)),C23+7,"") -> 29 | D24: =IF(MONTH(DATE($AG$4,AF20,D23+7))=MONTH(DATE($AG$4,AF20,1)),D23+7,"") -> 30 | E24: =IF(MONTH(DATE($AG$4,AF20,E23+7))=MONTH(DATE($AG$4,AF20,1)),E23+7,"") -> 31 | F24: =IF(MONTH(DATE($AG$4,AF20,F23+7))=MONTH(DATE($AG$4,AF20,1)),F23+7,"") | G24: =IF(MONTH(DATE($AG$4,AF20,G23+7))=MONTH(DATE($AG$4,AF20,1)),G23+7,"") | I24: =IF(MONTH(DATE($AG$4,AF20+6,I23+7))=MONTH(DATE($AG$4,AF20+6,1)),I23+7,"") -> 25 | J24: =IF(MONTH(DATE($AG$4,AF20+6,J23+7))=MONTH(DATE($AG$4,AF20+6,1)),J23+7,"") -> 26 | K24: =IF(MONTH(DATE($AG$4,AF20+6,K23+7))=MONTH(DATE($AG$4,AF20+6,1)),K23+7,"") -> 27 | L24: =IF(MONTH(DATE($AG$4,AF20+6,L23+7))=MONTH(DATE($AG$4,AF20+6,1)),L23+7,"") -> 28 | M24: =IF(MONTH(DATE($AG$4,AF20+6,M23+7))=MONTH(DATE($AG$4,AF20+6,1)),M23+7,"") -> 29 | N24: =IF(MONTH(DATE($AG$4,AF20+6,N23+7))=MONTH(DATE($AG$4,AF20+6,1)),N23+7,"") -> 30 | O24: =IF(MONTH(DATE($AG$4,AF20+6,O23+7))=MONTH(DATE($AG$4,AF20+6,1)),O23+7,"") | Q24: =IF(MONTH(DATE($AG$5,AF12+1,Q23+7))=MONTH(DATE($AG$5,AF12+1,1)),Q23+7,"") -> 26 | R24: =IF(MONTH(DATE($AG$5,AF12+1,R23+7))=MONTH(DATE($AG$5,AF12+1,1)),R23+7,"") -> 27 | S24: =IF(MONTH(DATE($AG$5,AF12+1,S23+7))=MONTH(DATE($AG$5,AF12+1,1)),S23+7,"") -> 28 | T24: =IF(MONTH(DATE($AG$5,AF12+1,T23+7))=MONTH(DATE($AG$5,AF12+1,1)),T23+7,"") -> 29 | U24: =IF(MONTH(DATE($AG$5,AF12+1,U23+7))=MONTH(DATE($AG$5,AF12+1,1)),U23+7,"") -> 30 | V24: =IF(MONTH(DATE($AG$5,AF12+1,V23+7))=MONTH(DATE($AG$5,AF12+1,1)),V23+7,"") -> 31 | W24: =IF(MONTH(DATE($AG$5,AF12+1,W23+7))=MONTH(DATE($AG$5,AF12+1,1)),W23+7,"") | Y24: =IF(MONTH(DATE($AG$5,AF12+1+6,Y23+7))=MONTH(DATE($AG$5,AF12+1+6,1)),Y23+7,"") -> 24 | Z24: =IF(MONTH(DATE($AG$5,AF12+1+6,Z23+7))=MONTH(DATE($AG$5,AF12+1+6,1)),Z23+7,"") -> 25 | AA24: =IF(MONTH(DATE($AG$5,AF12+1+6,AA23+7))=MONTH(DATE($AG$5,AF12+1+6,1)),AA23+7,"") -> 26 | AB24: =IF(MONTH(DATE($AG$5,AF12+1+6,AB23+7))=MONTH(DATE($AG$5,AF12+1+6,1)),AB23+7,"") -> 27 | AC24: =IF(MONTH(DATE($AG$5,AF12+1+6,AC23+7))=MONTH(DATE($AG$5,AF12+1+6,1)),AC23+7,"") -> 28 | AD24: =IF(MONTH(DATE($AG$5,AF12+1+6,AD23+7))=MONTH(DATE($AG$5,AF12+1+6,1)),AD23+7,"") -> 29 | AE24: =IF(MONTH(DATE($AG$5,AF12+1+6,AE23+7))=MONTH(DATE($AG$5,AF12+1+6,1)),AE23+7,"") -> 30
A25: =IF(ISNUMBER(G24),IF(MONTH(DATE($AG$4,AF20,A24+7))=AF20,A24+7,""),"") | B25: =IF(ISNUMBER(A25),IF(MONTH(DATE($AG$4,AF20,B24+7))=AF20,B24+7,""),"") | C25: =IF(ISNUMBER(B25),IF(MONTH(DATE($AG$4,AF20,C24+7))=AF20,C24+7,""),"") | D25: =IF(ISNUMBER(C25),IF(MONTH(DATE($AG$4,AF20,D24+7))=AF20,D24+7,""),"") | E25: =IF(ISNUMBER(D25),IF(MONTH(DATE($AG$4,AF20,E24+7))=AF20,E24+7,""),"") | F25: =IF(ISNUMBER(E25),IF(MONTH(DATE($AG$4,AF20,F24+7))=AF20,F24+7,""),"") | G25: =IF(ISNUMBER(F25),IF(MONTH(DATE($AG$4,AF20,G24+7))=AF20,G24+7,""),"") | I25: =IF(ISNUMBER(O24),IF(MONTH(DATE($AG$4,AF20+6,I24+7))=AF20+6,I24+7,""),"") | J25: =IF(ISNUMBER(I25),IF(MONTH(DATE($AG$4,AF20+6,J24+7))=AF20+6,J24+7,""),"") | K25: =IF(ISNUMBER(J25),IF(MONTH(DATE($AG$4,AF20+6,K24+7))=AF20+6,K24+7,""),"") | L25: =IF(ISNUMBER(K25),IF(MONTH(DATE($AG$4,AF20+6,L24+7))=AF20+6,L24+7,""),"") | M25: =IF(ISNUMBER(L25),IF(MONTH(DATE($AG$4,AF20+6,M24+7))=AF20+6,M24+7,""),"") | N25: =IF(ISNUMBER(M25),IF(MONTH(DATE($AG$4,AF20+6,N24+7))=AF20+6,N24+7,""),"") | O25: =IF(ISNUMBER(N25),IF(MONTH(DATE($AG$4,AF20+6,O24+7))=AF20+6,O24+7,""),"") | Q25: =IF(ISNUMBER(W24),IF(MONTH(DATE($AG$4,AF12+1,Q24+7))=AF12+1,Q24+7,""),"") | R25: =IF(ISNUMBER(Q25),IF(MONTH(DATE($AG$4,AF12+1,R24+7))=AF12+1,R24+7,""),"") | S25: =IF(ISNUMBER(R25),IF(MONTH(DATE($AG$4,AF12+1,S24+7))=AF12+1,S24+7,""),"") | T25: =IF(ISNUMBER(S25),IF(MONTH(DATE($AG$4,AF12+1,T24+7))=AF12+1,T24+7,""),"") | U25: =IF(ISNUMBER(T25),IF(MONTH(DATE($AG$4,AF12+1,U24+7))=AF12+1,U24+7,""),"") | V25: =IF(ISNUMBER(U25),IF(MONTH(DATE($AG$4,AF12+1,V24+7))=AF12+1,V24+7,""),"") | W25: =IF(ISNUMBER(V25),IF(MONTH(DATE($AG$4,AF12+1,W24+7))=AF12+1,W24+7,""),"") | Y25: =IF(ISNUMBER(AE24),IF(MONTH(DATE($AG$4,AF12+1+6,Y24+7))=AF12+1+6,Y24+7,""),"") | Z25: =IF(ISNUMBER(Y25),IF(MONTH(DATE($AG$4,AF12+1+6,Z24+7))=AF12+1+6,Z24+7,""),"") | AA25: =IF(ISNUMBER(Z25),IF(MONTH(DATE($AG$4,AF12+1+6,AA24+7))=AF12+1+6,AA24+7,""),"") | AB25: =IF(ISNUMBER(AA25),IF(MONTH(DATE($AG$4,AF12+1+6,AB24+7))=AF12+1+6,AB24+7,""),"") | AC25: =IF(ISNUMBER(AB25),IF(MONTH(DATE($AG$4,AF12+1+6,AC24+7))=AF12+1+6,AC24+7,""),"") | AD25: =IF(ISNUMBER(AC25),IF(MONTH(DATE($AG$4,AF12+1+6,AD24+7))=AF12+1+6,AD24+7,""),"") | AE25: =IF(ISNUMBER(AD25),IF(MONTH(DATE($AG$4,AF12+1+6,AE24+7))=AF12+1+6,AE24+7,""),"") | AG25: =IF(MONTH(DATE(2003,3,62))=AF20,62,"")
A26: APR | I26: OCT | Q26: APR | Y26: OCT
A27: S | B27: M | C27: Tu | D27: W | E27: Th | F27: F | G27: S | I27: S | J27: M | K27: Tu | L27: W | M27: Th | N27: F | O27: S | Q27: S | R27: M | S27: Tu | T27: W | U27: Th | V27: F | W27: S | Y27: S | Z27: M | AA27: Tu | AB27: W | AC27: Th | AD27: F | AE27: S
A28: =IF(WEEKDAY(DATE($AG$4,AF28,1))=1,1,"") | B28: =IF(ISNUMBER(A28),A28+1,IF(WEEKDAY(DATE($AG$4,AF28,1))=2,1,"")) | C28: =IF(ISNUMBER(B28),B28+1,IF(WEEKDAY(DATE($AG$4,AF28,1))=3,1,"")) | D28: =IF(ISNUMBER(C28),C28+1,IF(WEEKDAY(DATE($AG$4,AF28,1))=4,1,"")) | E28: =IF(ISNUMBER(D28),D28+1,IF(WEEKDAY(DATE($AG$4,AF28,1))=5,1,"")) | F28: =IF(ISNUMBER(E28),E28+1,IF(WEEKDAY(DATE($AG$4,AF28,1))=6,1,"")) -> 1 | G28: =IF(ISNUMBER(F28),F28+1,IF(WEEKDAY(DATE($AG$4,AF28,1))=7,1,"")) -> 2 | I28: =IF(WEEKDAY(DATE($AG$4,AF28+6,1))=1,1,"") | J28: =IF(ISNUMBER(I28),I28+1,IF(WEEKDAY(DATE($AG$4,AF28+6,1))=2,1,"")) | K28: =IF(ISNUMBER(J28),J28+1,IF(WEEKDAY(DATE($AG$4,AF28+6,1))=3,1,"")) | L28: =IF(ISNUMBER(K28),K28+1,IF(WEEKDAY(DATE($AG$4,AF28+6,1))=4,1,"")) | M28: =IF(ISNUMBER(L28),L28+1,IF(WEEKDAY(DATE($AG$4,AF28+6,1))=5,1,"")) | N28: =IF(ISNUMBER(M28),M28+1,IF(WEEKDAY(DATE($AG$4,AF28+6,1))=6,1,"")) | O28: =IF(ISNUMBER(N28),N28+1,IF(WEEKDAY(DATE($AG$4,AF28+6,1))=7,1,"")) -> 1 | Q28: =IF(WEEKDAY(DATE($AG$5,AF20+1,1))=1,1,"") | R28: =IF(ISNUMBER(Q28),Q28+1,IF(WEEKDAY(DATE($AG$5,AF20+1,1))=2,1,"")) | S28: =IF(ISNUMBER(R28),R28+1,IF(WEEKDAY(DATE($AG$5,AF20+1,1))=3,1,"")) | T28: =IF(ISNUMBER(S28),S28+1,IF(WEEKDAY(DATE($AG$5,AF20+1,1))=4,1,"")) | U28: =IF(ISNUMBER(T28),T28+1,IF(WEEKDAY(DATE($AG$5,AF20+1,1))=5,1,"")) | V28: =IF(ISNUMBER(U28),U28+1,IF(WEEKDAY(DATE($AG$5,AF20+1,1))=6,1,"")) | W28: =IF(ISNUMBER(V28),V28+1,IF(WEEKDAY(DATE($AG$5,AF20+1,1))=7,1,"")) -> 1 | Y28: =IF(WEEKDAY(DATE($AG$5,AF20+1+6,1))=1,1,"") -> 1 | Z28: =IF(ISNUMBER(Y28),Y28+1,IF(WEEKDAY(DATE($AG$5,AF20+1+6,1))=2,1,"")) -> 2 | AA28: =IF(ISNUMBER(Z28),Z28+1,IF(WEEKDAY(DATE($AG$5,AF20+1+6,1))=3,1,"")) -> 3 | AB28: =IF(ISNUMBER(AA28),AA28+1,IF(WEEKDAY(DATE($AG$5,AF20+1+6,1))=4,1,"")) -> 4 | AC28: =IF(ISNUMBER(AB28),AB28+1,IF(WEEKDAY(DATE($AG$5,AF20+1+6,1))=5,1,"")) -> 5 | AD28: =IF(ISNUMBER(AC28),AC28+1,IF(WEEKDAY(DATE($AG$5,AF20+1+6,1))=6,1,"")) -> 6 | AE28: =IF(ISNUMBER(AD28),AD28+1,IF(WEEKDAY(DATE($AG$5,AF20+1+6,1))=7,1,"")) -> 7 | AF28: =+AF20+1 -> 4
A29: =IF(ISNUMBER(A28),A28+7,G28+1) -> 3 | B29: =IF(ISNUMBER(B28),B28+7,A29+1) -> 4 | C29: =IF(ISNUMBER(C28),C28+7,B29+1) -> 5 | D29: =IF(ISNUMBER(D28),D28+7,C29+1) -> 6 | E29: =IF(ISNUMBER(E28),E28+7,D29+1) -> 7 | F29: =IF(ISNUMBER(F28),F28+7,E29+1) -> 8 | G29: =IF(ISNUMBER(G28),G28+7,F29+1) -> 9 | I29: =IF(ISNUMBER(I28),I28+7,O28+1) -> 2 | J29: =IF(ISNUMBER(J28),J28+7,I29+1) -> 3 | K29: =IF(ISNUMBER(K28),K28+7,J29+1) -> 4 | L29: =IF(ISNUMBER(L28),L28+7,K29+1) -> 5 | M29: =IF(ISNUMBER(M28),M28+7,L29+1) -> 6 | N29: =IF(ISNUMBER(N28),N28+7,M29+1) -> 7 | O29: =IF(ISNUMBER(O28),O28+7,N29+1) -> 8 | Q29: =IF(ISNUMBER(Q28),Q28+7,W28+1) -> 2 | R29: =IF(ISNUMBER(R28),R28+7,Q29+1) -> 3 | S29: =IF(ISNUMBER(S28),S28+7,R29+1) -> 4 | T29: =IF(ISNUMBER(T28),T28+7,S29+1) -> 5 | U29: =IF(ISNUMBER(U28),U28+7,T29+1) -> 6 | V29: =IF(ISNUMBER(V28),V28+7,U29+1) -> 7 | W29: =IF(ISNUMBER(W28),W28+7,V29+1) -> 8 | Y29: =IF(ISNUMBER(Y28),Y28+7,AE28+1) -> 8 | Z29: =IF(ISNUMBER(Z28),Z28+7,Y29+1) -> 9 | AA29: =IF(ISNUMBER(AA28),AA28+7,Z29+1) -> 10 | AB29: =IF(ISNUMBER(AB28),AB28+7,AA29+1) -> 11 | AC29: =IF(ISNUMBER(AC28),AC28+7,AB29+1) -> 12 | AD29: =IF(ISNUMBER(AD28),AD28+7,AC29+1) -> 13 | AE29: =IF(ISNUMBER(AE28),AE28+7,AD29+1) -> 14
A30: =+A29+7 -> 10 | B30: =+B29+7 -> 11 | C30: =+C29+7 -> 12 | D30: =+D29+7 -> 13 | E30: =+E29+7 -> 14 | F30: =+F29+7 -> 15 | G30: =+G29+7 -> 16 | I30: =+I29+7 -> 9 | J30: =+J29+7 -> 10 | K30: =+K29+7 -> 11 | L30: =+L29+7 -> 12 | M30: =+M29+7 -> 13 | N30: =+N29+7 -> 14 | O30: =+O29+7 -> 15 | Q30: =+Q29+7 -> 9 | R30: =+R29+7 -> 10 | S30: =+S29+7 -> 11 | T30: =+T29+7 -> 12 | U30: =+U29+7 -> 13 | V30: =+V29+7 -> 14 | W30: =+W29+7 -> 15 | Y30: =+Y29+7 -> 15 | Z30: =+Z29+7 -> 16 | AA30: =+AA29+7 -> 17 | AB30: =+AB29+7 -> 18 | AC30: =+AC29+7 -> 19 | AD30: =+AD29+7 -> 20 | AE30: =+AE29+7 -> 21
A31: =IF(MONTH(DATE($AG$4,AF28,A30+7))=MONTH(DATE($AG$4,AF28,1)),A30+7,"") -> 17 | B31: =IF(MONTH(DATE($AG$4,AF28,B30+7))=MONTH(DATE($AG$4,AF28,1)),B30+7,"") -> 18 | C31: =IF(MONTH(DATE($AG$4,AF28,C30+7))=MONTH(DATE($AG$4,AF28,1)),C30+7,"") -> 19 | D31: =IF(MONTH(DATE($AG$4,AF28,D30+7))=MONTH(DATE($AG$4,AF28,1)),D30+7,"") -> 20 | E31: =IF(MONTH(DATE($AG$4,AF28,E30+7))=MONTH(DATE($AG$4,AF28,1)),E30+7,"") -> 21 | F31: =IF(MONTH(DATE($AG$4,AF28,F30+7))=MONTH(DATE($AG$4,AF28,1)),F30+7,"") -> 22 | G31: =IF(MONTH(DATE($AG$4,AF28,G30+7))=MONTH(DATE($AG$4,AF28,1)),G30+7,"") -> 23 | I31: =IF(MONTH(DATE($AG$4,AF28+6,I30+7))=MONTH(DATE($AG$4,AF28+6,1)),I30+7,"") -> 16 | J31: =IF(MONTH(DATE($AG$4,AF28+6,J30+7))=MONTH(DATE($AG$4,AF28+6,1)),J30+7,"") -> 17 | K31: =IF(MONTH(DATE($AG$4,AF28+6,K30+7))=MONTH(DATE($AG$4,AF28+6,1)),K30+7,"") -> 18 | L31: =IF(MONTH(DATE($AG$4,AF28+6,L30+7))=MONTH(DATE($AG$4,AF28+6,1)),L30+7,"") -> 19 | M31: =IF(MONTH(DATE($AG$4,AF28+6,M30+7))=MONTH(DATE($AG$4,AF28+6,1)),M30+7,"") -> 20 | N31: =IF(MONTH(DATE($AG$4,AF28+6,N30+7))=MONTH(DATE($AG$4,AF28+6,1)),N30+7,"") -> 21 | O31: =IF(MONTH(DATE($AG$4,AF28+6,O30+7))=MONTH(DATE($AG$4,AF28+6,1)),O30+7,"") -> 22 | Q31: =IF(MONTH(DATE($AG$5,AF20+1,Q30+7))=MONTH(DATE($AG$5,AF20+1,1)),Q30+7,"") -> 16 | R31: =IF(MONTH(DATE($AG$5,AF20+1,R30+7))=MONTH(DATE($AG$5,AF20+1,1)),R30+7,"") -> 17 | S31: =IF(MONTH(DATE($AG$5,AF20+1,S30+7))=MONTH(DATE($AG$5,AF20+1,1)),S30+7,"") -> 18 | T31: =IF(MONTH(DATE($AG$5,AF20+1,T30+7))=MONTH(DATE($AG$5,AF20+1,1)),T30+7,"") -> 19 | U31: =IF(MONTH(DATE($AG$5,AF20+1,U30+7))=MONTH(DATE($AG$5,AF20+1,1)),U30+7,"") -> 20 | V31: =IF(MONTH(DATE($AG$5,AF20+1,V30+7))=MONTH(DATE($AG$5,AF20+1,1)),V30+7,"") -> 21 | W31: =IF(MONTH(DATE($AG$5,AF20+1,W30+7))=MONTH(DATE($AG$5,AF20+1,1)),W30+7,"") -> 22 | Y31: =IF(MONTH(DATE($AG$5,AF20+1+6,Y30+7))=MONTH(DATE($AG$5,AF20+1+6,1)),Y30+7,"") -> 22 | Z31: =IF(MONTH(DATE($AG$5,AF20+1+6,Z30+7))=MONTH(DATE($AG$5,AF20+1+6,1)),Z30+7,"") -> 23 | AA31: =IF(MONTH(DATE($AG$5,AF20+1+6,AA30+7))=MONTH(DATE($AG$5,AF20+1+6,1)),AA30+7,"") -> 24 | AB31: =IF(MONTH(DATE($AG$5,AF20+1+6,AB30+7))=MONTH(DATE($AG$5,AF20+1+6,1)),AB30+7,"") -> 25 | AC31: =IF(MONTH(DATE($AG$5,AF20+1+6,AC30+7))=MONTH(DATE($AG$5,AF20+1+6,1)),AC30+7,"") -> 26 | AD31: =IF(MONTH(DATE($AG$5,AF20+1+6,AD30+7))=MONTH(DATE($AG$5,AF20+1+6,1)),AD30+7,"") -> 27 | AE31: =IF(MONTH(DATE($AG$5,AF20+1+6,AE30+7))=MONTH(DATE($AG$5,AF20+1+6,1)),AE30+7,"") -> 28
A32: =IF(MONTH(DATE($AG$4,AF28,A31+7))=MONTH(DATE($AG$4,AF28,1)),A31+7,"") -> 24 | B32: =IF(MONTH(DATE($AG$4,AF28,B31+7))=MONTH(DATE($AG$4,AF28,1)),B31+7,"") -> 25 | C32: =IF(MONTH(DATE($AG$4,AF28,C31+7))=MONTH(DATE($AG$4,AF28,1)),C31+7,"") -> 26 | D32: =IF(MONTH(DATE($AG$4,AF28,D31+7))=MONTH(DATE($AG$4,AF28,1)),D31+7,"") -> 27 | E32: =IF(MONTH(DATE($AG$4,AF28,E31+7))=MONTH(DATE($AG$4,AF28,1)),E31+7,"") -> 28 | F32: =IF(MONTH(DATE($AG$4,AF28,F31+7))=MONTH(DATE($AG$4,AF28,1)),F31+7,"") -> 29 | G32: =IF(MONTH(DATE($AG$4,AF28,G31+7))=MONTH(DATE($AG$4,AF28,1)),G31+7,"") -> 30 | I32: =IF(MONTH(DATE($AG$4,AF28+6,I31+7))=MONTH(DATE($AG$4,AF28+6,1)),I31+7,"") -> 23 | J32: =IF(MONTH(DATE($AG$4,AF28+6,J31+7))=MONTH(DATE($AG$4,AF28+6,1)),J31+7,"") -> 24 | K32: =IF(MONTH(DATE($AG$4,AF28+6,K31+7))=MONTH(DATE($AG$4,AF28+6,1)),K31+7,"") -> 25 | L32: =IF(MONTH(DATE($AG$4,AF28+6,L31+7))=MONTH(DATE($AG$4,AF28+6,1)),L31+7,"") -> 26 | M32: =IF(MONTH(DATE($AG$4,AF28+6,M31+7))=MONTH(DATE($AG$4,AF28+6,1)),M31+7,"") -> 27 | N32: =IF(MONTH(DATE($AG$4,AF28+6,N31+7))=MONTH(DATE($AG$4,AF28+6,1)),N31+7,"") -> 28 | O32: =IF(MONTH(DATE($AG$4,AF28+6,O31+7))=MONTH(DATE($AG$4,AF28+6,1)),O31+7,"") -> 29 | Q32: =IF(MONTH(DATE($AG$5,AF20+1,Q31+7))=MONTH(DATE($AG$5,AF20+1,1)),Q31+7,"") -> 23 | R32: =IF(MONTH(DATE($AG$5,AF20+1,R31+7))=MONTH(DATE($AG$5,AF20+1,1)),R31+7,"") -> 24 | S32: =IF(MONTH(DATE($AG$5,AF20+1,S31+7))=MONTH(DATE($AG$5,AF20+1,1)),S31+7,"") -> 25 | T32: =IF(MONTH(DATE($AG$5,AF20+1,T31+7))=MONTH(DATE($AG$5,AF20+1,1)),T31+7,"") -> 26 | U32: =IF(MONTH(DATE($AG$5,AF20+1,U31+7))=MONTH(DATE($AG$5,AF20+1,1)),U31+7,"") -> 27 | V32: =IF(MONTH(DATE($AG$5,AF20+1,V31+7))=MONTH(DATE($AG$5,AF20+1,1)),V31+7,"") -> 28 | W32: =IF(MONTH(DATE($AG$5,AF20+1,W31+7))=MONTH(DATE($AG$5,AF20+1,1)),W31+7,"") -> 29 | Y32: =IF(MONTH(DATE($AG$5,AF20+1+6,Y31+7))=MONTH(DATE($AG$5,AF20+1+6,1)),Y31+7,"") -> 29 | Z32: =IF(MONTH(DATE($AG$5,AF20+1+6,Z31+7))=MONTH(DATE($AG$5,AF20+1+6,1)),Z31+7,"") -> 30 | AA32: =IF(MONTH(DATE($AG$5,AF20+1+6,AA31+7))=MONTH(DATE($AG$5,AF20+1+6,1)),AA31+7,"") -> 31 | AB32: =IF(MONTH(DATE($AG$5,AF20+1+6,AB31+7))=MONTH(DATE($AG$5,AF20+1+6,1)),AB31+7,"") | AC32: =IF(MONTH(DATE($AG$5,AF20+1+6,AC31+7))=MONTH(DATE($AG$5,AF20+1+6,1)),AC31+7,"") | AD32: =IF(MONTH(DATE($AG$5,AF20+1+6,AD31+7))=MONTH(DATE($AG$5,AF20+1+6,1)),AD31+7,"") | AE32: =IF(MONTH(DATE($AG$5,AF20+1+6,AE31+7))=MONTH(DATE($AG$5,AF20+1+6,1)),AE31+7,"")
A33: =IF(ISNUMBER(G32),IF(MONTH(DATE($AG$4,AF28,A32+7))=AF28,A32+7,""),"") | B33: =IF(ISNUMBER(A33),IF(MONTH(DATE($AG$4,AF28,B32+7))=AF28,B32+7,""),"") | C33: =IF(ISNUMBER(B33),IF(MONTH(DATE($AG$4,AF28,C32+7))=AF28,C32+7,""),"") | D33: =IF(ISNUMBER(C33),IF(MONTH(DATE($AG$4,AF28,D32+7))=AF28,D32+7,""),"") | E33: =IF(ISNUMBER(D33),IF(MONTH(DATE($AG$4,AF28,E32+7))=AF28,E32+7,""),"") | F33: =IF(ISNUMBER(E33),IF(MONTH(DATE($AG$4,AF28,F32+7))=AF28,F32+7,""),"") | G33: =IF(ISNUMBER(F33),IF(MONTH(DATE($AG$4,AF28,G32+7))=AF28,G32+7,""),"") | I33: =IF(ISNUMBER(O32),IF(MONTH(DATE($AG$4,AF28+6,I32+7))=AF28+6,I32+7,""),"") -> 30 | J33: =IF(ISNUMBER(I33),IF(MONTH(DATE($AG$4,AF28+6,J32+7))=AF28+6,J32+7,""),"") -> 31 | K33: =IF(ISNUMBER(J33),IF(MONTH(DATE($AG$4,AF28+6,K32+7))=AF28+6,K32+7,""),"") | L33: =IF(ISNUMBER(K33),IF(MONTH(DATE($AG$4,AF28+6,L32+7))=AF28+6,L32+7,""),"") | M33: =IF(ISNUMBER(L33),IF(MONTH(DATE($AG$4,AF28+6,M32+7))=AF28+6,M32+7,""),"") | N33: =IF(ISNUMBER(M33),IF(MONTH(DATE($AG$4,AF28+6,N32+7))=AF28+6,N32+7,""),"") | O33: =IF(ISNUMBER(N33),IF(MONTH(DATE($AG$4,AF28+6,O32+7))=AF28+6,O32+7,""),"") | Q33: =IF(ISNUMBER(W32),IF(MONTH(DATE($AG$4,AF20+1,Q32+7))=AF20+1,Q32+7,""),"") -> 30 | R33: =IF(ISNUMBER(Q33),IF(MONTH(DATE($AG$4,AF20+1,R32+7))=AF20+1,R32+7,""),"") | S33: =IF(ISNUMBER(R33),IF(MONTH(DATE($AG$4,AF20+1,S32+7))=AF20+1,S32+7,""),"") | T33: =IF(ISNUMBER(S33),IF(MONTH(DATE($AG$4,AF20+1,T32+7))=AF20+1,T32+7,""),"") | U33: =IF(ISNUMBER(T33),IF(MONTH(DATE($AG$4,AF20+1,U32+7))=AF20+1,U32+7,""),"") | V33: =IF(ISNUMBER(U33),IF(MONTH(DATE($AG$4,AF20+1,V32+7))=AF20+1,V32+7,""),"") | W33: =IF(ISNUMBER(V33),IF(MONTH(DATE($AG$4,AF20+1,W32+7))=AF20+1,W32+7,""),"") | Y33: =IF(ISNUMBER(AE32),IF(MONTH(DATE($AG$4,AF20+1+6,Y32+7))=AF20+1+6,Y32+7,""),"") | Z33: =IF(ISNUMBER(Y33),IF(MONTH(DATE($AG$4,AF20+1+6,Z32+7))=AF20+1+6,Z32+7,""),"") | AA33: =IF(ISNUMBER(Z33),IF(MONTH(DATE($AG$4,AF20+1+6,AA32+7))=AF20+1+6,AA32+7,""),"") | AB33: =IF(ISNUMBER(AA33),IF(MONTH(DATE($AG$4,AF20+1+6,AB32+7))=AF20+1+6,AB32+7,""),"") | AC33: =IF(ISNUMBER(AB33),IF(MONTH(DATE($AG$4,AF20+1+6,AC32+7))=AF20+1+6,AC32+7,""),"") | AD33: =IF(ISNUMBER(AC33),IF(MONTH(DATE($AG$4,AF20+1+6,AD32+7))=AF20+1+6,AD32+7,""),"") | AE33: =IF(ISNUMBER(AD33),IF(MONTH(DATE($AG$4,AF20+1+6,AE32+7))=AF20+1+6,AE32+7,""),"")
A34: MAY | I34: NOV | Q34: MAY | Y34: NOV
A35: S | B35: M | C35: Tu | D35: W | E35: Th | F35: F | G35: S | I35: S | J35: M | K35: Tu | L35: W | M35: Th | N35: F | O35: S | Q35: S | R35: M | S35: Tu | T35: W | U35: Th | V35: F | W35: S | Y35: S | Z35: M | AA35: Tu | AB35: W | AC35: Th | AD35: F | AE35: S
A36: =IF(WEEKDAY(DATE($AG$4,AF36,1))=1,1,"") -> 1 | B36: =IF(ISNUMBER(A36),A36+1,IF(WEEKDAY(DATE($AG$4,AF36,1))=2,1,"")) -> 2 | C36: =IF(ISNUMBER(B36),B36+1,IF(WEEKDAY(DATE($AG$4,AF36,1))=3,1,"")) -> 3 | D36: =IF(ISNUMBER(C36),C36+1,IF(WEEKDAY(DATE($AG$4,AF36,1))=4,1,"")) -> 4 | E36: =IF(ISNUMBER(D36),D36+1,IF(WEEKDAY(DATE($AG$4,AF36,1))=5,1,"")) -> 5 | F36: =IF(ISNUMBER(E36),E36+1,IF(WEEKDAY(DATE($AG$4,AF36,1))=6,1,"")) -> 6 | G36: =IF(ISNUMBER(F36),F36+1,IF(WEEKDAY(DATE($AG$4,AF36,1))=7,1,"")) -> 7 | I36: =IF(WEEKDAY(DATE($AG$4,AF36+6,1))=1,1,"") | J36: =IF(ISNUMBER(I36),I36+1,IF(WEEKDAY(DATE($AG$4,AF36+6,1))=2,1,"")) | K36: =IF(ISNUMBER(J36),J36+1,IF(WEEKDAY(DATE($AG$4,AF36+6,1))=3,1,"")) -> 1 | L36: =IF(ISNUMBER(K36),K36+1,IF(WEEKDAY(DATE($AG$4,AF36+6,1))=4,1,"")) -> 2 | M36: =IF(ISNUMBER(L36),L36+1,IF(WEEKDAY(DATE($AG$4,AF36+6,1))=5,1,"")) -> 3 | N36: =IF(ISNUMBER(M36),M36+1,IF(WEEKDAY(DATE($AG$4,AF36+6,1))=6,1,"")) -> 4 | O36: =IF(ISNUMBER(N36),N36+1,IF(WEEKDAY(DATE($AG$4,AF36+6,1))=7,1,"")) -> 5 | Q36: =IF(WEEKDAY(DATE($AG$5,AF28+1,1))=1,1,"") | R36: =IF(ISNUMBER(Q36),Q36+1,IF(WEEKDAY(DATE($AG$5,AF28+1,1))=2,1,"")) -> 1 | S36: =IF(ISNUMBER(R36),R36+1,IF(WEEKDAY(DATE($AG$5,AF28+1,1))=3,1,"")) -> 2 | T36: =IF(ISNUMBER(S36),S36+1,IF(WEEKDAY(DATE($AG$5,AF28+1,1))=4,1,"")) -> 3 | U36: =IF(ISNUMBER(T36),T36+1,IF(WEEKDAY(DATE($AG$5,AF28+1,1))=5,1,"")) -> 4 | V36: =IF(ISNUMBER(U36),U36+1,IF(WEEKDAY(DATE($AG$5,AF28+1,1))=6,1,"")) -> 5 | W36: =IF(ISNUMBER(V36),V36+1,IF(WEEKDAY(DATE($AG$5,AF28+1,1))=7,1,"")) -> 6 | Y36: =IF(WEEKDAY(DATE($AG$5,AF28+1+6,1))=1,1,"") | Z36: =IF(ISNUMBER(Y36),Y36+1,IF(WEEKDAY(DATE($AG$5,AF28+1+6,1))=2,1,"")) | AA36: =IF(ISNUMBER(Z36),Z36+1,IF(WEEKDAY(DATE($AG$5,AF28+1+6,1))=3,1,"")) | AB36: =IF(ISNUMBER(AA36),AA36+1,IF(WEEKDAY(DATE($AG$5,AF28+1+6,1))=4,1,"")) -> 1 | AC36: =IF(ISNUMBER(AB36),AB36+1,IF(WEEKDAY(DATE($AG$5,AF28+1+6,1))=5,1,"")) -> 2 | AD36: =IF(ISNUMBER(AC36),AC36+1,IF(WEEKDAY(DATE($AG$5,AF28+1+6,1))=6,1,"")) -> 3 | AE36: =IF(ISNUMBER(AD36),AD36+1,IF(WEEKDAY(DATE($AG$5,AF28+1+6,1))=7,1,"")) -> 4 | AF36: =+AF28+1 -> 5
A37: =IF(ISNUMBER(A36),A36+7,G36+1) -> 8 | B37: =IF(ISNUMBER(B36),B36+7,A37+1) -> 9 | C37: =IF(ISNUMBER(C36),C36+7,B37+1) -> 10 | D37: =IF(ISNUMBER(D36),D36+7,C37+1) -> 11 | E37: =IF(ISNUMBER(E36),E36+7,D37+1) -> 12 | F37: =IF(ISNUMBER(F36),F36+7,E37+1) -> 13 | G37: =IF(ISNUMBER(G36),G36+7,F37+1) -> 14 | I37: =IF(ISNUMBER(I36),I36+7,O36+1) -> 6 | J37: =IF(ISNUMBER(J36),J36+7,I37+1) -> 7 | K37: =IF(ISNUMBER(K36),K36+7,J37+1) -> 8 | L37: =IF(ISNUMBER(L36),L36+7,K37+1) -> 9 | M37: =IF(ISNUMBER(M36),M36+7,L37+1) -> 10 | N37: =IF(ISNUMBER(N36),N36+7,M37+1) -> 11 | O37: =IF(ISNUMBER(O36),O36+7,N37+1) -> 12 | Q37: =IF(ISNUMBER(Q36),Q36+7,W36+1) -> 7 | R37: =IF(ISNUMBER(R36),R36+7,Q37+1) -> 8 | S37: =IF(ISNUMBER(S36),S36+7,R37+1) -> 9 | T37: =IF(ISNUMBER(T36),T36+7,S37+1) -> 10 | U37: =IF(ISNUMBER(U36),U36+7,T37+1) -> 11 | V37: =IF(ISNUMBER(V36),V36+7,U37+1) -> 12 | W37: =IF(ISNUMBER(W36),W36+7,V37+1) -> 13 | Y37: =IF(ISNUMBER(Y36),Y36+7,AE36+1) -> 5 | Z37: =IF(ISNUMBER(Z36),Z36+7,Y37+1) -> 6 | AA37: =IF(ISNUMBER(AA36),AA36+7,Z37+1) -> 7 | AB37: =IF(ISNUMBER(AB36),AB36+7,AA37+1) -> 8 | AC37: =IF(ISNUMBER(AC36),AC36+7,AB37+1) -> 9 | AD37: =IF(ISNUMBER(AD36),AD36+7,AC37+1) -> 10 | AE37: =IF(ISNUMBER(AE36),AE36+7,AD37+1) -> 11
A38: =+A37+7 -> 15 | B38: =+B37+7 -> 16 | C38: =+C37+7 -> 17 | D38: =+D37+7 -> 18 | E38: =+E37+7 -> 19 | F38: =+F37+7 -> 20 | G38: =+G37+7 -> 21 | I38: =+I37+7 -> 13 | J38: =+J37+7 -> 14 | K38: =+K37+7 -> 15 | L38: =+L37+7 -> 16 | M38: =+M37+7 -> 17 | N38: =+N37+7 -> 18 | O38: =+O37+7 -> 19 | Q38: =+Q37+7 -> 14 | R38: =+R37+7 -> 15 | S38: =+S37+7 -> 16 | T38: =+T37+7 -> 17 | U38: =+U37+7 -> 18 | V38: =+V37+7 -> 19 | W38: =+W37+7 -> 20 | Y38: =+Y37+7 -> 12 | Z38: =+Z37+7 -> 13 | AA38: =+AA37+7 -> 14 | AB38: =+AB37+7 -> 15 | AC38: =+AC37+7 -> 16 | AD38: =+AD37+7 -> 17 | AE38: =+AE37+7 -> 18
A39: =IF(MONTH(DATE($AG$4,AF36,A38+7))=MONTH(DATE($AG$4,AF36,1)),A38+7,"") -> 22 | B39: =IF(MONTH(DATE($AG$4,AF36,B38+7))=MONTH(DATE($AG$4,AF36,1)),B38+7,"") -> 23 | C39: =IF(MONTH(DATE($AG$4,AF36,C38+7))=MONTH(DATE($AG$4,AF36,1)),C38+7,"") -> 24 | D39: =IF(MONTH(DATE($AG$4,AF36,D38+7))=MONTH(DATE($AG$4,AF36,1)),D38+7,"") -> 25 | E39: =IF(MONTH(DATE($AG$4,AF36,E38+7))=MONTH(DATE($AG$4,AF36,1)),E38+7,"") -> 26 | F39: =IF(MONTH(DATE($AG$4,AF36,F38+7))=MONTH(DATE($AG$4,AF36,1)),F38+7,"") -> 27 | G39: =IF(MONTH(DATE($AG$4,AF36,G38+7))=MONTH(DATE($AG$4,AF36,1)),G38+7,"") -> 28 | I39: =IF(MONTH(DATE($AG$4,AF36+6,I38+7))=MONTH(DATE($AG$4,AF36+6,1)),I38+7,"") -> 20 | J39: =IF(MONTH(DATE($AG$4,AF36+6,J38+7))=MONTH(DATE($AG$4,AF36+6,1)),J38+7,"") -> 21 | K39: =IF(MONTH(DATE($AG$4,AF36+6,K38+7))=MONTH(DATE($AG$4,AF36+6,1)),K38+7,"") -> 22 | L39: =IF(MONTH(DATE($AG$4,AF36+6,L38+7))=MONTH(DATE($AG$4,AF36+6,1)),L38+7,"") -> 23 | M39: =IF(MONTH(DATE($AG$4,AF36+6,M38+7))=MONTH(DATE($AG$4,AF36+6,1)),M38+7,"") -> 24 | N39: =IF(MONTH(DATE($AG$4,AF36+6,N38+7))=MONTH(DATE($AG$4,AF36+6,1)),N38+7,"") -> 25 | O39: =IF(MONTH(DATE($AG$4,AF36+6,O38+7))=MONTH(DATE($AG$4,AF36+6,1)),O38+7,"") -> 26 | Q39: =IF(MONTH(DATE($AG$5,AF28+1,Q38+7))=MONTH(DATE($AG$5,AF28+1,1)),Q38+7,"") -> 21 | R39: =IF(MONTH(DATE($AG$5,AF28+1,R38+7))=MONTH(DATE($AG$5,AF28+1,1)),R38+7,"") -> 22 | S39: =IF(MONTH(DATE($AG$5,AF28+1,S38+7))=MONTH(DATE($AG$5,AF28+1,1)),S38+7,"") -> 23 | T39: =IF(MONTH(DATE($AG$5,AF28+1,T38+7))=MONTH(DATE($AG$5,AF28+1,1)),T38+7,"") -> 24 | U39: =IF(MONTH(DATE($AG$5,AF28+1,U38+7))=MONTH(DATE($AG$5,AF28+1,1)),U38+7,"") -> 25 | V39: =IF(MONTH(DATE($AG$5,AF28+1,V38+7))=MONTH(DATE($AG$5,AF28+1,1)),V38+7,"") -> 26 | W39: =IF(MONTH(DATE($AG$5,AF28+1,W38+7))=MONTH(DATE($AG$5,AF28+1,1)),W38+7,"") -> 27 | Y39: =IF(MONTH(DATE($AG$5,AF28+1+6,Y38+7))=MONTH(DATE($AG$5,AF28+1+6,1)),Y38+7,"") -> 19 | Z39: =IF(MONTH(DATE($AG$5,AF28+1+6,Z38+7))=MONTH(DATE($AG$5,AF28+1+6,1)),Z38+7,"") -> 20 | AA39: =IF(MONTH(DATE($AG$5,AF28+1+6,AA38+7))=MONTH(DATE($AG$5,AF28+1+6,1)),AA38+7,"") -> 21 | AB39: =IF(MONTH(DATE($AG$5,AF28+1+6,AB38+7))=MONTH(DATE($AG$5,AF28+1+6,1)),AB38+7,"") -> 22 | AC39: =IF(MONTH(DATE($AG$5,AF28+1+6,AC38+7))=MONTH(DATE($AG$5,AF28+1+6,1)),AC38+7,"") -> 23 | AD39: =IF(MONTH(DATE($AG$5,AF28+1+6,AD38+7))=MONTH(DATE($AG$5,AF28+1+6,1)),AD38+7,"") -> 24 | AE39: =IF(MONTH(DATE($AG$5,AF28+1+6,AE38+7))=MONTH(DATE($AG$5,AF28+1+6,1)),AE38+7,"") -> 25
A40: =IF(MONTH(DATE($AG$4,AF36,A39+7))=MONTH(DATE($AG$4,AF36,1)),A39+7,"") -> 29 | B40: =IF(MONTH(DATE($AG$4,AF36,B39+7))=MONTH(DATE($AG$4,AF36,1)),B39+7,"") -> 30 | C40: =IF(MONTH(DATE($AG$4,AF36,C39+7))=MONTH(DATE($AG$4,AF36,1)),C39+7,"") -> 31 | D40: =IF(MONTH(DATE($AG$4,AF36,D39+7))=MONTH(DATE($AG$4,AF36,1)),D39+7,"") | E40: =IF(MONTH(DATE($AG$4,AF36,E39+7))=MONTH(DATE($AG$4,AF36,1)),E39+7,"") | F40: =IF(MONTH(DATE($AG$4,AF36,F39+7))=MONTH(DATE($AG$4,AF36,1)),F39+7,"") | G40: =IF(MONTH(DATE($AG$4,AF36,G39+7))=MONTH(DATE($AG$4,AF36,1)),G39+7,"") | I40: =IF(MONTH(DATE($AG$4,AF36+6,I39+7))=MONTH(DATE($AG$4,AF36+6,1)),I39+7,"") -> 27 | J40: =IF(MONTH(DATE($AG$4,AF36+6,J39+7))=MONTH(DATE($AG$4,AF36+6,1)),J39+7,"") -> 28 | K40: =IF(MONTH(DATE($AG$4,AF36+6,K39+7))=MONTH(DATE($AG$4,AF36+6,1)),K39+7,"") -> 29 | L40: =IF(MONTH(DATE($AG$4,AF36+6,L39+7))=MONTH(DATE($AG$4,AF36+6,1)),L39+7,"") -> 30 | M40: =IF(MONTH(DATE($AG$4,AF36+6,M39+7))=MONTH(DATE($AG$4,AF36+6,1)),M39+7,"") | N40: =IF(MONTH(DATE($AG$4,AF36+6,N39+7))=MONTH(DATE($AG$4,AF36+6,1)),N39+7,"") | O40: =IF(MONTH(DATE($AG$4,AF36+6,O39+7))=MONTH(DATE($AG$4,AF36+6,1)),O39+7,"") | Q40: =IF(MONTH(DATE($AG$5,AF28+1,Q39+7))=MONTH(DATE($AG$5,AF28+1,1)),Q39+7,"") -> 28 | R40: =IF(MONTH(DATE($AG$5,AF28+1,R39+7))=MONTH(DATE($AG$5,AF28+1,1)),R39+7,"") -> 29 | S40: =IF(MONTH(DATE($AG$5,AF28+1,S39+7))=MONTH(DATE($AG$5,AF28+1,1)),S39+7,"") -> 30 | T40: =IF(MONTH(DATE($AG$5,AF28+1,T39+7))=MONTH(DATE($AG$5,AF28+1,1)),T39+7,"") -> 31 | U40: =IF(MONTH(DATE($AG$5,AF28+1,U39+7))=MONTH(DATE($AG$5,AF28+1,1)),U39+7,"") | V40: =IF(MONTH(DATE($AG$5,AF28+1,V39+7))=MONTH(DATE($AG$5,AF28+1,1)),V39+7,"") | W40: =IF(MONTH(DATE($AG$5,AF28+1,W39+7))=MONTH(DATE($AG$5,AF28+1,1)),W39+7,"") | Y40: =IF(MONTH(DATE($AG$5,AF28+1+6,Y39+7))=MONTH(DATE($AG$5,AF28+1+6,1)),Y39+7,"") -> 26 | Z40: =IF(MONTH(DATE($AG$5,AF28+1+6,Z39+7))=MONTH(DATE($AG$5,AF28+1+6,1)),Z39+7,"") -> 27 | AA40: =IF(MONTH(DATE($AG$5,AF28+1+6,AA39+7))=MONTH(DATE($AG$5,AF28+1+6,1)),AA39+7,"") -> 28 | AB40: =IF(MONTH(DATE($AG$5,AF28+1+6,AB39+7))=MONTH(DATE($AG$5,AF28+1+6,1)),AB39+7,"") -> 29 | AC40: =IF(MONTH(DATE($AG$5,AF28+1+6,AC39+7))=MONTH(DATE($AG$5,AF28+1+6,1)),AC39+7,"") -> 30 | AD40: =IF(MONTH(DATE($AG$5,AF28+1+6,AD39+7))=MONTH(DATE($AG$5,AF28+1+6,1)),AD39+7,"") | AE40: =IF(MONTH(DATE($AG$5,AF28+1+6,AE39+7))=MONTH(DATE($AG$5,AF28+1+6,1)),AE39+7,"")
A41: =IF(ISNUMBER(G40),IF(MONTH(DATE($AG$4,AF36,A40+7))=AF36,A40+7,""),"") | B41: =IF(ISNUMBER(A41),IF(MONTH(DATE($AG$4,AF36,B40+7))=AF36,B40+7,""),"") | C41: =IF(ISNUMBER(B41),IF(MONTH(DATE($AG$4,AF36,C40+7))=AF36,C40+7,""),"") | D41: =IF(ISNUMBER(C41),IF(MONTH(DATE($AG$4,AF36,D40+7))=AF36,D40+7,""),"") | E41: =IF(ISNUMBER(D41),IF(MONTH(DATE($AG$4,AF36,E40+7))=AF36,E40+7,""),"") | F41: =IF(ISNUMBER(E41),IF(MONTH(DATE($AG$4,AF36,F40+7))=AF36,F40+7,""),"") | G41: =IF(ISNUMBER(F41),IF(MONTH(DATE($AG$4,AF36,G40+7))=AF36,G40+7,""),"") | I41: =IF(ISNUMBER(O40),IF(MONTH(DATE($AG$4,AF36+6,I40+7))=AF36+6,I40+7,""),"") | J41: =IF(ISNUMBER(I41),IF(MONTH(DATE($AG$4,AF36+6,J40+7))=AF36+6,J40+7,""),"") | K41: =IF(ISNUMBER(J41),IF(MONTH(DATE($AG$4,AF36+6,K40+7))=AF36+6,K40+7,""),"") | L41: =IF(ISNUMBER(K41),IF(MONTH(DATE($AG$4,AF36+6,L40+7))=AF36+6,L40+7,""),"") | M41: =IF(ISNUMBER(L41),IF(MONTH(DATE($AG$4,AF36+6,M40+7))=AF36+6,M40+7,""),"") | N41: =IF(ISNUMBER(M41),IF(MONTH(DATE($AG$4,AF36+6,N40+7))=AF36+6,N40+7,""),"") | O41: =IF(ISNUMBER(N41),IF(MONTH(DATE($AG$4,AF36+6,O40+7))=AF36+6,O40+7,""),"") | Q41: =IF(ISNUMBER(W40),IF(MONTH(DATE($AG$4,AF28+1,Q40+7))=AF28+1,Q40+7,""),"") | R41: =IF(ISNUMBER(Q41),IF(MONTH(DATE($AG$4,AF28+1,R40+7))=AF28+1,R40+7,""),"") | S41: =IF(ISNUMBER(R41),IF(MONTH(DATE($AG$4,AF28+1,S40+7))=AF28+1,S40+7,""),"") | T41: =IF(ISNUMBER(S41),IF(MONTH(DATE($AG$4,AF28+1,T40+7))=AF28+1,T40+7,""),"") | U41: =IF(ISNUMBER(T41),IF(MONTH(DATE($AG$4,AF28+1,U40+7))=AF28+1,U40+7,""),"") | V41: =IF(ISNUMBER(U41),IF(MONTH(DATE($AG$4,AF28+1,V40+7))=AF28+1,V40+7,""),"") | W41: =IF(ISNUMBER(V41),IF(MONTH(DATE($AG$4,AF28+1,W40+7))=AF28+1,W40+7,""),"") | Y41: =IF(ISNUMBER(AE40),IF(MONTH(DATE($AG$4,AF28+1+6,Y40+7))=AF28+1+6,Y40+7,""),"") | Z41: =IF(ISNUMBER(Y41),IF(MONTH(DATE($AG$4,AF28+1+6,Z40+7))=AF28+1+6,Z40+7,""),"") | AA41: =IF(ISNUMBER(Z41),IF(MONTH(DATE($AG$4,AF28+1+6,AA40+7))=AF28+1+6,AA40+7,""),"") | AB41: =IF(ISNUMBER(AA41),IF(MONTH(DATE($AG$4,AF28+1+6,AB40+7))=AF28+1+6,AB40+7,""),"") | AC41: =IF(ISNUMBER(AB41),IF(MONTH(DATE($AG$4,AF28+1+6,AC40+7))=AF28+1+6,AC40+7,""),"") | AD41: =IF(ISNUMBER(AC41),IF(MONTH(DATE($AG$4,AF28+1+6,AD40+7))=AF28+1+6,AD40+7,""),"") | AE41: =IF(ISNUMBER(AD41),IF(MONTH(DATE($AG$4,AF28+1+6,AE40+7))=AF28+1+6,AE40+7,""),"")
A42: JUN | I42: DEC | Q42: JUN | Y42: DEC
A43: S | B43: M | C43: Tu | D43: W | E43: Th | F43: F | G43: S | I43: S | J43: M | K43: Tu | L43: W | M43: Th | N43: F | O43: S | Q43: S | R43: M | S43: Tu | T43: W | U43: Th | V43: F | W43: S | Y43: S | Z43: M | AA43: Tu | AB43: W | AC43: Th | AD43: F | AE43: S
A44: =IF(WEEKDAY(DATE($AG$4,AF44,1))=1,1,"") | B44: =IF(ISNUMBER(A44),A44+1,IF(WEEKDAY(DATE($AG$4,AF44,1))=2,1,"")) | C44: =IF(ISNUMBER(B44),B44+1,IF(WEEKDAY(DATE($AG$4,AF44,1))=3,1,"")) | D44: =IF(ISNUMBER(C44),C44+1,IF(WEEKDAY(DATE($AG$4,AF44,1))=4,1,"")) -> 1 | E44: =IF(ISNUMBER(D44),D44+1,IF(WEEKDAY(DATE($AG$4,AF44,1))=5,1,"")) -> 2 | F44: =IF(ISNUMBER(E44),E44+1,IF(WEEKDAY(DATE($AG$4,AF44,1))=6,1,"")) -> 3 | G44: =IF(ISNUMBER(F44),F44+1,IF(WEEKDAY(DATE($AG$4,AF44,1))=7,1,"")) -> 4 | I44: =IF(WEEKDAY(DATE($AG$4,AF44+6,1))=1,1,"") | J44: =IF(ISNUMBER(I44),I44+1,IF(WEEKDAY(DATE($AG$4,AF44+6,1))=2,1,"")) | K44: =IF(ISNUMBER(J44),J44+1,IF(WEEKDAY(DATE($AG$4,AF44+6,1))=3,1,"")) | L44: =IF(ISNUMBER(K44),K44+1,IF(WEEKDAY(DATE($AG$4,AF44+6,1))=4,1,"")) | M44: =IF(ISNUMBER(L44),L44+1,IF(WEEKDAY(DATE($AG$4,AF44+6,1))=5,1,"")) -> 1 | N44: =IF(ISNUMBER(M44),M44+1,IF(WEEKDAY(DATE($AG$4,AF44+6,1))=6,1,"")) -> 2 | O44: =IF(ISNUMBER(N44),N44+1,IF(WEEKDAY(DATE($AG$4,AF44+6,1))=7,1,"")) -> 3 | Q44: =IF(WEEKDAY(DATE($AG$5,AF36+1,1))=1,1,"") | R44: =IF(ISNUMBER(Q44),Q44+1,IF(WEEKDAY(DATE($AG$5,AF36+1,1))=2,1,"")) | S44: =IF(ISNUMBER(R44),R44+1,IF(WEEKDAY(DATE($AG$5,AF36+1,1))=3,1,"")) | T44: =IF(ISNUMBER(S44),S44+1,IF(WEEKDAY(DATE($AG$5,AF36+1,1))=4,1,"")) | U44: =IF(ISNUMBER(T44),T44+1,IF(WEEKDAY(DATE($AG$5,AF36+1,1))=5,1,"")) -> 1 | V44: =IF(ISNUMBER(U44),U44+1,IF(WEEKDAY(DATE($AG$5,AF36+1,1))=6,1,"")) -> 2 | W44: =IF(ISNUMBER(V44),V44+1,IF(WEEKDAY(DATE($AG$5,AF36+1,1))=7,1,"")) -> 3 | Y44: =IF(WEEKDAY(DATE($AG$5,AF36+1+6,1))=1,1,"") | Z44: =IF(ISNUMBER(Y44),Y44+1,IF(WEEKDAY(DATE($AG$5,AF36+1+6,1))=2,1,"")) | AA44: =IF(ISNUMBER(Z44),Z44+1,IF(WEEKDAY(DATE($AG$5,AF36+1+6,1))=3,1,"")) | AB44: =IF(ISNUMBER(AA44),AA44+1,IF(WEEKDAY(DATE($AG$5,AF36+1+6,1))=4,1,"")) | AC44: =IF(ISNUMBER(AB44),AB44+1,IF(WEEKDAY(DATE($AG$5,AF36+1+6,1))=5,1,"")) | AD44: =IF(ISNUMBER(AC44),AC44+1,IF(WEEKDAY(DATE($AG$5,AF36+1+6,1))=6,1,"")) -> 1 | AE44: =IF(ISNUMBER(AD44),AD44+1,IF(WEEKDAY(DATE($AG$5,AF36+1+6,1))=7,1,"")) -> 2 | AF44: =+AF36+1 -> 6
A45: =IF(ISNUMBER(A44),A44+7,G44+1) -> 5 | B45: =IF(ISNUMBER(B44),B44+7,A45+1) -> 6 | C45: =IF(ISNUMBER(C44),C44+7,B45+1) -> 7 | D45: =IF(ISNUMBER(D44),D44+7,C45+1) -> 8 | E45: =IF(ISNUMBER(E44),E44+7,D45+1) -> 9 | F45: =IF(ISNUMBER(F44),F44+7,E45+1) -> 10 | G45: =IF(ISNUMBER(G44),G44+7,F45+1) -> 11 | I45: =IF(ISNUMBER(I44),I44+7,O44+1) -> 4 | J45: =IF(ISNUMBER(J44),J44+7,I45+1) -> 5 | K45: =IF(ISNUMBER(K44),K44+7,J45+1) -> 6 | L45: =IF(ISNUMBER(L44),L44+7,K45+1) -> 7 | M45: =IF(ISNUMBER(M44),M44+7,L45+1) -> 8 | N45: =IF(ISNUMBER(N44),N44+7,M45+1) -> 9 | O45: =IF(ISNUMBER(O44),O44+7,N45+1) -> 10 | Q45: =IF(ISNUMBER(Q44),Q44+7,W44+1) -> 4 | R45: =IF(ISNUMBER(R44),R44+7,Q45+1) -> 5 | S45: =IF(ISNUMBER(S44),S44+7,R45+1) -> 6 | T45: =IF(ISNUMBER(T44),T44+7,S45+1) -> 7 | U45: =IF(ISNUMBER(U44),U44+7,T45+1) -> 8 | V45: =IF(ISNUMBER(V44),V44+7,U45+1) -> 9 | W45: =IF(ISNUMBER(W44),W44+7,V45+1) -> 10 | Y45: =IF(ISNUMBER(Y44),Y44+7,AE44+1) -> 3 | Z45: =IF(ISNUMBER(Z44),Z44+7,Y45+1) -> 4 | AA45: =IF(ISNUMBER(AA44),AA44+7,Z45+1) -> 5 | AB45: =IF(ISNUMBER(AB44),AB44+7,AA45+1) -> 6 | AC45: =IF(ISNUMBER(AC44),AC44+7,AB45+1) -> 7 | AD45: =IF(ISNUMBER(AD44),AD44+7,AC45+1) -> 8 | AE45: =IF(ISNUMBER(AE44),AE44+7,AD45+1) -> 9
A46: =+A45+7 -> 12 | B46: =+B45+7 -> 13 | C46: =+C45+7 -> 14 | D46: =+D45+7 -> 15 | E46: =+E45+7 -> 16 | F46: =+F45+7 -> 17 | G46: =+G45+7 -> 18 | I46: =+I45+7 -> 11 | J46: =+J45+7 -> 12 | K46: =+K45+7 -> 13 | L46: =+L45+7 -> 14 | M46: =+M45+7 -> 15 | N46: =+N45+7 -> 16 | O46: =+O45+7 -> 17 | Q46: =+Q45+7 -> 11 | R46: =+R45+7 -> 12 | S46: =+S45+7 -> 13 | T46: =+T45+7 -> 14 | U46: =+U45+7 -> 15 | V46: =+V45+7 -> 16 | W46: =+W45+7 -> 17 | Y46: =+Y45+7 -> 10 | Z46: =+Z45+7 -> 11 | AA46: =+AA45+7 -> 12 | AB46: =+AB45+7 -> 13 | AC46: =+AC45+7 -> 14 | AD46: =+AD45+7 -> 15 | AE46: =+AE45+7 -> 16
A47: =IF(MONTH(DATE($AG$4,AF44,A46+7))=MONTH(DATE($AG$4,AF44,1)),A46+7,"") -> 19 | B47: =IF(MONTH(DATE($AG$4,AF44,B46+7))=MONTH(DATE($AG$4,AF44,1)),B46+7,"") -> 20 | C47: =IF(MONTH(DATE($AG$4,AF44,C46+7))=MONTH(DATE($AG$4,AF44,1)),C46+7,"") -> 21 | D47: =IF(MONTH(DATE($AG$4,AF44,D46+7))=MONTH(DATE($AG$4,AF44,1)),D46+7,"") -> 22 | E47: =IF(MONTH(DATE($AG$4,AF44,E46+7))=MONTH(DATE($AG$4,AF44,1)),E46+7,"") -> 23 | F47: =IF(MONTH(DATE($AG$4,AF44,F46+7))=MONTH(DATE($AG$4,AF44,1)),F46+7,"") -> 24 | G47: =IF(MONTH(DATE($AG$4,AF44,G46+7))=MONTH(DATE($AG$4,AF44,1)),G46+7,"") -> 25 | I47: =IF(MONTH(DATE($AG$4,AF44+6,I46+7))=MONTH(DATE($AG$4,AF44+6,1)),I46+7,"") -> 18 | J47: =IF(MONTH(DATE($AG$4,AF44+6,J46+7))=MONTH(DATE($AG$4,AF44+6,1)),J46+7,"") -> 19 | K47: =IF(MONTH(DATE($AG$4,AF44+6,K46+7))=MONTH(DATE($AG$4,AF44+6,1)),K46+7,"") -> 20 | L47: =IF(MONTH(DATE($AG$4,AF44+6,L46+7))=MONTH(DATE($AG$4,AF44+6,1)),L46+7,"") -> 21 | M47: =IF(MONTH(DATE($AG$4,AF44+6,M46+7))=MONTH(DATE($AG$4,AF44+6,1)),M46+7,"") -> 22 | N47: =IF(MONTH(DATE($AG$4,AF44+6,N46+7))=MONTH(DATE($AG$4,AF44+6,1)),N46+7,"") -> 23 | O47: =IF(MONTH(DATE($AG$4,AF44+6,O46+7))=MONTH(DATE($AG$4,AF44+6,1)),O46+7,"") -> 24 | Q47: =IF(MONTH(DATE($AG$5,AF36+1,Q46+7))=MONTH(DATE($AG$5,AF36+1,1)),Q46+7,"") -> 18 | R47: =IF(MONTH(DATE($AG$5,AF36+1,R46+7))=MONTH(DATE($AG$5,AF36+1,1)),R46+7,"") -> 19 | S47: =IF(MONTH(DATE($AG$5,AF36+1,S46+7))=MONTH(DATE($AG$5,AF36+1,1)),S46+7,"") -> 20 | T47: =IF(MONTH(DATE($AG$5,AF36+1,T46+7))=MONTH(DATE($AG$5,AF36+1,1)),T46+7,"") -> 21 | U47: =IF(MONTH(DATE($AG$5,AF36+1,U46+7))=MONTH(DATE($AG$5,AF36+1,1)),U46+7,"") -> 22 | V47: =IF(MONTH(DATE($AG$5,AF36+1,V46+7))=MONTH(DATE($AG$5,AF36+1,1)),V46+7,"") -> 23 | W47: =IF(MONTH(DATE($AG$5,AF36+1,W46+7))=MONTH(DATE($AG$5,AF36+1,1)),W46+7,"") -> 24 | Y47: =IF(MONTH(DATE($AG$5,AF36+1+6,Y46+7))=MONTH(DATE($AG$5,AF36+1+6,1)),Y46+7,"") -> 17 | Z47: =IF(MONTH(DATE($AG$5,AF36+1+6,Z46+7))=MONTH(DATE($AG$5,AF36+1+6,1)),Z46+7,"") -> 18 | AA47: =IF(MONTH(DATE($AG$5,AF36+1+6,AA46+7))=MONTH(DATE($AG$5,AF36+1+6,1)),AA46+7,"") -> 19 | AB47: =IF(MONTH(DATE($AG$5,AF36+1+6,AB46+7))=MONTH(DATE($AG$5,AF36+1+6,1)),AB46+7,"") -> 20 | AC47: =IF(MONTH(DATE($AG$5,AF36+1+6,AC46+7))=MONTH(DATE($AG$5,AF36+1+6,1)),AC46+7,"") -> 21 | AD47: =IF(MONTH(DATE($AG$5,AF36+1+6,AD46+7))=MONTH(DATE($AG$5,AF36+1+6,1)),AD46+7,"") -> 22 | AE47: =IF(MONTH(DATE($AG$5,AF36+1+6,AE46+7))=MONTH(DATE($AG$5,AF36+1+6,1)),AE46+7,"") -> 23
A48: =IF(MONTH(DATE($AG$4,AF44,A47+7))=MONTH(DATE($AG$4,AF44,1)),A47+7,"") -> 26 | B48: =IF(MONTH(DATE($AG$4,AF44,B47+7))=MONTH(DATE($AG$4,AF44,1)),B47+7,"") -> 27 | C48: =IF(MONTH(DATE($AG$4,AF44,C47+7))=MONTH(DATE($AG$4,AF44,1)),C47+7,"") -> 28 | D48: =IF(MONTH(DATE($AG$4,AF44,D47+7))=MONTH(DATE($AG$4,AF44,1)),D47+7,"") -> 29 | E48: =IF(MONTH(DATE($AG$4,AF44,E47+7))=MONTH(DATE($AG$4,AF44,1)),E47+7,"") -> 30 | F48: =IF(MONTH(DATE($AG$4,AF44,F47+7))=MONTH(DATE($AG$4,AF44,1)),F47+7,"") | G48: =IF(MONTH(DATE($AG$4,AF44,G47+7))=MONTH(DATE($AG$4,AF44,1)),G47+7,"") | I48: =IF(MONTH(DATE($AG$4,AF44+6,I47+7))=MONTH(DATE($AG$4,AF44+6,1)),I47+7,"") -> 25 | J48: =IF(MONTH(DATE($AG$4,AF44+6,J47+7))=MONTH(DATE($AG$4,AF44+6,1)),J47+7,"") -> 26 | K48: =IF(MONTH(DATE($AG$4,AF44+6,K47+7))=MONTH(DATE($AG$4,AF44+6,1)),K47+7,"") -> 27 | L48: =IF(MONTH(DATE($AG$4,AF44+6,L47+7))=MONTH(DATE($AG$4,AF44+6,1)),L47+7,"") -> 28 | M48: =IF(MONTH(DATE($AG$4,AF44+6,M47+7))=MONTH(DATE($AG$4,AF44+6,1)),M47+7,"") -> 29 | N48: =IF(MONTH(DATE($AG$4,AF44+6,N47+7))=MONTH(DATE($AG$4,AF44+6,1)),N47+7,"") -> 30 | O48: =IF(MONTH(DATE($AG$4,AF44+6,O47+7))=MONTH(DATE($AG$4,AF44+6,1)),O47+7,"") -> 31 | Q48: =IF(MONTH(DATE($AG$5,AF36+1,Q47+7))=MONTH(DATE($AG$5,AF36+1,1)),Q47+7,"") -> 25 | R48: =IF(MONTH(DATE($AG$5,AF36+1,R47+7))=MONTH(DATE($AG$5,AF36+1,1)),R47+7,"") -> 26 | S48: =IF(MONTH(DATE($AG$5,AF36+1,S47+7))=MONTH(DATE($AG$5,AF36+1,1)),S47+7,"") -> 27 | T48: =IF(MONTH(DATE($AG$5,AF36+1,T47+7))=MONTH(DATE($AG$5,AF36+1,1)),T47+7,"") -> 28 | U48: =IF(MONTH(DATE($AG$5,AF36+1,U47+7))=MONTH(DATE($AG$5,AF36+1,1)),U47+7,"") -> 29 | V48: =IF(MONTH(DATE($AG$5,AF36+1,V47+7))=MONTH(DATE($AG$5,AF36+1,1)),V47+7,"") -> 30 | W48: =IF(MONTH(DATE($AG$5,AF36+1,W47+7))=MONTH(DATE($AG$5,AF36+1,1)),W47+7,"") | Y48: =IF(MONTH(DATE($AG$5,AF36+1+6,Y47+7))=MONTH(DATE($AG$5,AF36+1+6,1)),Y47+7,"") -> 24 | Z48: =IF(MONTH(DATE($AG$5,AF36+1+6,Z47+7))=MONTH(DATE($AG$5,AF36+1+6,1)),Z47+7,"") -> 25 | AA48: =IF(MONTH(DATE($AG$5,AF36+1+6,AA47+7))=MONTH(DATE($AG$5,AF36+1+6,1)),AA47+7,"") -> 26 | AB48: =IF(MONTH(DATE($AG$5,AF36+1+6,AB47+7))=MONTH(DATE($AG$5,AF36+1+6,1)),AB47+7,"") -> 27 | AC48: =IF(MONTH(DATE($AG$5,AF36+1+6,AC47+7))=MONTH(DATE($AG$5,AF36+1+6,1)),AC47+7,"") -> 28 | AD48: =IF(MONTH(DATE($AG$5,AF36+1+6,AD47+7))=MONTH(DATE($AG$5,AF36+1+6,1)),AD47+7,"") -> 29 | AE48: =IF(MONTH(DATE($AG$5,AF36+1+6,AE47+7))=MONTH(DATE($AG$5,AF36+1+6,1)),AE47+7,"") -> 30
A49: =IF(ISNUMBER(G48),IF(MONTH(DATE($AG$4,AF44,A48+7))=AF44,A48+7,""),"") | B49: =IF(ISNUMBER(A49),IF(MONTH(DATE($AG$4,AF44,B48+7))=AF44,B48+7,""),"") | C49: =IF(ISNUMBER(B49),IF(MONTH(DATE($AG$4,AF44,C48+7))=AF44,C48+7,""),"") | D49: =IF(ISNUMBER(C49),IF(MONTH(DATE($AG$4,AF44,D48+7))=AF44,D48+7,""),"") | E49: =IF(ISNUMBER(D49),IF(MONTH(DATE($AG$4,AF44,E48+7))=AF44,E48+7,""),"") | F49: =IF(ISNUMBER(E49),IF(MONTH(DATE($AG$4,AF44,F48+7))=AF44,F48+7,""),"") | G49: =IF(ISNUMBER(F49),IF(MONTH(DATE($AG$4,AF44,G48+7))=AF44,G48+7,""),"") | I49: =IF(ISNUMBER(O48),IF(MONTH(DATE($AG$4,AF44+6,I48+7))=AF44+6,I48+7,""),"") | J49: =IF(ISNUMBER(I49),IF(MONTH(DATE($AG$4,AF44+6,J48+7))=AF44+6,J48+7,""),"") | K49: =IF(ISNUMBER(J49),IF(MONTH(DATE($AG$4,AF44+6,K48+7))=AF44+6,K48+7,""),"") | L49: =IF(ISNUMBER(K49),IF(MONTH(DATE($AG$4,AF44+6,L48+7))=AF44+6,L48+7,""),"") | M49: =IF(ISNUMBER(L49),IF(MONTH(DATE($AG$4,AF44+6,M48+7))=AF44+6,M48+7,""),"") | N49: =IF(ISNUMBER(M49),IF(MONTH(DATE($AG$4,AF44+6,N48+7))=AF44+6,N48+7,""),"") | O49: =IF(ISNUMBER(N49),IF(MONTH(DATE($AG$4,AF44+6,O48+7))=AF44+6,O48+7,""),"") | Q49: =IF(ISNUMBER(W48),IF(MONTH(DATE($AG$4,AF36+1,Q48+7))=AF36+1,Q48+7,""),"") | R49: =IF(ISNUMBER(Q49),IF(MONTH(DATE($AG$4,AF36+1,R48+7))=AF36+1,R48+7,""),"") | S49: =IF(ISNUMBER(R49),IF(MONTH(DATE($AG$4,AF36+1,S48+7))=AF36+1,S48+7,""),"") | T49: =IF(ISNUMBER(S49),IF(MONTH(DATE($AG$4,AF36+1,T48+7))=AF36+1,T48+7,""),"") | U49: =IF(ISNUMBER(T49),IF(MONTH(DATE($AG$4,AF36+1,U48+7))=AF36+1,U48+7,""),"") | V49: =IF(ISNUMBER(U49),IF(MONTH(DATE($AG$4,AF36+1,V48+7))=AF36+1,V48+7,""),"") | W49: =IF(ISNUMBER(V49),IF(MONTH(DATE($AG$4,AF36+1,W48+7))=AF36+1,W48+7,""),"") | Y49: =IF(ISNUMBER(AE48),IF(MONTH(DATE($AG$4,AF36+1+6,Y48+7))=AF36+1+6,Y48+7,""),"") -> 31 | Z49: =IF(ISNUMBER(Y49),IF(MONTH(DATE($AG$4,AF36+1+6,Z48+7))=AF36+1+6,Z48+7,""),"") | AA49: =IF(ISNUMBER(Z49),IF(MONTH(DATE($AG$4,AF36+1+6,AA48+7))=AF36+1+6,AA48+7,""),"") | AB49: =IF(ISNUMBER(AA49),IF(MONTH(DATE($AG$4,AF36+1+6,AB48+7))=AF36+1+6,AB48+7,""),"") | AC49: =IF(ISNUMBER(AB49),IF(MONTH(DATE($AG$4,AF36+1+6,AC48+7))=AF36+1+6,AC48+7,""),"") | AD49: =IF(ISNUMBER(AC49),IF(MONTH(DATE($AG$4,AF36+1+6,AD48+7))=AF36+1+6,AD48+7,""),"") | AE49: =IF(ISNUMBER(AD49),IF(MONTH(DATE($AG$4,AF36+1+6,AE48+7))=AF36+1+6,AE48+7,""),"")

Sheet Year
A1: =+Q4 -> 2016
A2: JAN | I2: JUL
A3: S | B3: M | C3: Tu | D3: W | E3: Th | F3: F | G3: S | I3: S | J3: M | K3: Tu | L3: W | M3: Th | N3: F | O3: S
A4: =IF(WEEKDAY(DATE($Q$4,$P$4,1))=1,1,"") | B4: =IF(ISNUMBER(A4),A4+1,IF(WEEKDAY(DATE($Q$4,$P$4,1))=2,1,"")) | C4: =IF(ISNUMBER(B4),B4+1,IF(WEEKDAY(DATE($Q$4,$P$4,1))=3,1,"")) | D4: =IF(ISNUMBER(C4),C4+1,IF(WEEKDAY(DATE($Q$4,$P$4,1))=4,1,"")) | E4: =IF(ISNUMBER(D4),D4+1,IF(WEEKDAY(DATE($Q$4,$P$4,1))=5,1,"")) | F4: =IF(ISNUMBER(E4),E4+1,IF(WEEKDAY(DATE($Q$4,$P$4,1))=6,1,"")) -> 1 | G4: =IF(ISNUMBER(F4),F4+1,IF(WEEKDAY(DATE($Q$4,$P$4,1))=7,1,"")) -> 2 | I4: =IF(WEEKDAY(DATE($Q$4,$P$4+6,1))=1,1,"") | J4: =IF(ISNUMBER(I4),I4+1,IF(WEEKDAY(DATE($Q$4,$P$4+6,1))=2,1,"")) | K4: =IF(ISNUMBER(J4),J4+1,IF(WEEKDAY(DATE($Q$4,$P$4+6,1))=3,1,"")) | L4: =IF(ISNUMBER(K4),K4+1,IF(WEEKDAY(DATE($Q$4,$P$4+6,1))=4,1,"")) | M4: =IF(ISNUMBER(L4),L4+1,IF(WEEKDAY(DATE($Q$4,$P$4+6,1))=5,1,"")) | N4: =IF(ISNUMBER(M4),M4+1,IF(WEEKDAY(DATE($Q$4,$P$4+6,1))=6,1,"")) -> 1 | O4: =IF(ISNUMBER(N4),N4+1,IF(WEEKDAY(DATE($Q$4,P4+6,1))=7,1,"")) -> 2 | P4: 1 | Q4: =+'Input Date'!$C$17 -> 2016
A5: =IF(ISNUMBER(A4),A4+7,G4+1) -> 3 | B5: =IF(ISNUMBER(B4),B4+7,A5+1) -> 4 | C5: =IF(ISNUMBER(C4),C4+7,B5+1) -> 5 | D5: =IF(ISNUMBER(D4),D4+7,C5+1) -> 6 | E5: =IF(ISNUMBER(E4),E4+7,D5+1) -> 7 | F5: =IF(ISNUMBER(F4),F4+7,E5+1) -> 8 | G5: =IF(ISNUMBER(G4),G4+7,F5+1) -> 9 | I5: =IF(ISNUMBER(I4),I4+7,O4+1) -> 3 | J5: =IF(ISNUMBER(J4),J4+7,I5+1) -> 4 | K5: =IF(ISNUMBER(K4),K4+7,J5+1) -> 5 | L5: =IF(ISNUMBER(L4),L4+7,K5+1) -> 6 | M5: =IF(ISNUMBER(M4),M4+7,L5+1) -> 7 | N5: =IF(ISNUMBER(N4),N4+7,M5+1) -> 8 | O5: =IF(ISNUMBER(O4),O4+7,N5+1) -> 9
A6: =+A5+7 -> 10 | B6: =+B5+7 -> 11 | C6: =+C5+7 -> 12 | D6: =+D5+7 -> 13 | E6: =+E5+7 -> 14 | F6: =+F5+7 -> 15 | G6: =+G5+7 -> 16 | I6: =+I5+7 -> 10 | J6: =+J5+7 -> 11 | K6: =+K5+7 -> 12 | L6: =+L5+7 -> 13 | M6: =+M5+7 -> 14 | N6: =+N5+7 -> 15 | O6: =+O5+7 -> 16
A7: =IF(MONTH(DATE($Q$4,$P$4,A6+7))=MONTH(DATE($Q$4,$P$4,1)),A6+7,"") -> 17 | B7: =IF(MONTH(DATE($Q$4,$P$4,B6+7))=MONTH(DATE($Q$4,$P$4,1)),B6+7,"") -> 18 | C7: =IF(MONTH(DATE($Q$4,$P$4,C6+7))=MONTH(DATE($Q$4,$P$4,1)),C6+7,"") -> 19 | D7: =IF(MONTH(DATE($Q$4,$P$4,D6+7))=MONTH(DATE($Q$4,$P$4,1)),D6+7,"") -> 20 | E7: =IF(MONTH(DATE($Q$4,$P$4,E6+7))=MONTH(DATE($Q$4,$P$4,1)),E6+7,"") -> 21 | F7: =IF(MONTH(DATE($Q$4,$P$4,F6+7))=MONTH(DATE($Q$4,$P$4,1)),F6+7,"") -> 22 | G7: =IF(MONTH(DATE($Q$4,$P$4,G6+7))=MONTH(DATE($Q$4,$P$4,1)),G6+7,"") -> 23 | I7: =IF(MONTH(DATE($Q$4,$P$4+6,I6+7))=MONTH(DATE($Q$4,$P$4+6,1)),I6+7,"") -> 17 | J7: =IF(MONTH(DATE($Q$4,$P$4+6,J6+7))=MONTH(DATE($Q$4,$P$4+6,1)),J6+7,"") -> 18 | K7: =IF(MONTH(DATE($Q$4,$P$4+6,K6+7))=MONTH(DATE($Q$4,$P$4+6,1)),K6+7,"") -> 19 | L7: =IF(MONTH(DATE($Q$4,$P$4+6,L6+7))=MONTH(DATE($Q$4,$P$4+6,1)),L6+7,"") -> 20 | M7: =IF(MONTH(DATE($Q$4,$P$4+6,M6+7))=MONTH(DATE($Q$4,$P$4+6,1)),M6+7,"") -> 21 | N7: =IF(MONTH(DATE($Q$4,$P$4+6,N6+7))=MONTH(DATE($Q$4,$P$4+6,1)),N6+7,"") -> 22 | O7: =IF(MONTH(DATE($Q$4,$P$4+6,O6+7))=MONTH(DATE($Q$4,$P$4+6,1)),O6+7,"") -> 23
A8: =IF(MONTH(DATE($Q$4,$P$4,A7+7))=MONTH(DATE($Q$4,$P$4,1)),A7+7,"") -> 24 | B8: =IF(MONTH(DATE($Q$4,$P$4,B7+7))=MONTH(DATE($Q$4,$P$4,1)),B7+7,"") -> 25 | C8: =IF(MONTH(DATE($Q$4,$P$4,C7+7))=MONTH(DATE($Q$4,$P$4,1)),C7+7,"") -> 26 | D8: =IF(MONTH(DATE($Q$4,$P$4,D7+7))=MONTH(DATE($Q$4,$P$4,1)),D7+7,"") -> 27 | E8: =IF(MONTH(DATE($Q$4,$P$4,E7+7))=MONTH(DATE($Q$4,$P$4,1)),E7+7,"") -> 28 | F8: =IF(MONTH(DATE($Q$4,$P$4,F7+7))=MONTH(DATE($Q$4,$P$4,1)),F7+7,"") -> 29 | G8: =IF(MONTH(DATE($Q$4,$P$4,G7+7))=MONTH(DATE($Q$4,$P$4,1)),G7+7,"") -> 30 | I8: =IF(MONTH(DATE($Q$4,$P$4+6,I7+7))=MONTH(DATE($Q$4,$P$4+6,1)),I7+7,"") -> 24 | J8: =IF(MONTH(DATE($Q$4,$P$4+6,J7+7))=MONTH(DATE($Q$4,$P$4+6,1)),J7+7,"") -> 25 | K8: =IF(MONTH(DATE($Q$4,$P$4+6,K7+7))=MONTH(DATE($Q$4,$P$4+6,1)),K7+7,"") -> 26 | L8: =IF(MONTH(DATE($Q$4,$P$4+6,L7+7))=MONTH(DATE($Q$4,$P$4+6,1)),L7+7,"") -> 27 | M8: =IF(MONTH(DATE($Q$4,$P$4+6,M7+7))=MONTH(DATE($Q$4,$P$4+6,1)),M7+7,"") -> 28 | N8: =IF(MONTH(DATE($Q$4,$P$4+6,N7+7))=MONTH(DATE($Q$4,$P$4+6,1)),N7+7,"") -> 29 | O8: =IF(MONTH(DATE($Q$4,P4+6,O7+7))=MONTH(DATE($Q$4,P4+6,1)),O7+7,"") -> 30
A9: =IF(ISNUMBER(G8),IF(MONTH(DATE($Q$4,$P$4,A8+7))=$P$4,A8+7,""),"") -> 31 | B9: =IF(ISNUMBER(A9),IF(MONTH(DATE($Q$4,$P$4,B8+7))=$P$4,B8+7,""),"") | C9: =IF(ISNUMBER(B9),IF(MONTH(DATE($Q$4,$P$4,C8+7))=$P$4,C8+7,""),"") | D9: =IF(ISNUMBER(C9),IF(MONTH(DATE($Q$4,$P$4,D8+7))=$P$4,D8+7,""),"") | E9: =IF(ISNUMBER(D9),IF(MONTH(DATE($Q$4,$P$4,E8+7))=$P$4,E8+7,""),"") | F9: =IF(ISNUMBER(E9),IF(MONTH(DATE($Q$4,$P$4,F8+7))=$P$4,F8+7,""),"") | G9: =IF(ISNUMBER(F9),IF(MONTH(DATE($Q$4,$P$4,G8+7))=$P$4,G8+7,""),"") | I9: =IF(ISNUMBER(O8),IF(MONTH(DATE($Q$4,$P$4+6,I8+7))=$P$4+6,I8+7,""),"") -> 31 | J9: =IF(ISNUMBER(I9),IF(MONTH(DATE($Q$4,$P$4+6,J8+7))=$P$4+6,J8+7,""),"") | K9: =IF(ISNUMBER(J9),IF(MONTH(DATE($Q$4,$P$4+6,K8+7))=$P$4+6,K8+7,""),"") | L9: =IF(ISNUMBER(K9),IF(MONTH(DATE($Q$4,$P$4+6,L8+7))=$P$4+6,L8+7,""),"") | M9: =IF(ISNUMBER(L9),IF(MONTH(DATE($Q$4,$P$4+6,M8+7))=$P$4+6,M8+7,""),"") | N9: =IF(ISNUMBER(M9),IF(MONTH(DATE($Q$4,$P$4+6,N8+7))=$P$4+6,N8+7,""),"") | O9: =IF(ISNUMBER(N9),IF(MONTH(DATE($Q$4,P4+6,O8+7))=P4+6,O8+7,""),"")
A10: FEB | I10: AUG
A11: S | B11: M | C11: Tu | D11: W | E11: Th | F11: F | G11: S | I11: S | J11: M | K11: Tu | L11: W | M11: Th | N11: F | O11: S
A12: =IF(WEEKDAY(DATE($Q$4,P12,1))=1,1,"") | B12: =IF(ISNUMBER(A12),A12+1,IF(WEEKDAY(DATE($Q$4,P12,1))=2,1,"")) -> 1 | C12: =IF(ISNUMBER(B12),B12+1,IF(WEEKDAY(DATE($Q$4,P12,1))=3,1,"")) -> 2 | D12: =IF(ISNUMBER(C12),C12+1,IF(WEEKDAY(DATE($Q$4,P12,1))=4,1,"")) -> 3 | E12: =IF(ISNUMBER(D12),D12+1,IF(WEEKDAY(DATE($Q$4,P12,1))=5,1,"")) -> 4 | F12: =IF(ISNUMBER(E12),E12+1,IF(WEEKDAY(DATE($Q$4,P12,1))=6,1,"")) -> 5 | G12: =IF(ISNUMBER(F12),F12+1,IF(WEEKDAY(DATE($Q$4,P12,1))=7,1,"")) -> 6 | I12: =IF(WEEKDAY(DATE($Q$4,P12+6,1))=1,1,"") | J12: =IF(ISNUMBER(I12),I12+1,IF(WEEKDAY(DATE($Q$4,P12+6,1))=2,1,"")) -> 1 | K12: =IF(ISNUMBER(J12),J12+1,IF(WEEKDAY(DATE($Q$4,P12+6,1))=3,1,"")) -> 2 | L12: =IF(ISNUMBER(K12),K12+1,IF(WEEKDAY(DATE($Q$4,P12+6,1))=4,1,"")) -> 3 | M12: =IF(ISNUMBER(L12),L12+1,IF(WEEKDAY(DATE($Q$4,P12+6,1))=5,1,"")) -> 4 | N12: =IF(ISNUMBER(M12),M12+1,IF(WEEKDAY(DATE($Q$4,P12+6,1))=6,1,"")) -> 5 | O12: =IF(ISNUMBER(N12),N12+1,IF(WEEKDAY(DATE($Q$4,P12+6,1))=7,1,"")) -> 6 | P12: 2
A13: =IF(ISNUMBER(A12),A12+7,G12+1) -> 7 | B13: =IF(ISNUMBER(B12),B12+7,A13+1) -> 8 | C13: =IF(ISNUMBER(C12),C12+7,B13+1) -> 9 | D13: =IF(ISNUMBER(D12),D12+7,C13+1) -> 10 | E13: =IF(ISNUMBER(E12),E12+7,D13+1) -> 11 | F13: =IF(ISNUMBER(F12),F12+7,E13+1) -> 12 | G13: =IF(ISNUMBER(G12),G12+7,F13+1) -> 13 | I13: =IF(ISNUMBER(I12),I12+7,O12+1) -> 7 | J13: =IF(ISNUMBER(J12),J12+7,I13+1) -> 8 | K13: =IF(ISNUMBER(K12),K12+7,J13+1) -> 9 | L13: =IF(ISNUMBER(L12),L12+7,K13+1) -> 10 | M13: =IF(ISNUMBER(M12),M12+7,L13+1) -> 11 | N13: =IF(ISNUMBER(N12),N12+7,M13+1) -> 12 | O13: =IF(ISNUMBER(O12),O12+7,N13+1) -> 13
A14: =+A13+7 -> 14 | B14: =+B13+7 -> 15 | C14: =+C13+7 -> 16 | D14: =+D13+7 -> 17 | E14: =+E13+7 -> 18 | F14: =+F13+7 -> 19 | G14: =+G13+7 -> 20 | I14: =+I13+7 -> 14 | J14: =+J13+7 -> 15 | K14: =+K13+7 -> 16 | L14: =+L13+7 -> 17 | M14: =+M13+7 -> 18 | N14: =+N13+7 -> 19 | O14: =+O13+7 -> 20
A15: =IF(MONTH(DATE($Q$4,P12,A14+7))=MONTH(DATE($Q$4,P12,1)),A14+7,"") -> 21 | B15: =IF(MONTH(DATE($Q$4,P12,B14+7))=MONTH(DATE($Q$4,P12,1)),B14+7,"") -> 22 | C15: =IF(MONTH(DATE($Q$4,P12,C14+7))=MONTH(DATE($Q$4,P12,1)),C14+7,"") -> 23 | D15: =IF(MONTH(DATE($Q$4,P12,D14+7))=MONTH(DATE($Q$4,P12,1)),D14+7,"") -> 24 | E15: =IF(MONTH(DATE($Q$4,P12,E14+7))=MONTH(DATE($Q$4,P12,1)),E14+7,"") -> 25 | F15: =IF(MONTH(DATE($Q$4,P12,F14+7))=MONTH(DATE($Q$4,P12,1)),F14+7,"") -> 26 | G15: =IF(MONTH(DATE($Q$4,P12,G14+7))=MONTH(DATE($Q$4,P12,1)),G14+7,"") -> 27 | I15: =IF(MONTH(DATE($Q$4,P12+6,I14+7))=MONTH(DATE($Q$4,P12+6,1)),I14+7,"") -> 21 | J15: =IF(MONTH(DATE($Q$4,P12+6,J14+7))=MONTH(DATE($Q$4,P12+6,1)),J14+7,"") -> 22 | K15: =IF(MONTH(DATE($Q$4,P12+6,K14+7))=MONTH(DATE($Q$4,P12+6,1)),K14+7,"") -> 23 | L15: =IF(MONTH(DATE($Q$4,P12+6,L14+7))=MONTH(DATE($Q$4,P12+6,1)),L14+7,"") -> 24 | M15: =IF(MONTH(DATE($Q$4,P12+6,M14+7))=MONTH(DATE($Q$4,P12+6,1)),M14+7,"") -> 25 | N15: =IF(MONTH(DATE($Q$4,P12+6,N14+7))=MONTH(DATE($Q$4,P12+6,1)),N14+7,"") -> 26 | O15: =IF(MONTH(DATE($Q$4,P12+6,O14+7))=MONTH(DATE($Q$4,P12+6,1)),O14+7,"") -> 27
A16: =IF(MONTH(DATE($Q$4,P12,A15+7))=MONTH(DATE($Q$4,P12,1)),A15+7,"") -> 28 | B16: =IF(MONTH(DATE($Q$4,P12,B15+7))=MONTH(DATE($Q$4,P12,1)),B15+7,"") -> 29 | C16: =IF(MONTH(DATE($Q$4,P12,C15+7))=MONTH(DATE($Q$4,P12,1)),C15+7,"") | D16: =IF(MONTH(DATE($Q$4,P12,D15+7))=MONTH(DATE($Q$4,P12,1)),D15+7,"") | E16: =IF(MONTH(DATE($Q$4,P12,E15+7))=MONTH(DATE($Q$4,P12,1)),E15+7,"") | F16: =IF(MONTH(DATE($Q$4,P12,F15+7))=MONTH(DATE($Q$4,P12,1)),F15+7,"") | G16: =IF(MONTH(DATE($Q$4,P12,G15+7))=MONTH(DATE($Q$4,P12,1)),G15+7,"") | I16: =IF(MONTH(DATE($Q$4,P12+6,I15+7))=MONTH(DATE($Q$4,P12+6,1)),I15+7,"") -> 28 | J16: =IF(MONTH(DATE($Q$4,P12+6,J15+7))=MONTH(DATE($Q$4,P12+6,1)),J15+7,"") -> 29 | K16: =IF(MONTH(DATE($Q$4,P12+6,K15+7))=MONTH(DATE($Q$4,P12+6,1)),K15+7,"") -> 30 | L16: =IF(MONTH(DATE($Q$4,P12+6,L15+7))=MONTH(DATE($Q$4,P12+6,1)),L15+7,"") -> 31 | M16: =IF(MONTH(DATE($Q$4,P12+6,M15+7))=MONTH(DATE($Q$4,P12+6,1)),M15+7,"") | N16: =IF(MONTH(DATE($Q$4,P12+6,N15+7))=MONTH(DATE($Q$4,P12+6,1)),N15+7,"") | O16: =IF(MONTH(DATE($Q$4,P12+6,O15+7))=MONTH(DATE($Q$4,P12+6,1)),O15+7,"")
A17: =IF(ISNUMBER(G16),IF(MONTH(DATE($Q$4,P12,A16+7))=P12,A16+7,""),"") | B17: =IF(ISNUMBER(A17),IF(MONTH(DATE($Q$4,P12,B16+7))=P12,B16+7,""),"") | C17: =IF(ISNUMBER(B17),IF(MONTH(DATE($Q$4,P12,C16+7))=P12,C16+7,""),"") | D17: =IF(ISNUMBER(C17),IF(MONTH(DATE($Q$4,P12,D16+7))=P12,D16+7,""),"") | E17: =IF(ISNUMBER(D17),IF(MONTH(DATE($Q$4,P12,E16+7))=P12,E16+7,""),"") | F17: =IF(ISNUMBER(E17),IF(MONTH(DATE($Q$4,P12,F16+7))=P12,F16+7,""),"") | G17: =IF(ISNUMBER(F17),IF(MONTH(DATE($Q$4,P12,G16+7))=P12,G16+7,""),"") | I17: =IF(ISNUMBER(O16),IF(MONTH(DATE($Q$4,P12+6,I16+7))=P12+6,I16+7,""),"") | J17: =IF(ISNUMBER(I17),IF(MONTH(DATE($Q$4,P12+6,J16+7))=P12+6,J16+7,""),"") | K17: =IF(ISNUMBER(J17),IF(MONTH(DATE($Q$4,P12+6,K16+7))=P12+6,K16+7,""),"") | L17: =IF(ISNUMBER(K17),IF(MONTH(DATE($Q$4,P12+6,L16+7))=P12+6,L16+7,""),"") | M17: =IF(ISNUMBER(L17),IF(MONTH(DATE($Q$4,P12+6,M16+7))=P12+6,M16+7,""),"") | N17: =IF(ISNUMBER(M17),IF(MONTH(DATE($Q$4,P12+6,N16+7))=P12+6,N16+7,""),"") | O17: =IF(ISNUMBER(N17),IF(MONTH(DATE($Q$4,P12+6,O16+7))=P12+6,O16+7,""),"")
A18: MAR | I18: SEP
A19: S | B19: M | C19: Tu | D19: W | E19: Th | F19: F | G19: S | I19: S | J19: M | K19: Tu | L19: W | M19: Th | N19: F | O19: S
A20: =IF(WEEKDAY(DATE($Q$4,P20,1))=1,1,"") | B20: =IF(ISNUMBER(A20),A20+1,IF(WEEKDAY(DATE($Q$4,P20,1))=2,1,"")) | C20: =IF(ISNUMBER(B20),B20+1,IF(WEEKDAY(DATE($Q$4,P20,1))=3,1,"")) -> 1 | D20: =IF(ISNUMBER(C20),C20+1,IF(WEEKDAY(DATE($Q$4,P20,1))=4,1,"")) -> 2 | E20: =IF(ISNUMBER(D20),D20+1,IF(WEEKDAY(DATE($Q$4,P20,1))=5,1,"")) -> 3 | F20: =IF(ISNUMBER(E20),E20+1,IF(WEEKDAY(DATE($Q$4,P20,1))=6,1,"")) -> 4 | G20: =IF(ISNUMBER(F20),F20+1,IF(WEEKDAY(DATE($Q$4,P20,1))=7,1,"")) -> 5 | I20: =IF(WEEKDAY(DATE($Q$4,P20+6,1))=1,1,"") | J20: =IF(ISNUMBER(I20),I20+1,IF(WEEKDAY(DATE($Q$4,P20+6,1))=2,1,"")) | K20: =IF(ISNUMBER(J20),J20+1,IF(WEEKDAY(DATE($Q$4,P20+6,1))=3,1,"")) | L20: =IF(ISNUMBER(K20),K20+1,IF(WEEKDAY(DATE($Q$4,P20+6,1))=4,1,"")) | M20: =IF(ISNUMBER(L20),L20+1,IF(WEEKDAY(DATE($Q$4,P20+6,1))=5,1,"")) -> 1 | N20: =IF(ISNUMBER(M20),M20+1,IF(WEEKDAY(DATE($Q$4,P20+6,1))=6,1,"")) -> 2 | O20: =IF(ISNUMBER(N20),N20+1,IF(WEEKDAY(DATE($Q$4,P20+6,1))=7,1,"")) -> 3 | P20: 3
A21: =IF(ISNUMBER(A20),A20+7,G20+1) -> 6 | B21: =IF(ISNUMBER(B20),B20+7,A21+1) -> 7 | C21: =IF(ISNUMBER(C20),C20+7,B21+1) -> 8 | D21: =IF(ISNUMBER(D20),D20+7,C21+1) -> 9 | E21: =IF(ISNUMBER(E20),E20+7,D21+1) -> 10 | F21: =IF(ISNUMBER(F20),F20+7,E21+1) -> 11 | G21: =IF(ISNUMBER(G20),G20+7,F21+1) -> 12 | I21: =IF(ISNUMBER(I20),I20+7,O20+1) -> 4 | J21: =IF(ISNUMBER(J20),J20+7,I21+1) -> 5 | K21: =IF(ISNUMBER(K20),K20+7,J21+1) -> 6 | L21: =IF(ISNUMBER(L20),L20+7,K21+1) -> 7 | M21: =IF(ISNUMBER(M20),M20+7,L21+1) -> 8 | N21: =IF(ISNUMBER(N20),N20+7,M21+1) -> 9 | O21: =IF(ISNUMBER(O20),O20+7,N21+1) -> 10
A22: =+A21+7 -> 13 | B22: =+B21+7 -> 14 | C22: =+C21+7 -> 15 | D22: =+D21+7 -> 16 | E22: =+E21+7 -> 17 | F22: =+F21+7 -> 18 | G22: =+G21+7 -> 19 | I22: =+I21+7 -> 11 | J22: =+J21+7 -> 12 | K22: =+K21+7 -> 13 | L22: =+L21+7 -> 14 | M22: =+M21+7 -> 15 | N22: =+N21+7 -> 16 | O22: =+O21+7 -> 17
A23: =IF(MONTH(DATE($Q$4,P20,A22+7))=MONTH(DATE($Q$4,P20,1)),A22+7,"") -> 20 | B23: =IF(MONTH(DATE($Q$4,P20,B22+7))=MONTH(DATE($Q$4,P20,1)),B22+7,"") -> 21 | C23: =IF(MONTH(DATE($Q$4,P20,C22+7))=MONTH(DATE($Q$4,P20,1)),C22+7,"") -> 22 | D23: =IF(MONTH(DATE($Q$4,P20,D22+7))=MONTH(DATE($Q$4,P20,1)),D22+7,"") -> 23 | E23: =IF(MONTH(DATE($Q$4,P20,E22+7))=MONTH(DATE($Q$4,P20,1)),E22+7,"") -> 24 | F23: =IF(MONTH(DATE($Q$4,P20,F22+7))=MONTH(DATE($Q$4,P20,1)),F22+7,"") -> 25 | G23: =IF(MONTH(DATE($Q$4,P20,G22+7))=MONTH(DATE($Q$4,P20,1)),G22+7,"") -> 26 | I23: =IF(MONTH(DATE($Q$4,P20+6,I22+7))=MONTH(DATE($Q$4,P20+6,1)),I22+7,"") -> 18 | J23: =IF(MONTH(DATE($Q$4,P20+6,J22+7))=MONTH(DATE($Q$4,P20+6,1)),J22+7,"") -> 19 | K23: =IF(MONTH(DATE($Q$4,P20+6,K22+7))=MONTH(DATE($Q$4,P20+6,1)),K22+7,"") -> 20 | L23: =IF(MONTH(DATE($Q$4,P20+6,L22+7))=MONTH(DATE($Q$4,P20+6,1)),L22+7,"") -> 21 | M23: =IF(MONTH(DATE($Q$4,P20+6,M22+7))=MONTH(DATE($Q$4,P20+6,1)),M22+7,"") -> 22 | N23: =IF(MONTH(DATE($Q$4,P20+6,N22+7))=MONTH(DATE($Q$4,P20+6,1)),N22+7,"") -> 23 | O23: =IF(MONTH(DATE($Q$4,P20+6,O22+7))=MONTH(DATE($Q$4,P20+6,1)),O22+7,"") -> 24
A24: =IF(MONTH(DATE($Q$4,P20,A23+7))=MONTH(DATE($Q$4,P20,1)),A23+7,"") -> 27 | B24: =IF(MONTH(DATE($Q$4,P20,B23+7))=MONTH(DATE($Q$4,P20,1)),B23+7,"") -> 28 | C24: =IF(MONTH(DATE($Q$4,P20,C23+7))=MONTH(DATE($Q$4,P20,1)),C23+7,"") -> 29 | D24: =IF(MONTH(DATE($Q$4,P20,D23+7))=MONTH(DATE($Q$4,P20,1)),D23+7,"") -> 30 | E24: =IF(MONTH(DATE($Q$4,P20,E23+7))=MONTH(DATE($Q$4,P20,1)),E23+7,"") -> 31 | F24: =IF(MONTH(DATE($Q$4,P20,F23+7))=MONTH(DATE($Q$4,P20,1)),F23+7,"") | G24: =IF(MONTH(DATE($Q$4,P20,G23+7))=MONTH(DATE($Q$4,P20,1)),G23+7,"") | I24: =IF(MONTH(DATE($Q$4,P20+6,I23+7))=MONTH(DATE($Q$4,P20+6,1)),I23+7,"") -> 25 | J24: =IF(MONTH(DATE($Q$4,P20+6,J23+7))=MONTH(DATE($Q$4,P20+6,1)),J23+7,"") -> 26 | K24: =IF(MONTH(DATE($Q$4,P20+6,K23+7))=MONTH(DATE($Q$4,P20+6,1)),K23+7,"") -> 27 | L24: =IF(MONTH(DATE($Q$4,P20+6,L23+7))=MONTH(DATE($Q$4,P20+6,1)),L23+7,"") -> 28 | M24: =IF(MONTH(DATE($Q$4,P20+6,M23+7))=MONTH(DATE($Q$4,P20+6,1)),M23+7,"") -> 29 | N24: =IF(MONTH(DATE($Q$4,P20+6,N23+7))=MONTH(DATE($Q$4,P20+6,1)),N23+7,"") -> 30 | O24: =IF(MONTH(DATE($Q$4,P20+6,O23+7))=MONTH(DATE($Q$4,P20+6,1)),O23+7,"")
A25: =IF(ISNUMBER(G24),IF(MONTH(DATE($Q$4,P20,A24+7))=P20,A24+7,""),"") | B25: =IF(ISNUMBER(A25),IF(MONTH(DATE($Q$4,P20,B24+7))=P20,B24+7,""),"") | C25: =IF(ISNUMBER(B25),IF(MONTH(DATE($Q$4,P20,C24+7))=P20,C24+7,""),"") | D25: =IF(ISNUMBER(C25),IF(MONTH(DATE($Q$4,P20,D24+7))=P20,D24+7,""),"") | E25: =IF(ISNUMBER(D25),IF(MONTH(DATE($Q$4,P20,E24+7))=P20,E24+7,""),"") | F25: =IF(ISNUMBER(E25),IF(MONTH(DATE($Q$4,P20,F24+7))=P20,F24+7,""),"") | G25: =IF(ISNUMBER(F25),IF(MONTH(DATE($Q$4,P20,G24+7))=P20,G24+7,""),"") | I25: =IF(ISNUMBER(O24),IF(MONTH(DATE($Q$4,P20+6,I24+7))=P20+6,I24+7,""),"") | J25: =IF(ISNUMBER(I25),IF(MONTH(DATE($Q$4,P20+6,J24+7))=P20+6,J24+7,""),"") | K25: =IF(ISNUMBER(J25),IF(MONTH(DATE($Q$4,P20+6,K24+7))=P20+6,K24+7,""),"") | L25: =IF(ISNUMBER(K25),IF(MONTH(DATE($Q$4,P20+6,L24+7))=P20+6,L24+7,""),"") | M25: =IF(ISNUMBER(L25),IF(MONTH(DATE($Q$4,P20+6,M24+7))=P20+6,M24+7,""),"") | N25: =IF(ISNUMBER(M25),IF(MONTH(DATE($Q$4,P20+6,N24+7))=P20+6,N24+7,""),"") | O25: =IF(ISNUMBER(N25),IF(MONTH(DATE($Q$4,P20+6,O24+7))=P20+6,O24+7,""),"")
A26: APR | I26: OCT
A27: S | B27: M | C27: Tu | D27: W | E27: Th | F27: F | G27: S | I27: S | J27: M | K27: Tu | L27: W | M27: Th | N27: F | O27: S
A28: =IF(WEEKDAY(DATE($Q$4,P28,1))=1,1,"") | B28: =IF(ISNUMBER(A28),A28+1,IF(WEEKDAY(DATE($Q$4,P28,1))=2,1,"")) | C28: =IF(ISNUMBER(B28),B28+1,IF(WEEKDAY(DATE($Q$4,P28,1))=3,1,"")) | D28: =IF(ISNUMBER(C28),C28+1,IF(WEEKDAY(DATE($Q$4,P28,1))=4,1,"")) | E28: =IF(ISNUMBER(D28),D28+1,IF(WEEKDAY(DATE($Q$4,P28,1))=5,1,"")) | F28: =IF(ISNUMBER(E28),E28+1,IF(WEEKDAY(DATE($Q$4,P28,1))=6,1,"")) -> 1 | G28: =IF(ISNUMBER(F28),F28+1,IF(WEEKDAY(DATE($Q$4,P28,1))=7,1,"")) -> 2 | I28: =IF(WEEKDAY(DATE($Q$4,P28+6,1))=1,1,"") | J28: =IF(ISNUMBER(I28),I28+1,IF(WEEKDAY(DATE($Q$4,P28+6,1))=2,1,"")) | K28: =IF(ISNUMBER(J28),J28+1,IF(WEEKDAY(DATE($Q$4,P28+6,1))=3,1,"")) | L28: =IF(ISNUMBER(K28),K28+1,IF(WEEKDAY(DATE($Q$4,P28+6,1))=4,1,"")) | M28: =IF(ISNUMBER(L28),L28+1,IF(WEEKDAY(DATE($Q$4,P28+6,1))=5,1,"")) | N28: =IF(ISNUMBER(M28),M28+1,IF(WEEKDAY(DATE($Q$4,P28+6,1))=6,1,"")) | O28: =IF(ISNUMBER(N28),N28+1,IF(WEEKDAY(DATE($Q$4,P28+6,1))=7,1,"")) -> 1 | P28: 4
A29: =IF(ISNUMBER(A28),A28+7,G28+1) -> 3 | B29: =IF(ISNUMBER(B28),B28+7,A29+1) -> 4 | C29: =IF(ISNUMBER(C28),C28+7,B29+1) -> 5 | D29: =IF(ISNUMBER(D28),D28+7,C29+1) -> 6 | E29: =IF(ISNUMBER(E28),E28+7,D29+1) -> 7 | F29: =IF(ISNUMBER(F28),F28+7,E29+1) -> 8 | G29: =IF(ISNUMBER(G28),G28+7,F29+1) -> 9 | I29: =IF(ISNUMBER(I28),I28+7,O28+1) -> 2 | J29: =IF(ISNUMBER(J28),J28+7,I29+1) -> 3 | K29: =IF(ISNUMBER(K28),K28+7,J29+1) -> 4 | L29: =IF(ISNUMBER(L28),L28+7,K29+1) -> 5 | M29: =IF(ISNUMBER(M28),M28+7,L29+1) -> 6 | N29: =IF(ISNUMBER(N28),N28+7,M29+1) -> 7 | O29: =IF(ISNUMBER(O28),O28+7,N29+1) -> 8
A30: =+A29+7 -> 10 | B30: =+B29+7 -> 11 | C30: =+C29+7 -> 12 | D30: =+D29+7 -> 13 | E30: =+E29+7 -> 14 | F30: =+F29+7 -> 15 | G30: =+G29+7 -> 16 | I30: =+I29+7 -> 9 | J30: =+J29+7 -> 10 | K30: =+K29+7 -> 11 | L30: =+L29+7 -> 12 | M30: =+M29+7 -> 13 | N30: =+N29+7 -> 14 | O30: =+O29+7 -> 15
A31: =IF(MONTH(DATE($Q$4,P28,A30+7))=MONTH(DATE($Q$4,P28,1)),A30+7,"") -> 17 | B31: =IF(MONTH(DATE($Q$4,P28,B30+7))=MONTH(DATE($Q$4,P28,1)),B30+7,"") -> 18 | C31: =IF(MONTH(DATE($Q$4,P28,C30+7))=MONTH(DATE($Q$4,P28,1)),C30+7,"") -> 19 | D31: =IF(MONTH(DATE($Q$4,P28,D30+7))=MONTH(DATE($Q$4,P28,1)),D30+7,"") -> 20 | E31: =IF(MONTH(DATE($Q$4,P28,E30+7))=MONTH(DATE($Q$4,P28,1)),E30+7,"") -> 21 | F31: =IF(MONTH(DATE($Q$4,P28,F30+7))=MONTH(DATE($Q$4,P28,1)),F30+7,"") -> 22 | G31: =IF(MONTH(DATE($Q$4,P28,G30+7))=MONTH(DATE($Q$4,P28,1)),G30+7,"") -> 23 | I31: =IF(MONTH(DATE($Q$4,P28+6,I30+7))=MONTH(DATE($Q$4,P28+6,1)),I30+7,"") -> 16 | J31: =IF(MONTH(DATE($Q$4,P28+6,J30+7))=MONTH(DATE($Q$4,P28+6,1)),J30+7,"") -> 17 | K31: =IF(MONTH(DATE($Q$4,P28+6,K30+7))=MONTH(DATE($Q$4,P28+6,1)),K30+7,"") -> 18 | L31: =IF(MONTH(DATE($Q$4,P28+6,L30+7))=MONTH(DATE($Q$4,P28+6,1)),L30+7,"") -> 19 | M31: =IF(MONTH(DATE($Q$4,P28+6,M30+7))=MONTH(DATE($Q$4,P28+6,1)),M30+7,"") -> 20 | N31: =IF(MONTH(DATE($Q$4,P28+6,N30+7))=MONTH(DATE($Q$4,P28+6,1)),N30+7,"") -> 21 | O31: =IF(MONTH(DATE($Q$4,P28+6,O30+7))=MONTH(DATE($Q$4,P28+6,1)),O30+7,"") -> 22
A32: =IF(MONTH(DATE($Q$4,P28,A31+7))=MONTH(DATE($Q$4,P28,1)),A31+7,"") -> 24 | B32: =IF(MONTH(DATE($Q$4,P28,B31+7))=MONTH(DATE($Q$4,P28,1)),B31+7,"") -> 25 | C32: =IF(MONTH(DATE($Q$4,P28,C31+7))=MONTH(DATE($Q$4,P28,1)),C31+7,"") -> 26 | D32: =IF(MONTH(DATE($Q$4,P28,D31+7))=MONTH(DATE($Q$4,P28,1)),D31+7,"") -> 27 | E32: =IF(MONTH(DATE($Q$4,P28,E31+7))=MONTH(DATE($Q$4,P28,1)),E31+7,"") -> 28 | F32: =IF(MONTH(DATE($Q$4,P28,F31+7))=MONTH(DATE($Q$4,P28,1)),F31+7,"") -> 29 | G32: =IF(MONTH(DATE($Q$4,P28,G31+7))=MONTH(DATE($Q$4,P28,1)),G31+7,"") -> 30 | I32: =IF(MONTH(DATE($Q$4,P28+6,I31+7))=MONTH(DATE($Q$4,P28+6,1)),I31+7,"") -> 23 | J32: =IF(MONTH(DATE($Q$4,P28+6,J31+7))=MONTH(DATE($Q$4,P28+6,1)),J31+7,"") -> 24 | K32: =IF(MONTH(DATE($Q$4,P28+6,K31+7))=MONTH(DATE($Q$4,P28+6,1)),K31+7,"") -> 25 | L32: =IF(MONTH(DATE($Q$4,P28+6,L31+7))=MONTH(DATE($Q$4,P28+6,1)),L31+7,"") -> 26 | M32: =IF(MONTH(DATE($Q$4,P28+6,M31+7))=MONTH(DATE($Q$4,P28+6,1)),M31+7,"") -> 27 | N32: =IF(MONTH(DATE($Q$4,P28+6,N31+7))=MONTH(DATE($Q$4,P28+6,1)),N31+7,"") -> 28 | O32: =IF(MONTH(DATE($Q$4,P28+6,O31+7))=MONTH(DATE($Q$4,P28+6,1)),O31+7,"") -> 29
A33: =IF(ISNUMBER(G32),IF(MONTH(DATE($Q$4,P28,A32+7))=P28,A32+7,""),"") | B33: =IF(ISNUMBER(A33),IF(MONTH(DATE($Q$4,P28,B32+7))=P28,B32+7,""),"") | C33: =IF(ISNUMBER(B33),IF(MONTH(DATE($Q$4,P28,C32+7))=P28,C32+7,""),"") | D33: =IF(ISNUMBER(C33),IF(MONTH(DATE($Q$4,P28,D32+7))=P28,D32+7,""),"") | E33: =IF(ISNUMBER(D33),IF(MONTH(DATE($Q$4,P28,E32+7))=P28,E32+7,""),"") | F33: =IF(ISNUMBER(E33),IF(MONTH(DATE($Q$4,P28,F32+7))=P28,F32+7,""),"") | G33: =IF(ISNUMBER(F33),IF(MONTH(DATE($Q$4,P28,G32+7))=P28,G32+7,""),"") | I33: =IF(ISNUMBER(O32),IF(MONTH(DATE($Q$4,P28+6,I32+7))=P28+6,I32+7,""),"") -> 30 | J33: =IF(ISNUMBER(I33),IF(MONTH(DATE($Q$4,P28+6,J32+7))=P28+6,J32+7,""),"") -> 31 | K33: =IF(ISNUMBER(J33),IF(MONTH(DATE($Q$4,P28+6,K32+7))=P28+6,K32+7,""),"") | L33: =IF(ISNUMBER(K33),IF(MONTH(DATE($Q$4,P28+6,L32+7))=P28+6,L32+7,""),"") | M33: =IF(ISNUMBER(L33),IF(MONTH(DATE($Q$4,P28+6,M32+7))=P28+6,M32+7,""),"") | N33: =IF(ISNUMBER(M33),IF(MONTH(DATE($Q$4,P28+6,N32+7))=P28+6,N32+7,""),"") | O33: =IF(ISNUMBER(N33),IF(MONTH(DATE($Q$4,P28+6,O32+7))=P28+6,O32+7,""),"")
A34: MAY | I34: NOV
A35: S | B35: M | C35: Tu | D35: W | E35: Th | F35: F | G35: S | I35: S | J35: M | K35: Tu | L35: W | M35: Th | N35: F | O35: S
A36: =IF(WEEKDAY(DATE($Q$4,P36,1))=1,1,"") -> 1 | B36: =IF(ISNUMBER(A36),A36+1,IF(WEEKDAY(DATE($Q$4,P36,1))=2,1,"")) -> 2 | C36: =IF(ISNUMBER(B36),B36+1,IF(WEEKDAY(DATE($Q$4,P36,1))=3,1,"")) -> 3 | D36: =IF(ISNUMBER(C36),C36+1,IF(WEEKDAY(DATE($Q$4,P36,1))=4,1,"")) -> 4 | E36: =IF(ISNUMBER(D36),D36+1,IF(WEEKDAY(DATE($Q$4,P36,1))=5,1,"")) -> 5 | F36: =IF(ISNUMBER(E36),E36+1,IF(WEEKDAY(DATE($Q$4,P36,1))=6,1,"")) -> 6 | G36: =IF(ISNUMBER(F36),F36+1,IF(WEEKDAY(DATE($Q$4,P36,1))=7,1,"")) -> 7 | I36: =IF(WEEKDAY(DATE($Q$4,P36+6,1))=1,1,"") | J36: =IF(ISNUMBER(I36),I36+1,IF(WEEKDAY(DATE($Q$4,P36+6,1))=2,1,"")) | K36: =IF(ISNUMBER(J36),J36+1,IF(WEEKDAY(DATE($Q$4,P36+6,1))=3,1,"")) -> 1 | L36: =IF(ISNUMBER(K36),K36+1,IF(WEEKDAY(DATE($Q$4,P36+6,1))=4,1,"")) -> 2 | M36: =IF(ISNUMBER(L36),L36+1,IF(WEEKDAY(DATE($Q$4,P36+6,1))=5,1,"")) -> 3 | N36: =IF(ISNUMBER(M36),M36+1,IF(WEEKDAY(DATE($Q$4,P36+6,1))=6,1,"")) -> 4 | O36: =IF(ISNUMBER(N36),N36+1,IF(WEEKDAY(DATE($Q$4,P36+6,1))=7,1,"")) -> 5 | P36: 5
A37: =IF(ISNUMBER(A36),A36+7,G36+1) -> 8 | B37: =IF(ISNUMBER(B36),B36+7,A37+1) -> 9 | C37: =IF(ISNUMBER(C36),C36+7,B37+1) -> 10 | D37: =IF(ISNUMBER(D36),D36+7,C37+1) -> 11 | E37: =IF(ISNUMBER(E36),E36+7,D37+1) -> 12 | F37: =IF(ISNUMBER(F36),F36+7,E37+1) -> 13 | G37: =IF(ISNUMBER(G36),G36+7,F37+1) -> 14 | I37: =IF(ISNUMBER(I36),I36+7,O36+1) -> 6 | J37: =IF(ISNUMBER(J36),J36+7,I37+1) -> 7 | K37: =IF(ISNUMBER(K36),K36+7,J37+1) -> 8 | L37: =IF(ISNUMBER(L36),L36+7,K37+1) -> 9 | M37: =IF(ISNUMBER(M36),M36+7,L37+1) -> 10 | N37: =IF(ISNUMBER(N36),N36+7,M37+1) -> 11 | O37: =IF(ISNUMBER(O36),O36+7,N37+1) -> 12
A38: =+A37+7 -> 15 | B38: =+B37+7 -> 16 | C38: =+C37+7 -> 17 | D38: =+D37+7 -> 18 | E38: =+E37+7 -> 19 | F38: =+F37+7 -> 20 | G38: =+G37+7 -> 21 | I38: =+I37+7 -> 13 | J38: =+J37+7 -> 14 | K38: =+K37+7 -> 15 | L38: =+L37+7 -> 16 | M38: =+M37+7 -> 17 | N38: =+N37+7 -> 18 | O38: =+O37+7 -> 19
A39: =IF(MONTH(DATE($Q$4,P36,A38+7))=MONTH(DATE($Q$4,P36,1)),A38+7,"") -> 22 | B39: =IF(MONTH(DATE($Q$4,P36,B38+7))=MONTH(DATE($Q$4,P36,1)),B38+7,"") -> 23 | C39: =IF(MONTH(DATE($Q$4,P36,C38+7))=MONTH(DATE($Q$4,P36,1)),C38+7,"") -> 24 | D39: =IF(MONTH(DATE($Q$4,P36,D38+7))=MONTH(DATE($Q$4,P36,1)),D38+7,"") -> 25 | E39: =IF(MONTH(DATE($Q$4,P36,E38+7))=MONTH(DATE($Q$4,P36,1)),E38+7,"") -> 26 | F39: =IF(MONTH(DATE($Q$4,P36,F38+7))=MONTH(DATE($Q$4,P36,1)),F38+7,"") -> 27 | G39: =IF(MONTH(DATE($Q$4,P36,G38+7))=MONTH(DATE($Q$4,P36,1)),G38+7,"") -> 28 | I39: =IF(MONTH(DATE($Q$4,P36+6,I38+7))=MONTH(DATE($Q$4,P36+6,1)),I38+7,"") -> 20 | J39: =IF(MONTH(DATE($Q$4,P36+6,J38+7))=MONTH(DATE($Q$4,P36+6,1)),J38+7,"") -> 21 | K39: =IF(MONTH(DATE($Q$4,P36+6,K38+7))=MONTH(DATE($Q$4,P36+6,1)),K38+7,"") -> 22 | L39: =IF(MONTH(DATE($Q$4,P36+6,L38+7))=MONTH(DATE($Q$4,P36+6,1)),L38+7,"") -> 23 | M39: =IF(MONTH(DATE($Q$4,P36+6,M38+7))=MONTH(DATE($Q$4,P36+6,1)),M38+7,"") -> 24 | N39: =IF(MONTH(DATE($Q$4,P36+6,N38+7))=MONTH(DATE($Q$4,P36+6,1)),N38+7,"") -> 25 | O39: =IF(MONTH(DATE($Q$4,P36+6,O38+7))=MONTH(DATE($Q$4,P36+6,1)),O38+7,"") -> 26
A40: =IF(MONTH(DATE($Q$4,P36,A39+7))=MONTH(DATE($Q$4,P36,1)),A39+7,"") -> 29 | B40: =IF(MONTH(DATE($Q$4,P36,B39+7))=MONTH(DATE($Q$4,P36,1)),B39+7,"") -> 30 | C40: =IF(MONTH(DATE($Q$4,P36,C39+7))=MONTH(DATE($Q$4,P36,1)),C39+7,"") -> 31 | D40: =IF(MONTH(DATE($Q$4,P36,D39+7))=MONTH(DATE($Q$4,P36,1)),D39+7,"") | E40: =IF(MONTH(DATE($Q$4,P36,E39+7))=MONTH(DATE($Q$4,P36,1)),E39+7,"") | F40: =IF(MONTH(DATE($Q$4,P36,F39+7))=MONTH(DATE($Q$4,P36,1)),F39+7,"") | G40: =IF(MONTH(DATE($Q$4,P36,G39+7))=MONTH(DATE($Q$4,P36,1)),G39+7,"") | I40: =IF(MONTH(DATE($Q$4,P36+6,I39+7))=MONTH(DATE($Q$4,P36+6,1)),I39+7,"") -> 27 | J40: =IF(MONTH(DATE($Q$4,P36+6,J39+7))=MONTH(DATE($Q$4,P36+6,1)),J39+7,"") -> 28 | K40: =IF(MONTH(DATE($Q$4,P36+6,K39+7))=MONTH(DATE($Q$4,P36+6,1)),K39+7,"") -> 29 | L40: =IF(MONTH(DATE($Q$4,P36+6,L39+7))=MONTH(DATE($Q$4,P36+6,1)),L39+7,"") -> 30 | M40: =IF(MONTH(DATE($Q$4,P36+6,M39+7))=MONTH(DATE($Q$4,P36+6,1)),M39+7,"") | N40: =IF(MONTH(DATE($Q$4,P36+6,N39+7))=MONTH(DATE($Q$4,P36+6,1)),N39+7,"") | O40: =IF(MONTH(DATE($Q$4,P36+6,O39+7))=MONTH(DATE($Q$4,P36+6,1)),O39+7,"")
A41: =IF(ISNUMBER(G40),IF(MONTH(DATE($Q$4,P36,A40+7))=P36,A40+7,""),"") | B41: =IF(ISNUMBER(A41),IF(MONTH(DATE($Q$4,P36,B40+7))=P36,B40+7,""),"") | C41: =IF(ISNUMBER(B41),IF(MONTH(DATE($Q$4,P36,C40+7))=P36,C40+7,""),"") | D41: =IF(ISNUMBER(C41),IF(MONTH(DATE($Q$4,P36,D40+7))=P36,D40+7,""),"") | E41: =IF(ISNUMBER(D41),IF(MONTH(DATE($Q$4,P36,E40+7))=P36,E40+7,""),"") | F41: =IF(ISNUMBER(E41),IF(MONTH(DATE($Q$4,P36,F40+7))=P36,F40+7,""),"") | G41: =IF(ISNUMBER(F41),IF(MONTH(DATE($Q$4,P36,G40+7))=P36,G40+7,""),"") | I41: =IF(ISNUMBER(O40),IF(MONTH(DATE($Q$4,P36+6,I40+7))=P36+6,I40+7,""),"") | J41: =IF(ISNUMBER(I41),IF(MONTH(DATE($Q$4,P36+6,J40+7))=P36+6,J40+7,""),"") | K41: =IF(ISNUMBER(J41),IF(MONTH(DATE($Q$4,P36+6,K40+7))=P36+6,K40+7,""),"") | L41: =IF(ISNUMBER(K41),IF(MONTH(DATE($Q$4,P36+6,L40+7))=P36+6,L40+7,""),"") | M41: =IF(ISNUMBER(L41),IF(MONTH(DATE($Q$4,P36+6,M40+7))=P36+6,M40+7,""),"") | N41: =IF(ISNUMBER(M41),IF(MONTH(DATE($Q$4,P36+6,N40+7))=P36+6,N40+7,""),"") | O41: =IF(ISNUMBER(N41),IF(MONTH(DATE($Q$4,P36+6,O40+7))=P36+6,O40+7,""),"")
A42: JUN | I42: DEC
A43: S | B43: M | C43: Tu | D43: W | E43: Th | F43: F | G43: S | I43: S | J43: M | K43: Tu | L43: W | M43: Th | N43: F | O43: S
A44: =IF(WEEKDAY(DATE($Q$4,P44,1))=1,1,"") | B44: =IF(ISNUMBER(A44),A44+1,IF(WEEKDAY(DATE($Q$4,P44,1))=2,1,"")) | C44: =IF(ISNUMBER(B44),B44+1,IF(WEEKDAY(DATE($Q$4,P44,1))=3,1,"")) | D44: =IF(ISNUMBER(C44),C44+1,IF(WEEKDAY(DATE($Q$4,P44,1))=4,1,"")) -> 1 | E44: =IF(ISNUMBER(D44),D44+1,IF(WEEKDAY(DATE($Q$4,P44,1))=5,1,"")) -> 2 | F44: =IF(ISNUMBER(E44),E44+1,IF(WEEKDAY(DATE($Q$4,P44,1))=6,1,"")) -> 3 | G44: =IF(ISNUMBER(F44),F44+1,IF(WEEKDAY(DATE($Q$4,P44,1))=7,1,"")) -> 4 | I44: =IF(WEEKDAY(DATE($Q$4,P44+6,1))=1,1,"") | J44: =IF(ISNUMBER(I44),I44+1,IF(WEEKDAY(DATE($Q$4,P44+6,1))=2,1,"")) | K44: =IF(ISNUMBER(J44),J44+1,IF(WEEKDAY(DATE($Q$4,P44+6,1))=3,1,"")) | L44: =IF(ISNUMBER(K44),K44+1,IF(WEEKDAY(DATE($Q$4,P44+6,1))=4,1,"")) | M44: =IF(ISNUMBER(L44),L44+1,IF(WEEKDAY(DATE($Q$4,P44+6,1))=5,1,"")) -> 1 | N44: =IF(ISNUMBER(M44),M44+1,IF(WEEKDAY(DATE($Q$4,P44+6,1))=6,1,"")) -> 2 | O44: =IF(ISNUMBER(N44),N44+1,IF(WEEKDAY(DATE($Q$4,P44+6,1))=7,1,"")) -> 3 | P44: 6
A45: =IF(ISNUMBER(A44),A44+7,G44+1) -> 5 | B45: =IF(ISNUMBER(B44),B44+7,A45+1) -> 6 | C45: =IF(ISNUMBER(C44),C44+7,B45+1) -> 7 | D45: =IF(ISNUMBER(D44),D44+7,C45+1) -> 8 | E45: =IF(ISNUMBER(E44),E44+7,D45+1) -> 9 | F45: =IF(ISNUMBER(F44),F44+7,E45+1) -> 10 | G45: =IF(ISNUMBER(G44),G44+7,F45+1) -> 11 | I45: =IF(ISNUMBER(I44),I44+7,O44+1) -> 4 | J45: =IF(ISNUMBER(J44),J44+7,I45+1) -> 5 | K45: =IF(ISNUMBER(K44),K44+7,J45+1) -> 6 | L45: =IF(ISNUMBER(L44),L44+7,K45+1) -> 7 | M45: =IF(ISNUMBER(M44),M44+7,L45+1) -> 8 | N45: =IF(ISNUMBER(N44),N44+7,M45+1) -> 9 | O45: =IF(ISNUMBER(O44),O44+7,N45+1) -> 10
A46: =+A45+7 -> 12 | B46: =+B45+7 -> 13 | C46: =+C45+7 -> 14 | D46: =+D45+7 -> 15 | E46: =+E45+7 -> 16 | F46: =+F45+7 -> 17 | G46: =+G45+7 -> 18 | I46: =+I45+7 -> 11 | J46: =+J45+7 -> 12 | K46: =+K45+7 -> 13 | L46: =+L45+7 -> 14 | M46: =+M45+7 -> 15 | N46: =+N45+7 -> 16 | O46: =+O45+7 -> 17
A47: =IF(MONTH(DATE($Q$4,P44,A46+7))=MONTH(DATE($Q$4,P44,1)),A46+7,"") -> 19 | B47: =IF(MONTH(DATE($Q$4,P44,B46+7))=MONTH(DATE($Q$4,P44,1)),B46+7,"") -> 20 | C47: =IF(MONTH(DATE($Q$4,P44,C46+7))=MONTH(DATE($Q$4,P44,1)),C46+7,"") -> 21 | D47: =IF(MONTH(DATE($Q$4,P44,D46+7))=MONTH(DATE($Q$4,P44,1)),D46+7,"") -> 22 | E47: =IF(MONTH(DATE($Q$4,P44,E46+7))=MONTH(DATE($Q$4,P44,1)),E46+7,"") -> 23 | F47: =IF(MONTH(DATE($Q$4,P44,F46+7))=MONTH(DATE($Q$4,P44,1)),F46+7,"") -> 24 | G47: =IF(MONTH(DATE($Q$4,P44,G46+7))=MONTH(DATE($Q$4,P44,1)),G46+7,"") -> 25 | I47: =IF(MONTH(DATE($Q$4,P44+6,I46+7))=MONTH(DATE($Q$4,P44+6,1)),I46+7,"") -> 18 | J47: =IF(MONTH(DATE($Q$4,P44+6,J46+7))=MONTH(DATE($Q$4,P44+6,1)),J46+7,"") -> 19 | K47: =IF(MONTH(DATE($Q$4,P44+6,K46+7))=MONTH(DATE($Q$4,P44+6,1)),K46+7,"") -> 20 | L47: =IF(MONTH(DATE($Q$4,P44+6,L46+7))=MONTH(DATE($Q$4,P44+6,1)),L46+7,"") -> 21 | M47: =IF(MONTH(DATE($Q$4,P44+6,M46+7))=MONTH(DATE($Q$4,P44+6,1)),M46+7,"") -> 22 | N47: =IF(MONTH(DATE($Q$4,P44+6,N46+7))=MONTH(DATE($Q$4,P44+6,1)),N46+7,"") -> 23 | O47: =IF(MONTH(DATE($Q$4,P44+6,O46+7))=MONTH(DATE($Q$4,P44+6,1)),O46+7,"") -> 24
A48: =IF(MONTH(DATE($Q$4,P44,A47+7))=MONTH(DATE($Q$4,P44,1)),A47+7,"") -> 26 | B48: =IF(MONTH(DATE($Q$4,P44,B47+7))=MONTH(DATE($Q$4,P44,1)),B47+7,"") -> 27 | C48: =IF(MONTH(DATE($Q$4,P44,C47+7))=MONTH(DATE($Q$4,P44,1)),C47+7,"") -> 28 | D48: =IF(MONTH(DATE($Q$4,P44,D47+7))=MONTH(DATE($Q$4,P44,1)),D47+7,"") -> 29 | E48: =IF(MONTH(DATE($Q$4,P44,E47+7))=MONTH(DATE($Q$4,P44,1)),E47+7,"") -> 30 | F48: =IF(MONTH(DATE($Q$4,P44,F47+7))=MONTH(DATE($Q$4,P44,1)),F47+7,"") | G48: =IF(MONTH(DATE($Q$4,P44,G47+7))=MONTH(DATE($Q$4,P44,1)),G47+7,"") | I48: =IF(MONTH(DATE($Q$4,P44+6,I47+7))=MONTH(DATE($Q$4,P44+6,1)),I47+7,"") -> 25 | J48: =IF(MONTH(DATE($Q$4,P44+6,J47+7))=MONTH(DATE($Q$4,P44+6,1)),J47+7,"") -> 26 | K48: =IF(MONTH(DATE($Q$4,P44+6,K47+7))=MONTH(DATE($Q$4,P44+6,1)),K47+7,"") -> 27 | L48: =IF(MONTH(DATE($Q$4,P44+6,L47+7))=MONTH(DATE($Q$4,P44+6,1)),L47+7,"") -> 28 | M48: =IF(MONTH(DATE($Q$4,P44+6,M47+7))=MONTH(DATE($Q$4,P44+6,1)),M47+7,"") -> 29 | N48: =IF(MONTH(DATE($Q$4,P44+6,N47+7))=MONTH(DATE($Q$4,P44+6,1)),N47+7,"") -> 30 | O48: =IF(MONTH(DATE($Q$4,P44+6,O47+7))=MONTH(DATE($Q$4,P44+6,1)),O47+7,"") -> 31
A49: =IF(ISNUMBER(G48),IF(MONTH(DATE($Q$4,P44,A48+7))=P44,A48+7,""),"") | B49: =IF(ISNUMBER(A49),IF(MONTH(DATE($Q$4,P44,B48+7))=P44,B48+7,""),"") | C49: =IF(ISNUMBER(B49),IF(MONTH(DATE($Q$4,P44,C48+7))=P44,C48+7,""),"") | D49: =IF(ISNUMBER(C49),IF(MONTH(DATE($Q$4,P44,D48+7))=P44,D48+7,""),"") | E49: =IF(ISNUMBER(D49),IF(MONTH(DATE($Q$4,P44,E48+7))=P44,E48+7,""),"") | F49: =IF(ISNUMBER(E49),IF(MONTH(DATE($Q$4,P44,F48+7))=P44,F48+7,""),"") | G49: =IF(ISNUMBER(F49),IF(MONTH(DATE($Q$4,P44,G48+7))=P44,G48+7,""),"") | I49: =IF(ISNUMBER(O48),IF(MONTH(DATE($Q$4,P44+6,I48+7))=P44+6,I48+7,""),"") | J49: =IF(ISNUMBER(I49),IF(MONTH(DATE($Q$4,P44+6,J48+7))=P44+6,J48+7,""),"") | K49: =IF(ISNUMBER(J49),IF(MONTH(DATE($Q$4,P44+6,K48+7))=P44+6,K48+7,""),"") | L49: =IF(ISNUMBER(K49),IF(MONTH(DATE($Q$4,P44+6,L48+7))=P44+6,L48+7,""),"") | M49: =IF(ISNUMBER(L49),IF(MONTH(DATE($Q$4,P44+6,M48+7))=P44+6,M48+7,""),"") | N49: =IF(ISNUMBER(M49),IF(MONTH(DATE($Q$4,P44+6,N48+7))=P44+6,N48+7,""),"") | O49: =IF(ISNUMBER(N49),IF(MONTH(DATE($Q$4,P44+6,O48+7))=P44+6,O48+7,""),"")

Sheet 1-Month-L
B2: =VLOOKUP(J4,$J$5:$K$16,2)&", "&$K$4 -> March, 2016
J3: Month | K3: Year
B4: Sun | C4: Mon | D4: Tue | E4: Wed | F4: Thu | G4: Fri | H4: Sat | J4: =IF('Input Date'!$C$18<>"",'Input Date'!$C$18,1) -> 3 | K4: ='Input Date'!$C$17 -> 2016
B5: =IF(WEEKDAY(DATE($K$4,$J$4,1))=1,1,"") | C5: =IF(ISNUMBER(B5),B5+1,IF(WEEKDAY(DATE($K$4,$J$4,1))=2,1,"")) | D5: =IF(ISNUMBER(C5),C5+1,IF(WEEKDAY(DATE($K$4,$J$4,1))=3,1,"")) -> 1 | E5: =IF(ISNUMBER(D5),D5+1,IF(WEEKDAY(DATE($K$4,$J$4,1))=4,1,"")) -> 2 | F5: =IF(ISNUMBER(E5),E5+1,IF(WEEKDAY(DATE($K$4,$J$4,1))=5,1,"")) -> 3 | G5: =IF(ISNUMBER(F5),F5+1,IF(WEEKDAY(DATE($K$4,$J$4,1))=6,1,"")) -> 4 | H5: =IF(ISNUMBER(G5),G5+1,IF(WEEKDAY(DATE($K$4,$J$4,1))=7,1,"")) -> 5 | J5: 1 | K5: Jan
B6: =IF(ISNUMBER(B5),B5+7,H5+1) -> 6 | C6: =IF(ISNUMBER(C5),C5+7,B6+1) -> 7 | D6: =IF(ISNUMBER(D5),D5+7,C6+1) -> 8 | E6: =IF(ISNUMBER(E5),E5+7,D6+1) -> 9 | F6: =IF(ISNUMBER(F5),F5+7,E6+1) -> 10 | G6: =IF(ISNUMBER(G5),G5+7,F6+1) -> 11 | H6: =IF(ISNUMBER(H5),H5+7,G6+1) -> 12 | J6: 2 | K6: Feb
B7: =+B6+7 -> 13 | C7: =+C6+7 -> 14 | D7: =+D6+7 -> 15 | E7: =+E6+7 -> 16 | F7: =+F6+7 -> 17 | G7: =+G6+7 -> 18 | H7: =+H6+7 -> 19 | J7: 3 | K7: March
B8: =IF(MONTH(DATE($K$4,$J$4,B7+7))=MONTH(DATE($K$4,$J$4,1)),B7+7,"") -> 20 | C8: =IF(MONTH(DATE($K$4,$J$4,C7+7))=MONTH(DATE($K$4,$J$4,1)),C7+7,"") -> 21 | D8: =IF(MONTH(DATE($K$4,$J$4,D7+7))=MONTH(DATE($K$4,$J$4,1)),D7+7,"") -> 22 | E8: =IF(MONTH(DATE($K$4,$J$4,E7+7))=MONTH(DATE($K$4,$J$4,1)),E7+7,"") -> 23 | F8: =IF(MONTH(DATE($K$4,$J$4,F7+7))=MONTH(DATE($K$4,$J$4,1)),F7+7,"") -> 24 | G8: =IF(MONTH(DATE($K$4,$J$4,G7+7))=MONTH(DATE($K$4,$J$4,1)),G7+7,"") -> 25 | H8: =IF(MONTH(DATE($K$4,$J$4,H7+7))=MONTH(DATE($K$4,$J$4,1)),H7+7,"") -> 26 | J8: 4 | K8: April
B9: =IF(MONTH(DATE($K$4,$J$4,B8+7))=MONTH(DATE($K$4,$J$4,1)),B8+7,"") -> 27 | C9: =IF(MONTH(DATE($K$4,$J$4,C8+7))=MONTH(DATE($K$4,$J$4,1)),C8+7,"") -> 28 | D9: =IF(MONTH(DATE($K$4,$J$4,D8+7))=MONTH(DATE($K$4,$J$4,1)),D8+7,"") -> 29 | E9: =IF(MONTH(DATE($K$4,$J$4,E8+7))=MONTH(DATE($K$4,$J$4,1)),E8+7,"") -> 30 | F9: =IF(MONTH(DATE($K$4,$J$4,F8+7))=MONTH(DATE($K$4,$J$4,1)),F8+7,"") -> 31 | G9: =IF(MONTH(DATE($K$4,$J$4,G8+7))=MONTH(DATE($K$4,$J$4,1)),G8+7,"") | H9: =IF(MONTH(DATE($K$4,$J$4,H8+7))=MONTH(DATE($K$4,$J$4,1)),H8+7,"") | J9: 5 | K9: May
B10: =IF(ISNUMBER(H9),IF(MONTH(DATE($K$4,$AF$4,B9+7))=$AF$4,B9+7,""),"") | C10: =IF(ISNUMBER(B10),IF(MONTH(DATE($K$4,$AF$4,C9+7))=$AF$4,C9+7,""),"") | D10: =IF(ISNUMBER(C10),IF(MONTH(DATE($K$4,$AF$4,D9+7))=$AF$4,D9+7,""),"") | E10: =IF(ISNUMBER(D10),IF(MONTH(DATE($K$4,$AF$4,E9+7))=$AF$4,E9+7,""),"") | F10: =IF(ISNUMBER(E10),IF(MONTH(DATE($K$4,$AF$4,F9+7))=$AF$4,F9+7,""),"") | G10: =IF(ISNUMBER(F10),IF(MONTH(DATE($K$4,$AF$4,G9+7))=$AF$4,G9+7,""),"") | H10: =IF(ISNUMBER(G10),IF(MONTH(DATE($K$4,$AF$4,H9+7))=$AF$4,H9+7,""),"") | J10: 6 | K10: June
J11: 7 | K11: July
J12: 8 | K12: Aug
J13: 9 | K13: Sept
J14: 10 | K14: Oct
J15: 11 | K15: Nov
J16: 12 | K16: Dec

Sheet 1-Month-P
B2: =VLOOKUP(J4,$J$5:$K$16,2)&", "&$K$4 -> March, 2016
J3: Month | K3: Year
B4: Sun | C4: Mon | D4: Tue | E4: Wed | F4: Thu | G4: Fri | H4: Sat | J4: =IF('Input Date'!$C$18<>"",'Input Date'!$C$18,1) -> 3 | K4: ='Input Date'!$C$17 -> 2016
B5: =IF(WEEKDAY(DATE($K$4,$J$4,1))=1,1,"") | C5: =IF(ISNUMBER(B5),B5+1,IF(WEEKDAY(DATE($K$4,$J$4,1))=2,1,"")) | D5: =IF(ISNUMBER(C5),C5+1,IF(WEEKDAY(DATE($K$4,$J$4,1))=3,1,"")) -> 1 | E5: =IF(ISNUMBER(D5),D5+1,IF(WEEKDAY(DATE($K$4,$J$4,1))=4,1,"")) -> 2 | F5: =IF(ISNUMBER(E5),E5+1,IF(WEEKDAY(DATE($K$4,$J$4,1))=5,1,"")) -> 3 | G5: =IF(ISNUMBER(F5),F5+1,IF(WEEKDAY(DATE($K$4,$J$4,1))=6,1,"")) -> 4 | H5: =IF(ISNUMBER(G5),G5+1,IF(WEEKDAY(DATE($K$4,$J$4,1))=7,1,"")) -> 5 | J5: 1 | K5: Jan
B6: =IF(ISNUMBER(B5),B5+7,H5+1) -> 6 | C6: =IF(ISNUMBER(C5),C5+7,B6+1) -> 7 | D6: =IF(ISNUMBER(D5),D5+7,C6+1) -> 8 | E6: =IF(ISNUMBER(E5),E5+7,D6+1) -> 9 | F6: =IF(ISNUMBER(F5),F5+7,E6+1) -> 10 | G6: =IF(ISNUMBER(G5),G5+7,F6+1) -> 11 | H6: =IF(ISNUMBER(H5),H5+7,G6+1) -> 12 | J6: 2 | K6: Feb
B7: =+B6+7 -> 13 | C7: =+C6+7 -> 14 | D7: =+D6+7 -> 15 | E7: =+E6+7 -> 16 | F7: =+F6+7 -> 17 | G7: =+G6+7 -> 18 | H7: =+H6+7 -> 19 | J7: 3 | K7: March
B8: =IF(MONTH(DATE($K$4,$J$4,B7+7))=MONTH(DATE($K$4,$J$4,1)),B7+7,"") -> 20 | C8: =IF(MONTH(DATE($K$4,$J$4,C7+7))=MONTH(DATE($K$4,$J$4,1)),C7+7,"") -> 21 | D8: =IF(MONTH(DATE($K$4,$J$4,D7+7))=MONTH(DATE($K$4,$J$4,1)),D7+7,"") -> 22 | E8: =IF(MONTH(DATE($K$4,$J$4,E7+7))=MONTH(DATE($K$4,$J$4,1)),E7+7,"") -> 23 | F8: =IF(MONTH(DATE($K$4,$J$4,F7+7))=MONTH(DATE($K$4,$J$4,1)),F7+7,"") -> 24 | G8: =IF(MONTH(DATE($K$4,$J$4,G7+7))=MONTH(DATE($K$4,$J$4,1)),G7+7,"") -> 25 | H8: =IF(MONTH(DATE($K$4,$J$4,H7+7))=MONTH(DATE($K$4,$J$4,1)),H7+7,"") -> 26 | J8: 4 | K8: April
B9: =IF(MONTH(DATE($K$4,$J$4,B8+7))=MONTH(DATE($K$4,$J$4,1)),B8+7,"") -> 27 | C9: =IF(MONTH(DATE($K$4,$J$4,C8+7))=MONTH(DATE($K$4,$J$4,1)),C8+7,"") -> 28 | D9: =IF(MONTH(DATE($K$4,$J$4,D8+7))=MONTH(DATE($K$4,$J$4,1)),D8+7,"") -> 29 | E9: =IF(MONTH(DATE($K$4,$J$4,E8+7))=MONTH(DATE($K$4,$J$4,1)),E8+7,"") -> 30 | F9: =IF(MONTH(DATE($K$4,$J$4,F8+7))=MONTH(DATE($K$4,$J$4,1)),F8+7,"") -> 31 | G9: =IF(MONTH(DATE($K$4,$J$4,G8+7))=MONTH(DATE($K$4,$J$4,1)),G8+7,"") | H9: =IF(MONTH(DATE($K$4,$J$4,H8+7))=MONTH(DATE($K$4,$J$4,1)),H8+7,"") | J9: 5 | K9: May
B10: =IF(ISNUMBER(H9),IF(MONTH(DATE($K$4,$AF$4,B9+7))=$AF$4,B9+7,""),"") | C10: =IF(ISNUMBER(B10),IF(MONTH(DATE($K$4,$AF$4,C9+7))=$AF$4,C9+7,""),"") | D10: =IF(ISNUMBER(C10),IF(MONTH(DATE($K$4,$AF$4,D9+7))=$AF$4,D9+7,""),"") | E10: =IF(ISNUMBER(D10),IF(MONTH(DATE($K$4,$AF$4,E9+7))=$AF$4,E9+7,""),"") | F10: =IF(ISNUMBER(E10),IF(MONTH(DATE($K$4,$AF$4,F9+7))=$AF$4,F9+7,""),"") | G10: =IF(ISNUMBER(F10),IF(MONTH(DATE($K$4,$AF$4,G9+7))=$AF$4,G9+7,""),"") | H10: =IF(ISNUMBER(G10),IF(MONTH(DATE($K$4,$AF$4,H9+7))=$AF$4,H9+7,""),"") | J10: 6 | K10: June
J11: 7 | K11: July
J12: 8 | K12: Aug
J13: 9 | K13: Sept
J14: 10 | K14: Oct
J15: 11 | K15: Nov
J16: 12 | K16: Dec

Sheet 2-Month
B2: =VLOOKUP(J4,$J$5:$K$16,2)&", "&$K$4 -> March, 2016
J3: Month | K3: Year
B4: Sun | C4: Mon | D4: Tue | E4: Wed | F4: Thu | G4: Fri | H4: Sat | J4: =IF('Input Date'!$C$18<>"",'Input Date'!$C$18,1) -> 3 | K4: ='Input Date'!$C$17 -> 2016
B5: =IF(WEEKDAY(DATE($K$4,$J$4,1))=1,1,"") | C5: =IF(ISNUMBER(B5),B5+1,IF(WEEKDAY(DATE($K$4,$J$4,1))=2,1,"")) | D5: =IF(ISNUMBER(C5),C5+1,IF(WEEKDAY(DATE($K$4,$J$4,1))=3,1,"")) -> 1 | E5: =IF(ISNUMBER(D5),D5+1,IF(WEEKDAY(DATE($K$4,$J$4,1))=4,1,"")) -> 2 | F5: =IF(ISNUMBER(E5),E5+1,IF(WEEKDAY(DATE($K$4,$J$4,1))=5,1,"")) -> 3 | G5: =IF(ISNUMBER(F5),F5+1,IF(WEEKDAY(DATE($K$4,$J$4,1))=6,1,"")) -> 4 | H5: =IF(ISNUMBER(G5),G5+1,IF(WEEKDAY(DATE($K$4,$J$4,1))=7,1,"")) -> 5 | J5: 1 | K5: Jan
B6: =IF(ISNUMBER(B5),B5+7,H5+1) -> 6 | C6: =IF(ISNUMBER(C5),C5+7,B6+1) -> 7 | D6: =IF(ISNUMBER(D5),D5+7,C6+1) -> 8 | E6: =IF(ISNUMBER(E5),E5+7,D6+1) -> 9 | F6: =IF(ISNUMBER(F5),F5+7,E6+1) -> 10 | G6: =IF(ISNUMBER(G5),G5+7,F6+1) -> 11 | H6: =IF(ISNUMBER(H5),H5+7,G6+1) -> 12 | J6: 2 | K6: Feb
B7: =+B6+7 -> 13 | C7: =+C6+7 -> 14 | D7: =+D6+7 -> 15 | E7: =+E6+7 -> 16 | F7: =+F6+7 -> 17 | G7: =+G6+7 -> 18 | H7: =+H6+7 -> 19 | J7: 3 | K7: March
B8: =IF(MONTH(DATE($K$4,$J$4,B7+7))=MONTH(DATE($K$4,$J$4,1)),B7+7,"") -> 20 | C8: =IF(MONTH(DATE($K$4,$J$4,C7+7))=MONTH(DATE($K$4,$J$4,1)),C7+7,"") -> 21 | D8: =IF(MONTH(DATE($K$4,$J$4,D7+7))=MONTH(DATE($K$4,$J$4,1)),D7+7,"") -> 22 | E8: =IF(MONTH(DATE($K$4,$J$4,E7+7))=MONTH(DATE($K$4,$J$4,1)),E7+7,"") -> 23 | F8: =IF(MONTH(DATE($K$4,$J$4,F7+7))=MONTH(DATE($K$4,$J$4,1)),F7+7,"") -> 24 | G8: =IF(MONTH(DATE($K$4,$J$4,G7+7))=MONTH(DATE($K$4,$J$4,1)),G7+7,"") -> 25 | H8: =IF(MONTH(DATE($K$4,$J$4,H7+7))=MONTH(DATE($K$4,$J$4,1)),H7+7,"") -> 26 | J8: 4 | K8: April
B9: =IF(MONTH(DATE($K$4,$J$4,B8+7))=MONTH(DATE($K$4,$J$4,1)),B8+7,"") -> 27 | C9: =IF(MONTH(DATE($K$4,$J$4,C8+7))=MONTH(DATE($K$4,$J$4,1)),C8+7,"") -> 28 | D9: =IF(MONTH(DATE($K$4,$J$4,D8+7))=MONTH(DATE($K$4,$J$4,1)),D8+7,"") -> 29 | E9: =IF(MONTH(DATE($K$4,$J$4,E8+7))=MONTH(DATE($K$4,$J$4,1)),E8+7,"") -> 30 | F9: =IF(MONTH(DATE($K$4,$J$4,F8+7))=MONTH(DATE($K$4,$J$4,1)),F8+7,"") -> 31 | G9: =IF(MONTH(DATE($K$4,$J$4,G8+7))=MONTH(DATE($K$4,$J$4,1)),G8+7,"") | H9: =IF(MONTH(DATE($K$4,$J$4,H8+7))=MONTH(DATE($K$4,$J$4,1)),H8+7,"") | J9: 5 | K9: May
B10: =IF(ISNUMBER(H9),IF(MONTH(DATE($K$4,$J$4,B9+7))=$J$4,B9+7,""),"") | C10: =IF(ISNUMBER(B10),IF(MONTH(DATE($K$4,$J$4,C9+7))=$J$4,C9+7,""),"") | D10: =IF(ISNUMBER(C10),IF(MONTH(DATE($K$4,$J$4,D9+7))=$J$4,D9+7,""),"") | E10: =IF(ISNUMBER(D10),IF(MONTH(DATE($K$4,$J$4,E9+7))=$J$4,E9+7,""),"") | F10: =IF(ISNUMBER(E10),IF(MONTH(DATE($K$4,$J$4,F9+7))=$J$4,F9+7,""),"") | G10: =IF(ISNUMBER(F10),IF(MONTH(DATE($K$4,$J$4,G9+7))=$J$4,G9+7,""),"") | H10: =IF(ISNUMBER(G10),IF(MONTH(DATE($K$4,$J$4,H9+7))=$J$4,H9+7,""),"") | J10: 6 | K10: June
B11: =IF(J4=12,"Jan, "&K4+1,VLOOKUP(J4+1,$J$5:$K$16,2)&", "&$K$4) -> April, 2016 | J11: 7 | K11: July
J12: 8 | K12: Aug
B13: Sun | C13: Mon | D13: Tue | E13: Wed | F13: Thu | G13: Fri | H13: Sat | J13: 9 | K13: Sept
B14: =IF(WEEKDAY(DATE($K$4,$J$4+1,1))=1,1,"") | C14: =IF(ISNUMBER(B14),B14+1,IF(WEEKDAY(DATE($K$4,$J$4+1,1))=2,1,"")) | D14: =IF(ISNUMBER(C14),C14+1,IF(WEEKDAY(DATE($K$4,$J$4+1,1))=3,1,"")) | E14: =IF(ISNUMBER(D14),D14+1,IF(WEEKDAY(DATE($K$4,$J$4+1,1))=4,1,"")) | F14: =IF(ISNUMBER(E14),E14+1,IF(WEEKDAY(DATE($K$4,$J$4+1,1))=5,1,"")) | G14: =IF(ISNUMBER(F14),F14+1,IF(WEEKDAY(DATE($K$4,$J$4+1,1))=6,1,"")) -> 1 | H14: =IF(ISNUMBER(G14),G14+1,IF(WEEKDAY(DATE($K$4,$J$4+1,1))=7,1,"")) -> 2 | J14: 10 | K14: Oct
B15: =IF(ISNUMBER(B14),B14+7,H14+1) -> 3 | C15: =IF(ISNUMBER(C14),C14+7,B15+1) -> 4 | D15: =IF(ISNUMBER(D14),D14+7,C15+1) -> 5 | E15: =IF(ISNUMBER(E14),E14+7,D15+1) -> 6 | F15: =IF(ISNUMBER(F14),F14+7,E15+1) -> 7 | G15: =IF(ISNUMBER(G14),G14+7,F15+1) -> 8 | H15: =IF(ISNUMBER(H14),H14+7,G15+1) -> 9 | J15: 11 | K15: Nov
B16: =+B15+7 -> 10 | C16: =+C15+7 -> 11 | D16: =+D15+7 -> 12 | E16: =+E15+7 -> 13 | F16: =+F15+7 -> 14 | G16: =+G15+7 -> 15 | H16: =+H15+7 -> 16 | J16: 12 | K16: Dec
B17: =IF(MONTH(DATE($K$4,$J$4+1,B16+7))=MONTH(DATE($K$4,$J$4+1,1)),B16+7,"") -> 17 | C17: =IF(MONTH(DATE($K$4,$J$4+1,C16+7))=MONTH(DATE($K$4,$J$4+1,1)),C16+7,"") -> 18 | D17: =IF(MONTH(DATE($K$4,$J$4+1,D16+7))=MONTH(DATE($K$4,$J$4+1,1)),D16+7,"") -> 19 | E17: =IF(MONTH(DATE($K$4,$J$4+1,E16+7))=MONTH(DATE($K$4,$J$4+1,1)),E16+7,"") -> 20 | F17: =IF(MONTH(DATE($K$4,$J$4+1,F16+7))=MONTH(DATE($K$4,$J$4+1,1)),F16+7,"") -> 21 | G17: =IF(MONTH(DATE($K$4,$J$4+1,G16+7))=MONTH(DATE($K$4,$J$4+1,1)),G16+7,"") -> 22 | H17: =IF(MONTH(DATE($K$4,$J$4+1,H16+7))=MONTH(DATE($K$4,$J$4+1,1)),H16+7,"") -> 23
B18: =IF(MONTH(DATE($K$4,$J$4+1,B17+7))=MONTH(DATE($K$4,$J$4+1,1)),B17+7,"") -> 24 | C18: =IF(MONTH(DATE($K$4,$J$4+1,C17+7))=MONTH(DATE($K$4,$J$4+1,1)),C17+7,"") -> 25 | D18: =IF(MONTH(DATE($K$4,$J$4+1,D17+7))=MONTH(DATE($K$4,$J$4+1,1)),D17+7,"") -> 26 | E18: =IF(MONTH(DATE($K$4,$J$4+1,E17+7))=MONTH(DATE($K$4,$J$4+1,1)),E17+7,"") -> 27 | F18: =IF(MONTH(DATE($K$4,$J$4+1,F17+7))=MONTH(DATE($K$4,$J$4+1,1)),F17+7,"") -> 28 | G18: =IF(MONTH(DATE($K$4,$J$4+1,G17+7))=MONTH(DATE($K$4,$J$4+1,1)),G17+7,"") -> 29 | H18: =IF(MONTH(DATE($K$4,$J$4+1,H17+7))=MONTH(DATE($K$4,$J$4+1,1)),H17+7,"") -> 30
B19: =IF(ISNUMBER(H18),IF(MONTH(DATE($K$4,$J$4+1,B18+7))=$J$4+1,B18+7,""),"") | C19: =IF(ISNUMBER(B19),IF(MONTH(DATE($K$4+1,$J$4+1,C18+7))=$J$4+1,C18+7,""),"") | D19: =IF(ISNUMBER(C19),IF(MONTH(DATE($K$4+1,$J$4+1,D18+7))=$J$4+1,D18+7,""),"") | E19: =IF(ISNUMBER(D19),IF(MONTH(DATE($K$4+1,$J$4+1,E18+7))=$J$4+1,E18+7,""),"") | F19: =IF(ISNUMBER(E19),IF(MONTH(DATE($K$4+1,$J$4+1,F18+7))=$J$4+1,F18+7,""),"") | G19: =IF(ISNUMBER(F19),IF(MONTH(DATE($K$4+1,$J$4+1,G18+7))=$J$4+1,G18+7,""),"") | H19: =IF(ISNUMBER(G19),IF(MONTH(DATE($K$4+1,$J$4+1,H18+7))=$J$4+1,H18+7,""),"")
